Workbook
Name AreaType: 'New Lookup Cells'!$M$57:$M$58
Name ASCE7_05WZ: 'New Lookup Cells'!$I$58:$I$61
Name ASCE7_10WZ: 'New Lookup Cells'!$I$65:$I$68
Name AutocadMull: 'New Lookup Cells'!$X$4:$Z$108
Name Bnli: 'New Lookup Cells'!$D$75:$F$80
Name BonAnchor: 'End Anchor Options'!$B$217:$B$227
Name BonAnchorc: 'End Anchor Options'!$I$217:$M$227
Name BonAnchorcx: 'End Anchor Options'!$K$217:$K$227
Name BonAnchors: 'End Anchor Options'!$N$217:$R$227
Name BonAnchorsx: 'End Anchor Options'!$P$217:$P$227
Name BonAnchorw: 'End Anchor Options'!$D$217:$H$227
Name BonAnchorwx: 'End Anchor Options'!$F$217:$F$227
Name BonEIx: 'Aluminum Mull Charts'!$D$60:$D$65
Name Bonelli: 'New Lookup Cells'!$L$3:$L$8
Name BonMull: 'Aluminum Mull Charts'!$B$60:$G$65
Name CAnchor: 'End Anchor Options'!$J$18:$K$526
Name Clad: 'New Lookup Cells'!$D$35:$F$48
Name Clad_Wood_Four_Way: 'New Lookup Cells'!$F$3
Name Clad_Wood_Three_Way: 'New Lookup Cells'!$E$3:$E$6
Name Clad_Wood_Two_Way: 'New Lookup Cells'!$D$3:$D$10
Name Classification: 'Project Mull Review'!$U$22:$U$25
Name Combo: RMEAT!$N$11:$N$99
Name CWAEIx: 'Aluminum Mull Charts'!$D$13:$D$24
Name CWAEIy: 'Aluminum Mull Charts'!$F$13:$F$24
Name CWAM: 'Aluminum Mull Charts'!$B$13:$G$24
Name cwm_1: 'End Anchor Options'!$B$18:$B$37
Name cwm_1c: 'End Anchor Options'!$I$18:$M$37
Name cwm_1cx: 'End Anchor Options'!$K$18:$K$37
Name cwm_1s: 'End Anchor Options'!$N$18:$R$37
Name cwm_1sx: 'End Anchor Options'!$P$18:$P$37
Name cwm_1w: 'End Anchor Options'!$D$18:$H$37
Name cwm_1wx: 'End Anchor Options'!$F$18:$F$37
Name cwm_2: 'End Anchor Options'!$B$38:$B$49
Name cwm_2c: 'End Anchor Options'!$I$38:$M$49
Name cwm_2cx: 'End Anchor Options'!$K$38:$K$49
Name cwm_2s: 'End Anchor Options'!$N$38:$R$49
Name cwm_2sx: 'End Anchor Options'!$P$38:$P$49
Name cwm_2w: 'End Anchor Options'!$D$38:$H$49
Name cwm_2wx: 'End Anchor Options'!$F$38:$F$49
Name cwm_3: 'End Anchor Options'!$B$50:$B$61
Name cwm_3c: 'End Anchor Options'!$I$50:$M$61
Name cwm_3cx: 'End Anchor Options'!$K$50:$K$61
Name cwm_3s: 'End Anchor Options'!$N$50:$R$61
Name cwm_3sx: 'End Anchor Options'!$P$50:$P$61
Name cwm_3w: 'End Anchor Options'!$D$50:$H$61
Name cwm_3wx: 'End Anchor Options'!$F$50:$F$61
Name Dual_IG: 'Deadload Assistance'!$T$37:$T$41
Name EIMM: 'New Lookup Cells'!$AC$4:$AF$17
Name ELEI: 'Generic Mull Charts'!$BG$3:$BG$33
Name ELM: 'Generic Mull Charts'!$BE$3:$BK$33
Name exposure: 'Project Mull Review'!$E$15
Name FinalSort: RMEAT!$BA$11:$BI$99
Name FrameStrength: 'New Lookup Cells'!$AC$21:$AD$30
Name GlassThickness: 'Deadload Assistance'!$V$8:$AA$10
Name GlazingTypes: 'Deadload Assistance'!$V$8:$V$10
Name IAEI: 'Aluminum Mull Charts'!$K$13:$K$28
Name IAEIT2: 'Aluminum Mull Charts'!$R$13:$R$25
Name IAEIT4: 'Aluminum Mull Charts'!$R$34:$R$46
Name IAEIx: 'Aluminum Mull Charts'!$K$13:$K$28
Name IAEIy: 'Aluminum Mull Charts'!$M$13:$M$28

Sheet Launch Page
B4: While Pella Corporation has made a good faith effort to verify the reliability of this Excel based tool, it may contain unknown programming errors that may result in incorrect results. The user is encouraged to use good judgment and report any questionable results to Pella for evaluation.
B6: The applicability and subsequent results of analysis performed by this tool will be compromised if the user fails to input the correct information.
B8: Pella makes no warranty or guarantee as to the results obtained by the user of this tool.
B10: The contents of this application are intended solely for the use of Pella Corporation, its subsidiaries, and the distributors affiliated with Pella Corporation and its subsidiaries. Any copying or distribution of this application without the express written consent of Pella Corporation is prohibited.
B13: TRAINING:
B14: DP/Mull Calculator Video Training Presentation: LINK
B15: DP/Mull Calculator Training Presentation Slides: LINK

Sheet Canada DP Link
B2: Canadian Calculator Link
B9: 1. Copy the Design Pressure from the Canadian Calculator into the "Spec DP" table of the "Project Mull Review" tab to calculate the mullion reinforcement for Canadian projects 2. Screenshot the results into the "Windspeed Results" tab
B407: Part 9 Building Types - "Housing and Small Buildings": -3 stories or less and -Total floor area (all floors) of 600 m^2 (6,458 sq ft) or less -Occupancies: Residential, Business/Personal, Mercantile, Med/Low Hazard Industrial
D419: 600 m^2 = 6,458 ft^2

Sheet Revisions
B4: Version | C4: Change | D4: Date | E4: Contact
B5: Beta V1 | C5: New | D5: 42172 | E5: Joe Vos
B6: Beta V1.1 | C6: Update DP calculations; Remove DP Calc Hidden Sheets | D6: 42172 | E6: Joe Vos
B7: Beta V1.2 | C7: Update DP calculations; + GCP formula for > < 60 ft was switched | D7: 42173 | E7: Joe Vos
B8: Beta V1.3 | C8: Minnesota Building Code change to 7-10 | D8: 42178 | E8: Eric Ferguson
B9: Beta V1.4 | C9: Update DP calcs for > 60ft tall buildings. | D9: 42179 | E9: Mary Rukashaza
B10: Beta V1.5 | C10: Added wind zone / impact mulls, dead load to mull table and unit weight calculator, impact glazing note, modified mull options section to two. | D10: 42202 | E10: Joe Vos
B11: Beta V1.5b
B12: Beta V1.5c
B13: Beta V1.5d
B14: Beta V1.5e | C14: Adjust truss plate results if clad / wood aluminum is selected. | D14: 42220 | E14: Joe Vos
B15: Beta V1.6a | C15: Added tabs for Canadian / based on spec calculator tabs; fixed LVL | D15: 42248 | E15: Joe Vos
B17: 2.0 | C17: Release to PERL | E17: Joe Vos
B18: 2.1 | C18: Update Spec based sheet | D18: 42271 | E18: Joe Vos
B19: 2.2 | C19: Adjustments to 20 G NSS values | D19: 42304 | E19: Joe Vos
B20: 2.3 | C20: Added Impervia Special Shapes properties; updated Impervia frame properties; change some text in truss plates options for better understanding; updated default state building codes. | D20: 42311 | E20: Joe Vos
B21: 2.4 | C21: Fixed issue with Impervia mull 1/2 no steel. Changed sheet formatting | D21: 42347 | E21: Joe Vos
B22: 2.5 | C22: Update State Codes; | D22: 42702 | E22: Joe Vos
B24: 2.6 Beta | C24: Revised State Code | D24: 43143 | E24: Mary Rukashaza
C25: Added 250 Series mullion | D25: 43143 | E25: Mary Rukashaza
C26: Added Scenescape page | D26: 43143 | E26: Mary Rukashaza
C27: Added DA sheet | D27: 43143 | E27: Mary Rukashaza
C28: Added column to select mullion for markups | D28: 43143 | E28: Mary Rukashaza
C29: Added Topographic factor links | D29: 43143 | E29: Mary Rukashaza
C30: Added Square Steel tube | D30: 43143 | E30: Mary Rukashaza
C31: Updated strength values for Wood | D31: 43143 | E31: Mary Rukashaza
B34: Final 2.6 | C34: added instructions on Project Mull Review - Spec DP to show that a negative value must be input in the neg DP | D34: 43219 | E34: Mary Rukashaza
C35: Changed the ATC map link and provided instructions on what to use | D35: 43220 | E35: Mary Rukashaza
C36: Added notes in the Scenescape tab for salesmen | D36: 43220 | E36: Mary Rukashaza
C37: Review State Code adoption maps - July 2017 Map | D37: 43220 | E37: Mary Rukashaza
C38: Added tab explaining Ultimate load Vs Allowable Load | D38: 43228 | E38: Mary Rukashaza
C39: Fixed deadload check on steel tube | D39: 43252 | E39: Joe Vos
B41: 2.6.2 | C41: Updated State Codes | D41: 43497 | E41: Joe Kempen
C42: Added visibility of Enclosed/Partially Enclosed Building Type | D42: 43497 | E42: Joe Kempen
C43: Updated format in DA Info Tab | D43: 43497 | E43: Joe Kempen
C44: Update formula for Wind Zone Classification to designate Colorado as Not Applicable (doesn't trigger Red "Impact Required" note) | D44: 43497 | E44: Joe Kempen
C45: Added red text that shows when county or local codes must be investigated | D45: 43497 | E45: Joe Kempen
C46: Updated naming of Vinyl 250 & Vinyl 350 windows & aluminum mulls | D46: 43524 | E46: Joe Kempen
C47: Update 2" Impervia Structural Receptor Mullion EI Values | D47: 43524 | E47: Joe Kempen
C48: Correct tab links | D48: 43524 | E48: Joe Kempen
...

Sheet Project Mull Review
B1: =IF(RIGHT(E10,1)="*",VLOOKUP(E10,StarState,2,FALSE),"")
C2: Project Name: | D2: XXXXXX | N2: Date: | O2: =TODAY() -> 46175 | U2: Building Type | V2: Degree | W2: 0 | Y2: B | Z2: 7 | AA2: 1200 | AC2: Design Wind Speed Website: | AG2: Instructional Tabs
C3: Project Address: | D3: XXXXXX | N3: PAS Project Number: | O3: XXXXXX | U3: Enclosed | V3: Yes | W3: 4 | Y3: C | Z3: 9.5 | AA3: 900 | AC3: ASCE Hazard Tool
C4: Architectural Plans: | D4: Partial/Complete/None | H4: XX/XX/XXXX | L4: PQM Quote Number: | O4: XXXXXX | U4: Partially Enclosed | V4: No | W4: 5 | Y4: D | Z4: 11.5 | AA4: 700 | AC4: Basic ASCE Wind Velocity | AG4: Risk Category/Importance Factor
C5: Specifications: | D5: Partial/Complete/None | H5: XX/XX/XXXX | U5: ASD | V5: =IF(ISBLANK(E14)=TRUE,"",ROUND(E14*SQRT(0.6),0)) | W5: 1 | Y5: B | Z5: 7.5 | AA5: 3280 | AG5: Exposure Category
B6: If this project information is no longer current, it may have an impact on this report. Please contact PAS with any updated project information. | U6: Z | V6: =IF(E15="B",IF(E12>30,E12,30),IF(E12>15,E12,15)) -> 15 | W6: B | Y6: C | Z6: 9.8 | AA6: 2460 | AG6: Topographical Factor
U7: Reduction | V7: 0.6 | W7: C | Y7: D | Z7: 11.5 | AA7: 1935 | AC7: Kd | AD7: 0.85 | AG7: Ultimate vs. Allowable Load
B8: Design Pressure Calculation | U8: Bldg Type | V8: =IF(AD8= "Enclosed", 0.18, 0.55) -> 0.18 | W8: D | AC8: Building Type: | AD8: Enclosed | AG8: Corner / Wall Zone 5
U9: Qz Total | V9: =IF($E$11="ASCE 7-05",$AA$11,IF($E$11="ASCE 7-10",$AA$12,IF($E$11="ASCE 7-16",$AA$13,$AA$14))) -> #N/A | AG9: Scenescape
B10: State : | J10: Components and Cladding Design Pressures (PSF) | X10: Code | Y10: Kz | Z10: Ke | AA10: Qz
B11: Building Code (By State) : | E11: =IFERROR(VLOOKUP($E$10,StateCodes,2,FALSE),"") | H11: =IFERROR(VLOOKUP($E$10,StateCodes,3,FALSE),"") | J11: Square Feet | K11: Ultimate | O11: Allowable (ASD) | X11: ASCE 7-05 | Y11: =2.01*(V6/VLOOKUP(E15,Y2:AA4,3))^(2/VLOOKUP(E15,Y2:AA4,2)) -> #N/A | Z11: 1 | AA11: =0.00256*Y11*E16*AD7*E14^2*U26 -> #N/A | AC11: Specified Design Pressures
B12: Mean Roof Height - h (ft) : | K12: Zone 4 | M12: Zone 5 | O12: Zone 4 | Q12: Zone 5 | U12: Tornado Variables | X12: ASCE 7-10 | Y12: =2.01*(V6/VLOOKUP(E15,Y2:AA4,3))^(2/VLOOKUP(E15,Y2:AA4,2)) -> #N/A | Z12: =EXP(-0.00003*E18) -> 1 | AA12: =0.00256*Y12*E16*AD7*E14^2*Z12 -> #N/A
B13: Risk Category : | J13: 10 | K13: =IF($E$11="ASCE 7-05","",CONCATENATE("+",X17," / ",Y17)) -> + / | M13: =IF($E$11="ASCE 7-05","",CONCATENATE("+",Z17," / ",AA17)) -> + / | O13: =IFERROR(CONCATENATE("+",FIXED(MAX(U$31,X17*IF($E$10="ASCE 7-05",1,V$7)),1)," / ",FIXED(MIN(V$31,Y17*IF($E$10="ASCE 7-05",1,V$7)),1)),"") | Q13: =IFERROR(CONCATENATE("+",FIXED(MAX(U$31,Z17*IF($E$10="ASCE 7-05",1,V$7)),1)," / ",FIXED(MIN(V$31,AA17*IF($E$10="ASCE 7-05",1,V$7)),1)),"") | U13: Qzt | V13: =Tornado!Y3 -> #VALUE! | X13: ASCE 7-16 | Y13: =2.01*(V6/VLOOKUP(E15,Y2:AA4,3))^(2/VLOOKUP(E15,Y2:AA4,2)) -> #N/A | Z13: =EXP(-0.0000362*E18) -> 1 | AA13: =0.00256*Y13*E16*AD7*E14^2*Z13 -> #N/A | AC13: Zone 4 Negative | AG13: Area Loading Method
B14: Design Wind Speed (MPH) : | F14: =IF(E11="ASCE 7-05", "(ASD)","(Ult.)") -> (Ult.) | H14: =IF(E11="ASCE 7-05","",CONCATENATE(V5, " (ASD)")) -> (ASD) | J14: 20 | K14: =IF($E$11="ASCE 7-05","",CONCATENATE("+",X18," / ",Y18)) -> + / | M14: =IF($E$11="ASCE 7-05","",CONCATENATE("+",Z18," / ",AA18)) -> + / | O14: =IFERROR(CONCATENATE("+",FIXED(MAX(U$31,X18*IF($E$10="ASCE 7-05",1,V$7)),1)," / ",FIXED(MIN(V$31,Y18*IF($E$10="ASCE 7-05",1,V$7)),1)),"") | Q14: =IFERROR(CONCATENATE("+",FIXED(MAX(U$31,Z18*IF($E$10="ASCE 7-05",1,V$7)),1)," / ",FIXED(MIN(V$31,AA18*IF($E$10="ASCE 7-05",1,V$7)),1)),"") | U14: Kztor | V14: =Tornado!V19 -> #VALUE! | X14: ASCE 7-22 | Y14: =2.41*(V6/VLOOKUP(E15,Y5:AA7,3))^(2/VLOOKUP(E15,Y5:AA7,2)) -> #N/A | Z14: =EXP(-0.0000362*E18) -> 1 | AA14: =0.00256*Y14*E16*E14^2*Z14*AD7 -> #N/A | AG14: Rectangular
B15: Exposure Category : | J15: 50 | K15: =IF($E$11="ASCE 7-05","",CONCATENATE("+",X19," / ",Y19)) -> + / | M15: =IF($E$11="ASCE 7-05","",CONCATENATE("+",Z19," / ",AA19)) -> + / | O15: =IFERROR(CONCATENATE("+",FIXED(MAX(U$31,X19*IF($E$10="ASCE 7-05",1,V$7)),1)," / ",FIXED(MIN(V$31,Y19*IF($E$10="ASCE 7-05",1,V$7)),1)),"") | Q15: =IFERROR(CONCATENATE("+",FIXED(MAX(U$31,Z19*IF($E$10="ASCE 7-05",1,V$7)),1)," / ",FIXED(MIN(V$31,AA19*IF($E$10="ASCE 7-05",1,V$7)),1)),"") | U15: Kdt/Kvt/Reduct. | V15: =Tornado!V25*Tornado!V26 -> 1 | AC15: Zone 4 Positive
B16: Topographical Factor : | E16: 1 | J16: 100 | K16: =IF($E$11="ASCE 7-05","",CONCATENATE("+",X20," / ",Y20)) -> + / | M16: =IF($E$11="ASCE 7-05","",CONCATENATE("+",Z20," / ",AA20)) -> + / | O16: =IFERROR(CONCATENATE("+",FIXED(MAX(U$31,X20*IF($E$10="ASCE 7-05",1,V$7)),1)," / ",FIXED(MIN(V$31,Y20*IF($E$10="ASCE 7-05",1,V$7)),1)),"") | Q16: =IFERROR(CONCATENATE("+",FIXED(MAX(U$31,Z20*IF($E$10="ASCE 7-05",1,V$7)),1)," / ",FIXED(MIN(V$31,AA20*IF($E$10="ASCE 7-05",1,V$7)),1)),"") | U16: Gcpit+ | V16: =Tornado!V30 -> 0.55 | X16: Standard DP
B17: Wind Zone Classification : | E17: =IFERROR(IF(E11="ASCE 7-05",MATCH(E14,ASCE7_05WZ,1),MATCH(E14,ASCE7_10WZ,1)),"Not Applicable") -> Not Applicable | J17: 200 | K17: =IF($E$11="ASCE 7-05","",CONCATENATE("+",X21," / ",Y21)) -> + / | M17: =IF($E$11="ASCE 7-05","",CONCATENATE("+",Z21," / ",AA21)) -> + / | O17: =IFERROR(CONCATENATE("+",FIXED(MAX(U$31,X21*IF($E$10="ASCE 7-05",1,V$7)),1)," / ",FIXED(MIN(V$31,Y21*IF($E$10="ASCE 7-05",1,V$7)),1)),"") | Q17: =IFERROR(CONCATENATE("+",FIXED(MAX(U$31,Z21*IF($E$10="ASCE 7-05",1,V$7)),1)," / ",FIXED(MIN(V$31,AA21*IF($E$10="ASCE 7-05",1,V$7)),1)),"") | U17: Gcpit- | V17: =Tornado!V31 -> -0.18 | X17: =IFERROR(FIXED(MAX($U$30,$V$9*((IF($E$12<60,-0.077*LN(J13)+1.1737,IF($E$11="ASCE 7-22",-0.077*LN(J13)+1.0798,-0.093*LN(MAX(20,J13))+1.1776)))+$V$8)),1),"") | Y17: =IFERROR(FIXED(MIN($V$30,$V$9*(IF($E$12<60,0.0771*LN(J13) -1.2737,IF($E$11="ASCE 7-22",0.0524*LN(J13)-1.0278,0.0614*LN(MAX(20,J13)) -1.0829))-$V$8)),1),"") | Z17: =IFERROR(FIXED(MAX($U$30,$V$9*((IF($E$12<60,-0.077*LN(J13)+1.1737,IF($E$11="ASCE 7-22",-0.077*LN(J13)+1.0798,-0.093*LN(MAX(20,J13))+1.1776)))+$V$8)),1),"") | AA17: =IFERROR(FIXED(MIN($V$30,$V$9*(IF($E$12<60,0.156*LN(J13) -1.7618,IF($E$11="ASCE 7-22", 0.2026*LN(J13)-2.2638,0.2503*LN(MAX(20,J13)) -2.5526))-$V$8)),1),"") | AC17: Zone 5 Negative
B18: Ground Elevation & Ke Factor : | E18: 0 | G18: ft | H18: =IFERROR(VLOOKUP(E11,X11:AA14,3,FALSE),"") | J18: The proposed windows and doors comply with the design pressures shown unless noted otherwise. Allowable Stress Design (ASD) pressures were obtained by multiplying the Ultimate design pressures (Ult.) by 0.6 per IBC section 1609. ASD pressures align with WDMA/AAMA standards and the NAFS performance rating system. Please confirm these design pressures with the structural engineer or building official. | X18: =IFERROR(FIXED(MAX($U$30,$V$9*((IF($E$12<60,-0.077*LN(J14)+1.1737,IF($E$11="ASCE 7-22",-0.077*LN(J14)+1.0798,-0.093*LN(MAX(20,J14))+1.1776)))+$V$8)),1),"") | Y18: =IFERROR(FIXED(MIN($V$30,$V$9*(IF($E$12<60,0.0771*LN(J14) -1.2737,IF($E$11="ASCE 7-22",0.0524*LN(J14)-1.0278,0.0614*LN(MAX(20,J14)) -1.0829))-$V$8)),1),"") | Z18: =IFERROR(FIXED(MAX($U$30,$V$9*((IF($E$12<60,-0.077*LN(J14)+1.1737,IF($E$11="ASCE 7-22",-0.077*LN(J14)+1.0798,-0.093*LN(MAX(20,J14))+1.1776)))+$V$8)),1),"") | AA18: =IFERROR(FIXED(MIN($V$30,$V$9*(IF($E$12<60,0.156*LN(J14) -1.7618,IF($E$11="ASCE 7-22", 0.2026*LN(J14)-2.2638,0.2503*LN(MAX(20,J14)) -2.5526))-$V$8)),1),"") | AG18: DP Loading Type
X19: =IFERROR(FIXED(MAX($U$30,$V$9*((IF($E$12<60,-0.077*LN(J15)+1.1737,IF($E$11="ASCE 7-22",-0.077*LN(J15)+1.0798,-0.093*LN(MAX(20,J15))+1.1776)))+$V$8)),1),"") | Y19: =IFERROR(FIXED(MIN($V$30,$V$9*(IF($E$12<60,0.0771*LN(J15) -1.2737,IF($E$11="ASCE 7-22",0.0524*LN(J15)-1.0278,0.0614*LN(MAX(20,J15)) -1.0829))-$V$8)),1),"") | Z19: =IFERROR(FIXED(MAX($U$30,$V$9*((IF($E$12<60,-0.077*LN(J15)+1.1737,IF($E$11="ASCE 7-22",-0.077*LN(J15)+1.0798,-0.093*LN(MAX(20,J15))+1.1776)))+$V$8)),1),"") | AA19: =IFERROR(FIXED(MIN($V$30,$V$9*(IF($E$12<60,0.156*LN(J15) -1.7618,IF($E$11="ASCE 7-22", 0.2026*LN(J15)-2.2638,0.2503*LN(MAX(20,J15)) -2.5526))-$V$8)),1),"") | AC19: Zone 5 Positive | AG19: Wind Loading
X20: =IFERROR(FIXED(MAX($U$30,$V$9*((IF($E$12<60,-0.077*LN(J16)+1.1737,IF($E$11="ASCE 7-22",-0.077*LN(J16)+1.0798,-0.093*LN(MAX(20,J16))+1.1776)))+$V$8)),1),"") | Y20: =IFERROR(FIXED(MIN($V$30,$V$9*(IF($E$12<60,0.0771*LN(J16) -1.2737,IF($E$11="ASCE 7-22",0.0524*LN(J16)-1.0278,0.0614*LN(MAX(20,J16)) -1.0829))-$V$8)),1),"") | Z20: =IFERROR(FIXED(MAX($U$30,$V$9*((IF($E$12<60,-0.077*LN(J16)+1.1737,IF($E$11="ASCE 7-22",-0.077*LN(J16)+1.0798,-0.093*LN(MAX(20,J16))+1.1776)))+$V$8)),1),"") | AA20: =IFERROR(FIXED(MIN($V$30,$V$9*(IF($E$12<60,0.156*LN(J16) -1.7618,IF($E$11="ASCE 7-22", 0.2026*LN(J16)-2.2638,0.2503*LN(MAX(20,J16)) -2.5526))-$V$8)),1),"")
U21: Importance Factor | X21: =IFERROR(FIXED(MAX($U$30,$V$9*((IF($E$12<60,-0.077*LN(J17)+1.1737,IF($E$11="ASCE 7-22",-0.077*LN(J17)+1.0798,-0.093*LN(MAX(20,J17))+1.1776)))+$V$8)),1),"") | Y21: =IFERROR(FIXED(MIN($V$30,$V$9*(IF($E$12<60,0.0771*LN(J17) -1.2737,IF($E$11="ASCE 7-22",0.0524*LN(J17)-1.0278,0.0614*LN(MAX(20,J17)) -1.0829))-$V$8)),1),"") | Z21: =IFERROR(FIXED(MAX($U$30,$V$9*((IF($E$12<60,-0.077*LN(J17)+1.1737,IF($E$11="ASCE 7-22",-0.077*LN(J17)+1.0798,-0.093*LN(MAX(20,J17))+1.1776)))+$V$8)),1),"") | AA21: =IFERROR(FIXED(MIN($V$30,$V$9*(IF($E$12<60,0.156*LN(J17) -1.7618,IF($E$11="ASCE 7-22", 0.2026*LN(J17)-2.2638,0.2503*LN(MAX(20,J17)) -2.5526))-$V$8)),1),"") | CA21: Zone 4 | DE21: Zone 5
U22: I | V22: 0.87 | AC22: Single Unit Design Pressures | AD22: Unit Length (in) | AE22: Unit Width (in) | AF22: Unit Area (sqft) | AG22: Zone 4 Max Pressure (psf) | AH22: Zone 5 Max Pressure (psf)
U23: II | V23: 1 | X23: Wind [Single Unit DP] Tor
L24: Building Length (ft) | U24: III | V24: 1.15 | X24: =IF(E$11="ASCE 7-05",$U$26,$V$7)*$V$9*((IF($E$12<60,-0.077*LN(MAX(MIN(500,AF24),10))+1.1737,IF($E$11="ASCE 7-22",-0.077*LN(MAX(MIN(500,AF24),20))+1.0798,-0.093*LN(MAX(MIN(500,AF24),20))+1.1776)))+$V$8) -> #N/A | Y24: =IF(E$11="ASCE 7-05",$U$26,$V$7)*$V$9*(IF($E$12<60,0.0771*LN(MAX(MIN(500,AF24),10)) -1.2737,IF($E$11="ASCE 7-22",0.0524*LN(MAX(MIN(500,AF24),50))-1.0278,0.0614*LN(MAX(MIN(500,AF24),20)) -1.0829))-$V$8) -> #N/A | Z24: =$V$7*IF(E$12<60,$V$13*($V$15*(-0.077*LN(MAX(MIN(500,AF24),10))+1.1737)-$V$17),$V$13*$V$15*((-0.077*LN(MAX(MIN(500,AF24),20))+1.0798)-$V$17)) -> #VALUE! | AA24: =$V$7*IF(E$12<60,$V$13*($V$15*0.0771*LN(MAX(MIN(500,AF24),10)) -1.2737-$V$16),$V$13*$V$15*((0.0524*LN(MAX(MIN(500,AF24),20))-1.0278)-$V$16)) -> #VALUE! | AF24: =AD24*AE24/144 -> 0 | AG24: =IFERROR(CONCATENATE("+",ROUND(MAX($U$31,IF($AG$19="Wind Loading",X24,Z24)),1)," / ",ROUND(MIN($V$31,IF($AG$19="Wind Loading",Y24,AA24)),1)),"") | AH24: =IFERROR(CONCATENATE("+",ROUND(MAX($U$31,IF($AG$19="Wind Loading",X28,Z28)),1)," / ",ROUND(MIN($V$31,IF($AG$19="Wind Loading",Y28,AA28)),1)),"")
L25: Building Width (ft) | U25: IV | V25: 1.15 | X25: =IF(E$11="ASCE 7-05",$U$26,$V$7)*$V$9*((IF($E$12<60,-0.077*LN(MAX(MIN(500,AF26),10))+1.1737,IF($E$11="ASCE 7-22",-0.077*LN(MAX(MIN(500,AF26),20))+1.0798,-0.093*LN(MAX(MIN(500,AF26),20))+1.1776)))+$V$8) -> #N/A | Y25: =IF(E$11="ASCE 7-05",$U$26,$V$7)*$V$9*(IF($E$12<60,0.0771*LN(MAX(MIN(500,AF26),10)) -1.2737,IF($E$11="ASCE 7-22",0.0524*LN(MAX(MIN(500,AF26),50))-1.0278,0.0614*LN(MAX(MIN(500,AF26),20)) -1.0829))-$V$8) -> #N/A | Z25: =$V$7*IF(E$12<60,$V$13*($V$15*(-0.077*LN(MAX(MIN(500,AF26),10))+1.1737)-$V$17),$V$13*$V$15*((-0.077*LN(MAX(MIN(500,AF26),20))+1.0798)-$V$17)) -> #VALUE! | AA25: =$V$7*IF(E$12<60,$V$13*($V$15*0.0771*LN(MAX(MIN(500,AF26),10)) -1.2737-$V$16),$V$13*$V$15*((0.0524*LN(MAX(MIN(500,AF26),20))-1.0278)-$V$16)) -> #VALUE!
L26: Building Height (ft) | O26: =IF(ISBLANK(E12)=TRUE,"",E12) | U26: =VLOOKUP(E13,U22:V25,2) -> #N/A | V26: =IF(E13="III", "Yes", IF(E13="IV", "Yes", "No")) -> No | X26: =IF(E$11="ASCE 7-05",$U$26,$V$7)*$V$9*((IF($E$12<60,-0.077*LN(MAX(MIN(500,AF28),10))+1.1737,IF($E$11="ASCE 7-22",-0.077*LN(MAX(MIN(500,AF28),20))+1.0798,-0.093*LN(MAX(MIN(500,AF28),20))+1.1776)))+$V$8) -> #N/A | Y26: =IF(E$11="ASCE 7-05",$U$26,$V$7)*$V$9*(IF($E$12<60,0.0771*LN(MAX(MIN(500,AF28),10)) -1.2737,IF($E$11="ASCE 7-22",0.0524*LN(MAX(MIN(500,AF28),50))-1.0278,0.0614*LN(MAX(MIN(500,AF28),20)) -1.0829))-$V$8) -> #N/A | Z26: =$V$7*IF(E$12<60,$V$13*($V$15*(-0.077*LN(MAX(MIN(500,AF28),10))+1.1737)-$V$17),$V$13*$V$15*((-0.077*LN(MAX(MIN(500,AF28),20))+1.0798)-$V$17)) -> #VALUE! | AA26: =$V$7*IF(E$12<60,$V$13*($V$15*0.0771*LN(MAX(MIN(500,AF28),10)) -1.2737-$V$16),$V$13*$V$15*((0.0524*LN(MAX(MIN(500,AF28),20))-1.0278)-$V$16)) -> #VALUE! | AF26: =AD26*AE26/144 -> 0 | AG26: =IFERROR(CONCATENATE("+",ROUND(MAX($U$31,IF($AG$19="Wind Loading",X25,Z25)),1)," / ",ROUND(MIN($V$31,IF($AG$19="Wind Loading",Y25,AA25)),1)),"") | AH26: =IFERROR(CONCATENATE("+",ROUND(MAX($U$31,IF($AG$19="Wind Loading",X29,Z29)),1)," / ",ROUND(MIN($V$31,IF($AG$19="Wind Loading",Y29,AA29)),1)),"")
L27: Wall Zone 5 - a (ft) | O27: =IF(OR(O24=0,O25=0,O26=""),"---",MAX(MIN(0.1*O24,0.1*O25,0.4*O26),3,MIN(0.04*O24,0.04*O25))) -> --- | X27: =IF(E$11="ASCE 7-05",$U$26,$V$7)*$V$9*((IF($E$12<60,-0.077*LN(MAX(MIN(500,AF30),10))+1.1737,IF($E$11="ASCE 7-22",-0.077*LN(MAX(MIN(500,AF30),20))+1.0798,-0.093*LN(MAX(MIN(500,AF30),20))+1.1776)))+$V$8) -> #N/A | Y27: =IF(E$11="ASCE 7-05",$U$26,$V$7)*$V$9*(IF($E$12<60,0.0771*LN(MAX(MIN(500,AF30),10)) -1.2737,IF($E$11="ASCE 7-22",0.0524*LN(MAX(MIN(500,AF30),50))-1.0278,0.0614*LN(MAX(MIN(500,AF30),20)) -1.0829))-$V$8) -> #N/A | Z27: =$V$7*IF(E$12<60,$V$13*($V$15*(-0.077*LN(MAX(MIN(500,AF30),10))+1.1737)-$V$17),$V$13*$V$15*((-0.077*LN(MAX(MIN(500,AF30),20))+1.0798)-$V$17)) -> #VALUE! | AA27: =$V$7*IF(E$12<60,$V$13*($V$15*0.0771*LN(MAX(MIN(500,AF30),10)) -1.2737-$V$16),$V$13*$V$15*((0.0524*LN(MAX(MIN(500,AF30),20))-1.0278)-$V$16)) -> #VALUE!
B28: =IF(E17="Not Applicable","",IF(E17=1,"If the building location is within 1 mile of the coast, impact glazing may be required. Consult a local building official.","Based on the building code and windspeed entered IMPACT glazing may be required. Verify with local building official.")) | X28: =IF(E$11="ASCE 7-05",$U$26,$V$7)*$V$9*((IF($E$12<60,-0.077*LN(MAX(MIN(500,AF24),10))+1.1737,IF($E$11="ASCE 7-22",-0.077*LN(MAX(MIN(500,AF24),20))+1.0798,-0.093*LN(MAX(MIN(500,AF24),20))+1.1776)))+$V$8) -> #N/A | Y28: =IF(E$11="ASCE 7-05",$U$26,$V$7)*$V$9*(IF($E$12<60,0.156*LN(MAX(MIN(500,AF24),10)) -1.7618,IF($E$11="ASCE 7-22", 0.2026*LN(MAX(MIN(500,AF24),20))-2.2638,0.2503*LN(MAX(MIN(500,AF24),20)) -2.5526))-$V$8) -> #N/A | Z28: =$V$7*IF(E$12<60,$V$13*($V$15*(-0.077*LN(MAX(MIN(500,AF24),10))+1.1737)-$V$17),$V$13*$V$15*((-0.077*LN(MAX(MIN(500,AF24),20))+1.0798)-$V$17)) -> #VALUE! | AA28: =$V$7*IF(E$12<60,$V$13*($V$15*(0.156*LN(MAX(MIN(500,AF24),10)) -1.7618)-$V$16),$V$13*$V$15*((0.2026*LN(MAX(MIN(500,AF24),20))-2.2638)-$V$16)) -> #VALUE! | AF28: =AD28*AE28/144 -> 0 | AG28: =IFERROR(CONCATENATE("+",ROUND(MAX($U$31,IF($AG$19="Wind Loading",X26,Z26)),1)," / ",ROUND(MIN($V$31,IF($AG$19="Wind Loading",Y26,AA26)),1)),"") | AH28: =IFERROR(CONCATENATE("+",ROUND(MAX($U$31,IF($AG$19="Wind Loading",X30,Z30)),1)," / ",ROUND(MIN($V$31,IF($AG$19="Wind Loading",Y30,AA30)),1)),"")
B29: =IF(AND(E11="ASCE 7-22",OR(E13="III", E13="IV")),"Check project location to determine if TORNADO SAFETY LOADS are required. See Tornado tab below.","") | U29: Minimum DP | X29: =IF(E$11="ASCE 7-05",$U$26,$V$7)*$V$9*((IF($E$12<60,-0.077*LN(MAX(MIN(500,AF26),10))+1.1737,IF($E$11="ASCE 7-22",-0.077*LN(MAX(MIN(500,AF26),20))+1.0798,-0.093*LN(MAX(MIN(500,AF26),20))+1.1776)))+$V$8) -> #N/A | Y29: =IF(E$11="ASCE 7-05",$U$26,$V$7)*$V$9*(IF($E$12<60,0.156*LN(MAX(MIN(500,AF26),10)) -1.7618,IF($E$11="ASCE 7-22", 0.2026*LN(MAX(MIN(500,AF26),20))-2.2638,0.2503*LN(MAX(MIN(500,AF26),20)) -2.5526))-$V$8) -> #N/A | Z29: =$V$7*IF(E$12<60,$V$13*($V$15*(-0.077*LN(MAX(MIN(500,AF26),10))+1.1737)-$V$17),$V$13*$V$15*((-0.077*LN(MAX(MIN(500,AF26),20))+1.0798)-$V$17)) -> #VALUE! | AA29: =$V$7*IF(E$12<60,$V$13*($V$15*(0.156*LN(MAX(MIN(500,AF26),10)) -1.7618)-$V$16),$V$13*$V$15*((0.2026*LN(MAX(MIN(500,AF26),20))-2.2638)-$V$16)) -> #VALUE!
B30: =IF(E18>3499, "High Altitute Glazing may be required at this elevation. Please review.","") | U30: 16 | V30: -16 | X30: =IF(E$11="ASCE 7-05",$U$26,$V$7)*$V$9*((IF($E$12<60,-0.077*LN(MAX(MIN(500,AF28),10))+1.1737,IF($E$11="ASCE 7-22",-0.077*LN(MAX(MIN(500,AF28),20))+1.0798,-0.093*LN(MAX(MIN(500,AF28),20))+1.1776)))+$V$8) -> #N/A | Y30: =IF(E$11="ASCE 7-05",$U$26,$V$7)*$V$9*(IF($E$12<60,0.156*LN(MAX(MIN(500,AF28),10)) -1.7618,IF($E$11="ASCE 7-22", 0.2026*LN(MAX(MIN(500,AF28),20))-2.2638,0.2503*LN(MAX(MIN(500,AF28),20)) -2.5526))-$V$8) -> #N/A | Z30: =$V$7*IF(E$12<60,$V$13*($V$15*(-0.077*LN(MAX(MIN(500,AF28),10))+1.1737)-$V$17),$V$13*$V$15*((-0.077*LN(MAX(MIN(500,AF28),20))+1.0798)-$V$17)) -> #VALUE! | AA30: =$V$7*IF(E$12<60,$V$13*($V$15*(0.156*LN(MAX(MIN(500,AF28),10)) -1.7618)-$V$16),$V$13*$V$15*((0.2026*LN(MAX(MIN(500,AF28),20))-2.2638)-$V$16)) -> #VALUE! | AF30: =AD30*AE30/144 -> 0 | AG30: =IFERROR(CONCATENATE("+",ROUND(MAX($U$31,IF($AG$19="Wind Loading",X27,Z27)),1)," / ",ROUND(MIN($V$31,IF($AG$19="Wind Loading",Y27,AA27)),1)),"") | AH30: =IFERROR(CONCATENATE("+",ROUND(MAX($U$31,IF($AG$19="Wind Loading",X31,Z31)),1)," / ",ROUND(MIN($V$31,IF($AG$19="Wind Loading",Y31,AA31)),1)),"") | AU30: Zone 4 Anchor Search and Validation | BG30: Zone 5 Anchor Search and Validation
L31: =IF(AG19="Tornado Loading","Tornado Pressures Used Below","") | P31: Deadload Assistance | U31: 10 | V31: -10 | X31: =IF(E$11="ASCE 7-05",$U$26,$V$7)*$V$9*((IF($E$12<60,-0.077*LN(MAX(MIN(500,AF30),10))+1.1737,IF($E$11="ASCE 7-22",-0.077*LN(MAX(MIN(500,AF30),20))+1.0798,-0.093*LN(MAX(MIN(500,AF30),20))+1.1776)))+$V$8) -> #N/A | Y31: =IF(E$11="ASCE 7-05",$U$26,$V$7)*$V$9*(IF($E$12<60,0.156*LN(MAX(MIN(500,AF30),10)) -1.7618,IF($E$11="ASCE 7-22", 0.2026*LN(MAX(MIN(500,AF30),20))-2.2638,0.2503*LN(MAX(MIN(500,AF30),20)) -2.5526))-$V$8) -> #N/A | Z31: =$V$7*IF(E$12<60,$V$13*($V$15*(-0.077*LN(MAX(MIN(500,AF30),10))+1.1737)-$V$17),$V$13*$V$15*((-0.077*LN(MAX(MIN(500,AF30),20))+1.0798)-$V$17)) -> #VALUE! | AA31: =$V$7*IF(E$12<60,$V$13*($V$15*(0.156*LN(MAX(MIN(500,AF30),10)) -1.7618)-$V$16),$V$13*$V$15*((0.2026*LN(MAX(MIN(500,AF30),20))-2.2638)-$V$16)) -> #VALUE!
B34: Unit ID / Mullion ID | E34: Mullion Length L (in) | H34: Adjacent support distance 1 D1 (in) | I34: Adjacent support distance 2 D2 (in) | J34: Product/ Joint Type/ Substrate | L34: Wall Zone | M34: Negative DP (PSF) | N34: Positive DP (PSF) | O34: Effective Wind Area (sqft) | P34: Dead Load Weight (lbs) | Q34: Dead Load Span (in) | R34: Max Y Moment (lbs-in) | S34: Required Deadload Strength (EIy) | U34: Windload Strength Frame Contribution (EIx) | V34: Tributary Length (in) | W34: Total Loading (lbs) | X34: Max Allowed Deflection (in) | Y34: Required EIx (lbs-in^2) | Z34: Required Max Moment x (lbs-in) | AA34: Max Moment Frame Contribution | AB34: MMx Mull Minimum (lbs-in) | AC34: Required Mullion Strength (EIx) | AD34: Mullion Reinforcement choices are static. New dimensions or product/joint types can change the type of mullions available. Verify that all chosen options are valid. | AI34: End Anchors | AK34: End Anchor Capacity (lbs) | AL34: End load (lbs) | AM34: Mullion Reinforcement Weight (lbs) | AP34: Final | AQ34: Lookup | AR34: Clad Bonelli | AS34: Imp Vista | AT34: End Load Reference | AU34: List | AV34: Window Type Anchor Choices | AW34: List | AX34: Nested Steel Stud Anchor Choices | AY34: List | AZ34: Wood Stud Anchor Choices | BA34: List | BB34: Steel Tube Anchor Choices | BC34: List | BD34: Engineered Lumber Anchor Choices | BE34: List | BF34: Pella Wood Spread Anchor Choices | BG34: List | BH34: Window Type Anchor Choices | BI34: List | BJ34: Nested Steel Stud Anchor Choices | BK34: List | BL34: Wood Stud Anchor Choices | BM34: List | BN34: Steel Tube Anchor Choices | BO34: List | BP34: Engineered Lumber Anchor Choices | BQ34: List | BR34: Pella Wood Spread Anchor Choices | BS34: Anchor Error | BT34: No Anchor Available | BV34: Mullion Error | BW34: Lighter Option Mullion | BX34: EIx list | BY34: MMxy and EIy list | BZ34: Frame Type Error | CA34: All | CF34: Nested Steel Stud | CK34: Wood Stud | CP34: Steel Tube | CU34: Engineered Lumber | CZ34: Wood Spread / Steel Plate | DE34: All | DJ34: Nested Steel Stud | DO34: Wood Stud | DT34: Steel Tube | DY34: Engineered Lumber | ED34: Wood Spread / Steel Plate
B35: Unit ID | L35: =$W$3 -> 4 | M35: =IFERROR(IF($AE$13="",IF($AG$19="Wind Loading",MIN($V$31,IF(E$11="ASCE 7-05",$U$26,$V$7)*$V$9*(IF($E$12<60,0.0771*LN(MAX(MIN(500,O35),10)) -1.2737,IF($E$11="ASCE 7-22",0.0524*LN(MAX(MIN(500,O35),50))-1.0278,0.0614*LN(MAX(MIN(500,O35),20)) -1.0829))-$V$8)),$V$7*IF(E$12<60,$V$13*($V$15*0.0771*LN(MAX(MIN(500,O35),10))-1.2737-$V$16),$V$13*$V$15*((0.0524*LN(MAX(MIN(500,O35),20))-1.0278)-$V$16))),-ABS($AE$13)),"") | N35: =IFERROR(IF($AE$15="",IF($AG$19="Wind Loading",MAX($U$31,IF(E$11="ASCE 7-05",$U$26,$V$7)*$V$9*((IF($E$12<60,-0.077*LN(MAX(MIN(500,O35),10))+1.1737,IF($E$11="ASCE 7-22",-0.077*LN(MAX(MIN(500,O35),20))+1.0798,-0.093*LN(MAX(MIN(500,O35),20))+1.1776)))+$V$8)),$V$7*IF(E$12<60,$V$13*($V$15*(-0.077*LN(MAX(MIN(500,O35),10))+1.1737)-$V$17),$V$13*$V$15*((-0.077*LN(MAX(MIN(500,O35),20))+1.0798)-$V$17))),ABS($AE$15)),"") | O35: =IF(BX42=0,"",IF(AG$14="Trapezoidal",BY42,BX42)) | R35: =P35*Q35/8 -> 0 | S35: =IF(5*(P35*Q35^3/(384*0.125))=0,0,5*(P35*Q35^3/(384*0.125))) -> 0 | U35: =VLOOKUP(J39,INDIRECT(VLOOKUP(J35,FrameStrength,2,FALSE)),3,FALSE) -> #N/A | V35: =(H35+I35)/2 -> 0 | W35: =MAX(-M35,N35)*O35 -> #VALUE! | X35: =IF(E35>162,(E35/240+0.25),IF(AND(E35<162,E35/175<0.75),E35/175,0.75)) -> 0 | Y35: =IFERROR(IF(AG$14="Trapezoidal",BY43,BX43)+IF($E$17="4",(400*E35^3)/(48*X35),0),0) -> 0 | Z35: =+($V35*MAX(-$M35,$N35)*$E35^2)/(144*8)+IF($E$17=4,(400*$E35)/4,0) -> #VALUE! | AA35: =VLOOKUP(J39,INDIRECT(VLOOKUP(J35,FrameStrength,2,FALSE)),2,FALSE) -> #N/A | AB35: =IFERROR(Z35-AA35,"") | AC35: =IFERROR(Y35-U35,"") | AD35: =IFERROR(IF(LEFT(J39,2)="As",VLOOKUP(J39,EIMM,4,FALSE),VLOOKUP(J35,EIMM,4,FALSE)),IF(AND(ISNUMBER(SEARCH("Impervia",J35)),ISNUMBER(SEARCH("door",J39))),'New Lookup Cells'!AF$10,IF(ISNUMBER(SEARCH("Impervia",J35)),'New Lookup Cells'!AF$7,IF(AND(ISNUMBER(SEARCH("250",J35)),ISNUMBER(SEARCH("door",J39))),'New Lookup Cells'!AF$14,IF(ISNUMBER(SEARCH("250",J35)),'New Lookup Cells'!AF$13,""))))) | AK35: =IFERROR(VLOOKUP(AI35,OFFSET(INDIRECT(AQ35),0,1),2,FALSE),"") | AL35: =IFERROR(ROUND(SQRT(P35^2+(W35/2+IF($E$17=4,200,0))^2),0),"") | AM35: NA | AN35: =IF(BW35>1,"Lighter Reinforcement Options Available","") | AP35: =_xlfn.CONCAT(AR35,AS40) | AQ35: =IFERROR(LEFT(AP35,LEN(AP35)-1),"") | AR35: =IFERROR(VLOOKUP(AF35,MullList,2,FALSE),"") | AS35: =IF(COUNTIF(imp_1,AF35)=1,"imp_1",IF(COUNTIF(imp_2,AF35)=1,"imp_2",IF(COUNTIF(imp_3,AF35)=1,"imp_3",IF(COUNTIF(impdoor,AF35)=1,"impdoor","")))) | AT35: =AL35 | AU35: =MATCH(AL35,INDIRECT(AP35),-1) -> #REF! | AV35: =IFERROR(VLOOKUP(AU35,INDIRECT(AQ35),2,FALSE),"----") -> ---- | AW35: =MATCH(AL35,INDIRECT(AP36),-1) -> #REF! | AX35: =IFERROR(VLOOKUP(AW35,INDIRECT(AQ36),2,FALSE),"----") -> ---- | AY35: =MATCH(AL35,INDIRECT(AP37),-1) -> #REF! | AZ35: =IFERROR(VLOOKUP(AY35,INDIRECT(AQ37),2,FALSE),"----") -> ---- | BA35: =MATCH(AL35,INDIRECT(AP38),-1) -> #REF! | BB35: =IFERROR(VLOOKUP(BA35,INDIRECT(AQ38),2,FALSE),"----") -> ---- | BC35: =MATCH(AL35,INDIRECT(AP39),-1) -> #REF! | BD35: =IFERROR(VLOOKUP(BC35,INDIRECT(AQ39),2,FALSE),"----") -> ---- | BE35: =MATCH(AL35,INDIRECT(AP40),-1) -> #REF! | BF35: =IFERROR(VLOOKUP(BE35,INDIRECT(AQ40),2,FALSE),"----") -> ---- | BG35: =MATCH(AL41,INDIRECT(AP41),-1) -> #REF! | BH35: =IFERROR(VLOOKUP(BG35,INDIRECT(AQ41),2,FALSE),"----") -> ---- | BI35: =MATCH(AL41,INDIRECT(AP42),-1) -> #REF! | BJ35: =IFERROR(VLOOKUP(BI35,INDIRECT(AQ42),2,FALSE),"----") -> ---- | BK35: =MATCH(AL41,INDIRECT(AP43),-1) -> #REF! | BL35: =IFERROR(VLOOKUP(BK35,INDIRECT(AQ43),2,FALSE),"----") -> ---- | BM35: =MATCH(AL41,INDIRECT(AP44),-1) -> #REF! | BN35: =IFERROR(VLOOKUP(BM35,INDIRECT(AQ44),2,FALSE),"----") -> ---- | BO35: =MATCH(AL41,INDIRECT(AP45),-1) -> #REF! | BP35: =IFERROR(VLOOKUP(BO35,INDIRECT(AQ45),2,FALSE),"----") -> ---- | BQ35: =MATCH(AL41,INDIRECT(AP46),-1) -> #REF! | BR35: =IFERROR(VLOOKUP(BQ35,INDIRECT(AQ46),2,FALSE),"----") -> ---- | BS35: =IF(AI35="",1,IF(COUNTIF(AV35:AV46,AI35)=0,2,1)) -> 1 | BT35: =IF(AP35="1",1,IF(AF35="",1,IF(AV35=".",2,1))) -> 1 | BV35: =IF(COUNTIF(CE35:CE46,AF35)=0,IF(AF35<>"",0,1),1) -> 1 | BW35: =IFERROR(MATCH(AF35,CE35:CE46,0),1) -> 1 | BX35: =IFERROR(IF(LEFT(J39,2)="As",VLOOKUP(J39,EIMM,2,FALSE),IF(AND(ISNUMBER(SEARCH("Impervia",J35)),ISNUMBER(SEARCH("door",J39))),VLOOKUP("Impervia Door",EIMM,2,FALSE),IF(AND(ISNUMBER(SEARCH("250",J35)),ISNUMBER(SEARCH("door",J39))),VLOOKUP("250 Series Door",EIMM,2,FALSE),VLOOKUP(J35,EIMM,2,FALSE)))),"") | BY35: =IFERROR(VLOOKUP(BX35,OFFSET(EIMM,0,1),2,FALSE),"") | BZ35: =IF((COUNTIF(INDIRECT(SUBSTITUTE(J35," ","_")),J39))=0,IF(J39="",1,0),1) -> #REF! | CA35: =MATCH(AC35,INDIRECT(BX35),-1) -> #REF! | CB35: {=IF(AND(INDEX(INDIRECT(BY35),CA35,4)>=$AB35,INDEX(INDIRECT(BY35),CA35,5)>=$S35,INDEX(INDIRECT(BY35),CA35,6)>=$R35),1,0)} -> #REF! | CC35: =MATCH(1,OFFSET(CB35:CB46,$W$2,0,COUNT(CB35:CB46)-$W$2),0) -> #REF! | CD35: =$W$2+CC35 -> #REF! | CE35: {=IFERROR(VLOOKUP(INDEX(CA35:CA46,CD35),INDIRECT(BY35),2,FALSE),"----")} -> ---- | CF35: =MATCH($AC35,SSEI,-1) -> #N/A | CG35: =IF(AND(INDEX(SSM,CF35,4)>=$AB35,INDEX(SSM,CF35,5)>=$S35,INDEX(SSM,CF35,6)>=$R35),1,0) -> #N/A | CH35: =MATCH(1,OFFSET(CG35:CG46,$W$2,0,COUNT(CG35:CG46)-$W$2),0) -> #REF! | CI35: =$W$2+CH35 -> #REF! | CJ35: =IFERROR(IF(AD36="Nested Steel Stud (wood infill)",VLOOKUP(INDEX(CF35:CF46,CI35),SSW,2,FALSE),VLOOKUP(INDEX(CF35:CF46,CI35),SSM,2,FALSE)),"----") -> ---- | CK35: =MATCH($AC35,WSEI,-1) -> #N/A | CL35: =IF(AND(INDEX(WSM,CK35,4)>=$AB35,INDEX(WSM,CK35,5)>=$S35,INDEX(WSM,CK35,6)>=$R35),1,0) -> #N/A | CM35: =MATCH(1,OFFSET(CL35:CL46,$W$2,0,COUNT(CL35:CL46)-$W$2),0) -> #REF! | CN35: =$W$2+CM35 -> #REF! | CO35: =IFERROR(VLOOKUP(INDEX(CK35:CK46,CN35),WSM,2,FALSE),"----") -> ---- | CP35: =MATCH($AC35,STEI,-1) -> #N/A | CQ35: =IF(AND(INDEX(STM,CP35,4)>=$AB35,INDEX(STM,CP35,5)>=$S35,INDEX(STM,CP35,6)>=$R35),1,0) -> #N/A | CR35: =MATCH(1,OFFSET(CQ35:CQ46,$W$2,0,COUNT(CQ35:CQ46)-$W$2),0) -> #REF! | CS35: =$W$2+CR35 -> #REF! | CT35: =IFERROR(VLOOKUP(INDEX(CP35:CP46,CS35),STM,2,FALSE),"----") -> ---- | CU35: =MATCH($AC35,ELEI,-1) -> #N/A | CV35: =IF(AND(INDEX(ELM,CU35,4)>=$AB35,INDEX(ELM,CU35,5)>=$S35,INDEX(ELM,CU35,6)>=$R35),1,0) -> #N/A | CW35: =MATCH(1,OFFSET(CV35:CV46,$W$2,0,COUNT(CV35:CV46)-$W$2),0) -> #REF! | CX35: =$W$2+CW35 -> #REF! | CY35: =IFERROR(VLOOKUP(INDEX(CU35:CU46,CX35),ELM,2,FALSE),"----") -> ---- | CZ35: =IF(LEFT($J35,7)="Clad Wo",MATCH($AC35,SPEIW,-1),MATCH($AC35,SPEI,-1)) -> #N/A | DA35: =IF(LEFT($J35,7)="Clad Wo",IF(AND(INDEX(SPPWS,CZ35,4)>=$AB35,INDEX(SPPWS,CZ35,5)>=$S35,INDEX(SPPWS,CZ35,6)>=$R35),1,0),IF(AND(INDEX(SPM,CZ35,4)>=$AB35,INDEX(SPM,CZ35,5)>=$S35,INDEX(SPM,CZ35,6)>=$R35),1,0)) -> #N/A | DB35: =MATCH(1,OFFSET(DA35:DA46,$W$2,0,COUNT(DA35:DA46)-$W$2),0) -> #REF! | DC35: =$W$2+DB35 -> #REF! | DD35: =IF(LEFT($J35,7)="Clad Wo",IFERROR(VLOOKUP(INDEX(CZ35:CZ46,DC35),SPPWS,2,FALSE),"----"),IFERROR(VLOOKUP(INDEX(CZ35:CZ46,DC35),SPM,2,FALSE),"----")) -> ---- | DE35: =MATCH(AC41,INDIRECT(BX35),-1) -> #REF! | DF35: {=IF(AND(INDEX(INDIRECT(BY35),DE35,4)>=$AB41,INDEX(INDIRECT(BY35),DE35,5)>=$S35,INDEX(INDIRECT(BY35),DE35,6)>=$R35),1,0)} -> #REF! | DG35: =MATCH(1,OFFSET(DF35:DF46,$W$2,0,COUNT(DF35:DF46)-$W$2),0) -> #REF! | DH35: =$W$2+DG35 -> #REF! | DI35: {=IFERROR(VLOOKUP(INDEX(DE35:DE46,DH35),INDIRECT(BY35),2,FALSE),"----")} -> ---- | DJ35: =MATCH($AC41,SSEI,-1) -> #N/A | DK35: =IF(AND(INDEX(SSM,DJ35,4)>=$AB41,INDEX(SSM,DJ35,5)>=$S35,INDEX(SSM,DJ35,6)>=$R35),1,0) -> #N/A | DL35: =MATCH(1,OFFSET(DK35:DK46,$W$2,0,COUNT(DK35:DK46)-$W$2),0) -> #REF! | DM35: =$W$2+DL35 -> #REF! | DN35: =IFERROR(IF(AD42="Nested Steel Stud (wood infill)",VLOOKUP(INDEX(DJ35:DJ46,DM35),SSW,2,FALSE),VLOOKUP(INDEX(DJ35:DJ46,DM35),SSM,2,FALSE)),"----") -> ---- | DO35: =MATCH($AC41,WSEI,-1) -> #N/A | DP35: =IF(AND(INDEX(WSM,DO35,4)>=$AB41,INDEX(WSM,DO35,5)>=$S35,INDEX(WSM,DO35,6)>=$R35),1,0) -> #N/A | DQ35: =MATCH(1,OFFSET(DP35:DP46,$W$2,0,COUNT(DP35:DP46)-$W$2),0) -> #REF! | DR35: =$W$2+DQ35 -> #REF! | DS35: =IFERROR(VLOOKUP(INDEX(DO35:DO46,DR35),WSM,2,FALSE),"----") -> ---- | DT35: =MATCH($AC41,STEI,-1) -> #N/A | DU35: =IF(AND(INDEX(STM,DT35,4)>=$AB41,INDEX(STM,DT35,5)>=$S35,INDEX(STM,DT35,6)>=$R35),1,0) -> #N/A | DV35: =MATCH(1,OFFSET(DU35:DU46,$W$2,0,COUNT(DU35:DU46)-$W$2),0) -> #REF! | DW35: =$W$2+DV35 -> #REF! | DX35: =IFERROR(VLOOKUP(INDEX(DT35:DT46,DW35),STM,2,FALSE),"----") -> ---- | DY35: =MATCH($AC41,ELEI,-1) -> #N/A | DZ35: =IF(AND(INDEX(ELM,DY35,4)>=$AB41,INDEX(ELM,DY35,5)>=$S35,INDEX(ELM,DY35,6)>=$R35),1,0) -> #N/A | EA35: =MATCH(1,OFFSET(DZ35:DZ46,$W$2,0,COUNT(DZ35:DZ46)-$W$2),0) -> #REF! | EB35: =EA35+$W$2 -> #REF! | EC35: =IFERROR(VLOOKUP(INDEX(DY35:DY46,EB35),ELM,2,FALSE),"----") -> ---- | ED35: =IF(LEFT($J35,7)="Clad Wo",MATCH($AC41,SPEIW,-1),MATCH($AC41,SPEI,-1)) -> #N/A | EE35: =IF(LEFT($J35,7)="Clad Wo",IF(AND(INDEX(SPPWS,ED35,4)>=$AB41,INDEX(SPPWS,ED35,5)>=$S35,INDEX(SPPWS,ED35,6)>=$R35),1,0),IF(AND(INDEX(SPM,ED35,4)>=$AB41,INDEX(SPM,ED35,5)>=$S35,INDEX(SPM,ED35,6)>=$R35),1,0)) -> #N/A | EF35: =MATCH(1,OFFSET(EE35:EE46,$W$2,0,COUNT(EE35:EE46)-$W$2),0) -> #REF! | EG35: =$W$2+EF35 -> #REF! | EH35: =IF(LEFT($J35,7)="Clad Wo",IFERROR(VLOOKUP(INDEX(ED35:ED46,EG35),SPPWS,2,FALSE),"----"),IFERROR(VLOOKUP(INDEX(ED35:ED46,EG35),SPM,2,FALSE),"----")) -> ----
AD36: Nested Steel Stud | AK36: =IFERROR(VLOOKUP(AI36,OFFSET(INDIRECT(AQ36),0,1),2,FALSE),"") | AM36: =IFERROR(Q35/12*ROUND(VLOOKUP(AF36,OFFSET(SSM,0,1),6,FALSE),2),"") | AN36: =IF(BW36>1,"Lighter Reinforcement Options Available","") | AP36: =_xlfn.CONCAT(AR36,AS40) | AQ36: =IFERROR(LEFT(AP36,LEN(AP36)-1),"") | AR36: =IFERROR(VLOOKUP(AF36,MullList,2,FALSE),"") | AS36: =IF(COUNTIF(Vista_1,AF35)=1,"Vista_1",IF(COUNTIF(Vista_2,AF35)=1,"Vista_2","")) | AT36: =AL35 | AU36: =AU35-1 -> #REF! | AV36: =IFERROR(VLOOKUP(AU36,INDIRECT(AQ35),2,FALSE),"----") -> ---- | AW36: =AW35-1 -> #REF! | AX36: =IFERROR(VLOOKUP(AW36,INDIRECT(AQ36),2,FALSE),"----") -> ---- | AY36: =AY35-1 -> #REF! | AZ36: =IFERROR(VLOOKUP(AY36,INDIRECT(AQ37),2,FALSE),"----") -> ---- | BA36: =BA35-1 -> #REF! | BB36: =IFERROR(VLOOKUP(BA36,INDIRECT(AQ38),2,FALSE),"----") -> ---- | BC36: =BC35-1 -> #REF! | BD36: =IFERROR(VLOOKUP(BC36,INDIRECT(AQ39),2,FALSE),"----") -> ---- | BE36: =BE35-1 -> #REF! | BF36: =IFERROR(VLOOKUP(BE36,INDIRECT(AQ40),2,FALSE),"----") -> ---- | BG36: =BG35-1 -> #REF! | BH36: =IFERROR(VLOOKUP(BG36,INDIRECT(AQ41),2,FALSE),"----") -> ---- | BI36: =BI35-1 -> #REF! | BJ36: =IFERROR(VLOOKUP(BI36,INDIRECT(AQ42),2,FALSE),"----") -> ---- | BK36: =BK35-1 -> #REF! | BL36: =IFERROR(VLOOKUP(BK36,INDIRECT(AQ43),2,FALSE),"----") -> ---- | BM36: =BM35-1 -> #REF! | BN36: =IFERROR(VLOOKUP(BM36,INDIRECT(AQ44),2,FALSE),"----") -> ---- | BO36: =BO35-1 -> #REF! | BP36: =IFERROR(VLOOKUP(BO36,INDIRECT(AQ45),2,FALSE),"----") -> ---- | BQ36: =BQ35-1 -> #REF! | BR36: =IFERROR(VLOOKUP(BQ36,INDIRECT(AQ46),2,FALSE),"----") -> ---- | BS36: =IF(AI36="",1,IF(COUNTIF(AX35:AX46,AI36)=0,2,1)) -> 1 | BT36: =IF(AF36="",1,IF(AX35=".",2,1)) -> 1 | BV36: =IF(COUNTIF(CJ35:CJ46,AF36)=0,IF(AF36<>"",0,1),1) -> 1 | BW36: =IFERROR(MATCH(AF36,CJ35:CJ46,0),1) -> 1 | CA36: =CA35-1 -> #REF! | CB36: {=IF(AND(INDEX(INDIRECT(BY35),CA36,4)>=$AB35,INDEX(INDIRECT(BY35),CA36,5)>=$S35,INDEX(INDIRECT(BY35),CA36,6)>=$R35),1,0)} -> #REF! | CC36: =MATCH(1,OFFSET(CB35:CB46,CD35,0,COUNT(CB35:CB46)-CD35),0) -> #REF! | CD36: =CD35+CC36 -> #REF! | CE36: {=IFERROR(VLOOKUP(INDEX(CA35:CA46,CD36),INDIRECT(BY35),2,FALSE),"----")} -> ---- | CF36: =CF35-1 -> #N/A | CG36: =IF(AND(INDEX(SSM,CF36,4)>=$AB35,INDEX(SSM,CF36,5)>=$S35,INDEX(SSM,CF36,6)>=$R35),1,0) -> #N/A | CH36: =MATCH(1,OFFSET(CG35:CG46,CI35,0,COUNT(CG35:CG46)-CI35),0) -> #REF! | CI36: =CI35+CH36 -> #REF! | CJ36: =IFERROR(IF(AD36="Nested Steel Stud (wood infill)",VLOOKUP(INDEX(CF35:CF46,CI36),SSW,2,FALSE),VLOOKUP(INDEX(CF35:CF46,CI36),SSM,2,FALSE)),"----") -> ---- | CK36: =CK35-1 -> #N/A | CL36: =IF(AND(INDEX(WSM,CK36,4)>=$AB35,INDEX(WSM,CK36,5)>=$S35,INDEX(WSM,CK36,6)>=$R35),1,0) -> #N/A | CM36: =MATCH(1,OFFSET(CL35:CL46,CN35,0,COUNT(CL35:CL46)-CN35),0) -> #REF! | CN36: =CM36+CN35 -> #REF! | CO36: =IFERROR(VLOOKUP(INDEX(CK35:CK46,CN36),WSM,2,FALSE),"----") -> ---- | CP36: =CP35-1 -> #N/A | CQ36: =IF(AND(INDEX(STM,CP36,4)>=$AB35,INDEX(STM,CP36,5)>=$S35,INDEX(STM,CP36,6)>=$R35),1,0) -> #N/A | CR36: =MATCH(1,OFFSET(CQ35:CQ46,CS35,0,COUNT(CQ35:CQ46)-CS35),0) -> #REF! | CS36: =CR36+CS35 -> #REF! | CT36: =IFERROR(VLOOKUP(INDEX(CP35:CP46,CS36),STM,2,FALSE),"----") -> ---- | CU36: =CU35-1 -> #N/A | CV36: =IF(AND(INDEX(ELM,CU36,4)>=$AB35,INDEX(ELM,CU36,5)>=$S35,INDEX(ELM,CU36,6)>=$R35),1,0) -> #N/A | CW36: =MATCH(1,OFFSET(CV35:CV46,CX35,0,COUNT(CV35:CV46)-CX35),0) -> #REF! | CX36: =CW36+CX35 -> #REF! | CY36: =IFERROR(VLOOKUP(INDEX(CU35:CU46,CX36),ELM,2,FALSE),"----") -> ---- | CZ36: =CZ35-1 -> #N/A | DA36: =IF(LEFT($J35,7)="Clad Wo",IF(AND(INDEX(SPPWS,CZ36,4)>=$AB35,INDEX(SPPWS,CZ36,5)>=$S35,INDEX(SPPWS,CZ36,6)>=$R35),1,0),IF(AND(INDEX(SPM,CZ36,4)>=$AB35,INDEX(SPM,CZ36,5)>=$S35,INDEX(SPM,CZ36,6)>=$R35),1,0)) -> #N/A | DB36: =MATCH(1,OFFSET(DA35:DA46,DC35,0,COUNT(DA35:DA46)-DC35),0) -> #REF! | DC36: =DC35+DB36 -> #REF! | DD36: =IF(LEFT($J35,7)="Clad Wo",IFERROR(VLOOKUP(INDEX(CZ35:CZ46,DC36),SPPWS,2,FALSE),"----"),IFERROR(VLOOKUP(INDEX(CZ35:CZ46,DC36),SPM,2,FALSE),"----")) -> ---- | DE36: =DE35-1 -> #REF! | DF36: {=IF(AND(INDEX(INDIRECT(BY35),DE36,4)>=$AB41,INDEX(INDIRECT(BY35),DE36,5)>=$S35,INDEX(INDIRECT(BY35),DE36,6)>=$R35),1,0)} -> #REF! | DG36: =MATCH(1,OFFSET(DF35:DF46,DH35,0,COUNT(DF35:DF46)-DH35),0) -> #REF! | DH36: =DH35+DG36 -> #REF! | DI36: {=IFERROR(VLOOKUP(INDEX(DE35:DE46,DH36),INDIRECT(BY35),2,FALSE),"----")} -> ---- | DJ36: =DJ35-1 -> #N/A | DK36: =IF(AND(INDEX(SSM,DJ36,4)>=$AB41,INDEX(SSM,DJ36,5)>=$S35,INDEX(SSM,DJ36,6)>=$R35),1,0) -> #N/A | DL36: =MATCH(1,OFFSET(DK35:DK46,DM35,0,COUNT(DK35:DK46)-DM35),0) -> #REF! | DM36: =DL36+DM35 -> #REF! | DN36: =IFERROR(IF(AD42="Nested Steel Stud (wood infill)",VLOOKUP(INDEX(DJ35:DJ46,DM36),SSW,2,FALSE),VLOOKUP(INDEX(DJ35:DJ46,DM36),SSM,2,FALSE)),"----") -> ---- | DO36: =DO35-1 -> #N/A | DP36: =IF(AND(INDEX(WSM,DO36,4)>=$AB41,INDEX(WSM,DO36,5)>=$S35,INDEX(WSM,DO36,6)>=$R35),1,0) -> #N/A | DQ36: =MATCH(1,OFFSET(DP35:DP46,DR35,0,COUNT(DP35:DP46)-DR35),0) -> #REF! | DR36: =DQ36+DR35 -> #REF! | DS36: =IFERROR(VLOOKUP(INDEX(DO35:DO46,DR36),WSM,2,FALSE),"----") -> ---- | DT36: =DT35-1 -> #N/A | DU36: =IF(AND(INDEX(STM,DT36,4)>=$AB41,INDEX(STM,DT36,5)>=$S35,INDEX(STM,DT36,6)>=$R35),1,0) -> #N/A | DV36: =MATCH(1,OFFSET(DU35:DU46,DW35,0,COUNT(DU35:DU46)-DW35),0) -> #REF! | DW36: =DV36+DW35 -> #REF! | DX36: =IFERROR(VLOOKUP(INDEX(DT35:DT46,DW36),STM,2,FALSE),"----") -> ---- | DY36: =DY35-1 -> #N/A | DZ36: =IF(AND(INDEX(ELM,DY36,4)>=$AB41,INDEX(ELM,DY36,5)>=$S35,INDEX(ELM,DY36,6)>=$R35),1,0) -> #N/A | EA36: =MATCH(1,OFFSET(DZ35:DZ46,EB35,0,COUNT(DZ35:DZ46)-EB35),0) -> #REF! | EB36: =EA36+EB35 -> #REF! | EC36: =IFERROR(VLOOKUP(INDEX(DY35:DY46,EB36),ELM,2,FALSE),"----") -> ---- | ED36: =ED35-1 -> #N/A | EE36: =IF(LEFT($J35,7)="Clad Wo",IF(AND(INDEX(SPPWS,ED36,4)>=$AB41,INDEX(SPPWS,ED36,5)>=$S35,INDEX(SPPWS,ED36,6)>=$R35),1,0),IF(AND(INDEX(SPM,ED36,4)>=$AB41,INDEX(SPM,ED36,5)>=$S35,INDEX(SPM,ED36,6)>=$R35),1,0)) -> #N/A | EF36: =MATCH(1,OFFSET(EE35:EE46,EG35,0,COUNT(EE35:EE46)-EG35),0) -> #REF! | EG36: =EG35+EF36 -> #REF! | EH36: =IF(LEFT($J35,7)="Clad Wo",IFERROR(VLOOKUP(INDEX(ED35:ED46,EG36),SPPWS,2,FALSE),"----"),IFERROR(VLOOKUP(INDEX(ED35:ED46,EG36),SPM,2,FALSE),"----")) -> ----
AD37: Wood Stud Framing | AK37: =IFERROR(VLOOKUP(AI37,OFFSET(INDIRECT(AQ37),0,1),2,FALSE),"") | AM37: =IFERROR(Q35/12*ROUND(VLOOKUP(AF37,OFFSET(WSM,0,1),6,FALSE),2),"") | AN37: =IF(BW37>1,"Lighter Reinforcement Options Available","") | AP37: =_xlfn.CONCAT(AR37,AS40) | AQ37: =IFERROR(LEFT(AP37,LEN(AP37)-1),"") | AR37: =IFERROR(VLOOKUP(AF37,MullList,2,FALSE),"") | AT37: =AL35 | AU37: =AU36-1 -> #REF! | AV37: =IFERROR(VLOOKUP(AU37,INDIRECT(AQ35),2,FALSE),"----") -> ---- | AW37: =AW36-1 -> #REF! | AX37: =IFERROR(VLOOKUP(AW37,INDIRECT(AQ36),2,FALSE),"----") -> ---- | AY37: =AY36-1 -> #REF! | AZ37: =IFERROR(VLOOKUP(AY37,INDIRECT(AQ37),2,FALSE),"----") -> ---- | BA37: =BA36-1 -> #REF! | BB37: =IFERROR(VLOOKUP(BA37,INDIRECT(AQ38),2,FALSE),"----") -> ---- | BC37: =BC36-1 -> #REF! | BD37: =IFERROR(VLOOKUP(BC37,INDIRECT(AQ39),2,FALSE),"----") -> ---- | BE37: =BE36-1 -> #REF! | BF37: =IFERROR(VLOOKUP(BE37,INDIRECT(AQ40),2,FALSE),"----") -> ---- | BG37: =BG36-1 -> #REF! | BH37: =IFERROR(VLOOKUP(BG37,INDIRECT(AQ41),2,FALSE),"----") -> ---- | BI37: =BI36-1 -> #REF! | BJ37: =IFERROR(VLOOKUP(BI37,INDIRECT(AQ42),2,FALSE),"----") -> ---- | BK37: =BK36-1 -> #REF! | BL37: =IFERROR(VLOOKUP(BK37,INDIRECT(AQ43),2,FALSE),"----") -> ---- | BM37: =BM36-1 -> #REF! | BN37: =IFERROR(VLOOKUP(BM37,INDIRECT(AQ44),2,FALSE),"----") -> ---- | BO37: =BO36-1 -> #REF! | BP37: =IFERROR(VLOOKUP(BO37,INDIRECT(AQ45),2,FALSE),"----") -> ---- | BQ37: =BQ36-1 -> #REF! | BR37: =IFERROR(VLOOKUP(BQ37,INDIRECT(AQ46),2,FALSE),"----") -> ---- | BS37: =IF(AI37="",1,IF(COUNTIF(AZ35:AZ46,AI37)=0,2,1)) -> 1 | BT37: =IF(AF37="",1,IF(AZ35=".",2,1)) -> 1 | BV37: =IF(COUNTIF(CO35:CO46,AF37)=0,IF(AF37<>"",0,1),1) -> 1 | BW37: =IFERROR(MATCH(AF37,CO35:CO46,0),1) -> 1 | CA37: =CA36-1 -> #REF! | CB37: {=IF(AND(INDEX(INDIRECT(BY35),CA37,4)>=$AB35,INDEX(INDIRECT(BY35),CA37,5)>=$S35,INDEX(INDIRECT(BY35),CA37,6)>=$R35),1,0)} -> #REF! | CC37: =MATCH(1,OFFSET(CB35:CB46,CD36,0,COUNT(CB35:CB46)-CD36),0) -> #REF! | CD37: =CD36+CC37 -> #REF! | CE37: {=IFERROR(VLOOKUP(INDEX(CA35:CA46,CD37),INDIRECT(BY35),2,FALSE),"----")} -> ---- | CF37: =CF36-1 -> #N/A | CG37: =IF(AND(INDEX(SSM,CF37,4)>=$AB35,INDEX(SSM,CF37,5)>=$S35,INDEX(SSM,CF37,6)>=$R35),1,0) -> #N/A | CH37: =MATCH(1,OFFSET(CG35:CG46,CI36,0,COUNT(CG35:CG46)-CI36),0) -> #REF! | CI37: =CI36+CH37 -> #REF! | CJ37: =IFERROR(IF(AD36="Nested Steel Stud (wood infill)",VLOOKUP(INDEX(CF35:CF46,CI37),SSW,2,FALSE),VLOOKUP(INDEX(CF35:CF46,CI37),SSM,2,FALSE)),"----") -> ---- | CK37: =CK36-1 -> #N/A | CL37: =IF(AND(INDEX(WSM,CK37,4)>=$AB35,INDEX(WSM,CK37,5)>=$S35,INDEX(WSM,CK37,6)>=$R35),1,0) -> #N/A | CM37: =MATCH(1,OFFSET(CL35:CL46,CN36,0,COUNT(CL35:CL46)-CN36),0) -> #REF! | CN37: =CM37+CN36 -> #REF! | CO37: =IFERROR(VLOOKUP(INDEX(CK35:CK46,CN37),WSM,2,FALSE),"----") -> ---- | CP37: =CP36-1 -> #N/A | CQ37: =IF(AND(INDEX(STM,CP37,4)>=$AB35,INDEX(STM,CP37,5)>=$S35,INDEX(STM,CP37,6)>=$R35),1,0) -> #N/A | CR37: =MATCH(1,OFFSET(CQ35:CQ46,CS36,0,COUNT(CQ35:CQ46)-CS36),0) -> #REF! | CS37: =CR37+CS36 -> #REF! | CT37: =IFERROR(VLOOKUP(INDEX(CP35:CP46,CS37),STM,2,FALSE),"----") -> ---- | CU37: =CU36-1 -> #N/A | CV37: =IF(AND(INDEX(ELM,CU37,4)>=$AB35,INDEX(ELM,CU37,5)>=$S35,INDEX(ELM,CU37,6)>=$R35),1,0) -> #N/A | CW37: =MATCH(1,OFFSET(CV35:CV46,CX36,0,COUNT(CV35:CV46)-CX36),0) -> #REF! | CX37: =CW37+CX36 -> #REF! | CY37: =IFERROR(VLOOKUP(INDEX(CU35:CU46,CX37),ELM,2,FALSE),"----") -> ---- | CZ37: =CZ36-1 -> #N/A | DA37: =IF(LEFT($J35,7)="Clad Wo",IF(AND(INDEX(SPPWS,CZ37,4)>=$AB35,INDEX(SPPWS,CZ37,5)>=$S35,INDEX(SPPWS,CZ37,6)>=$R35),1,0),IF(AND(INDEX(SPM,CZ37,4)>=$AB35,INDEX(SPM,CZ37,5)>=$S35,INDEX(SPM,CZ37,6)>=$R35),1,0)) -> #N/A | DB37: =MATCH(1,OFFSET(DA35:DA46,DC36,0,COUNT(DA35:DA46)-DC36),0) -> #REF! | DC37: =DC36+DB37 -> #REF! | DD37: =IF(LEFT($J35,7)="Clad Wo",IFERROR(VLOOKUP(INDEX(CZ35:CZ46,DC37),SPPWS,2,FALSE),"----"),IFERROR(VLOOKUP(INDEX(CZ35:CZ46,DC37),SPM,2,FALSE),"----")) -> ---- | DE37: =DE36-1 -> #REF! | DF37: {=IF(AND(INDEX(INDIRECT(BY35),DE37,4)>=$AB41,INDEX(INDIRECT(BY35),DE37,5)>=$S35,INDEX(INDIRECT(BY35),DE37,6)>=$R35),1,0)} -> #REF! | DG37: =MATCH(1,OFFSET(DF35:DF46,DH36,0,COUNT(DF35:DF46)-DH36),0) -> #REF! | DH37: =DH36+DG37 -> #REF! | DI37: {=IFERROR(VLOOKUP(INDEX(DE35:DE46,DH37),INDIRECT(BY35),2,FALSE),"----")} -> ---- | DJ37: =DJ36-1 -> #N/A | DK37: =IF(AND(INDEX(SSM,DJ37,4)>=$AB41,INDEX(SSM,DJ37,5)>=$S35,INDEX(SSM,DJ37,6)>=$R35),1,0) -> #N/A | DL37: =MATCH(1,OFFSET(DK35:DK46,DM36,0,COUNT(DK35:DK46)-DM36),0) -> #REF! | DM37: =DL37+DM36 -> #REF! | DN37: =IFERROR(IF(AD42="Nested Steel Stud (wood infill)",VLOOKUP(INDEX(DJ35:DJ46,DM37),SSW,2,FALSE),VLOOKUP(INDEX(DJ35:DJ46,DM37),SSM,2,FALSE)),"----") -> ---- | DO37: =DO36-1 -> #N/A | DP37: =IF(AND(INDEX(WSM,DO37,4)>=$AB41,INDEX(WSM,DO37,5)>=$S35,INDEX(WSM,DO37,6)>=$R35),1,0) -> #N/A | DQ37: =MATCH(1,OFFSET(DP35:DP46,DR36,0,COUNT(DP35:DP46)-DR36),0) -> #REF! | DR37: =DQ37+DR36 -> #REF! | DS37: =IFERROR(VLOOKUP(INDEX(DO35:DO46,DR37),WSM,2,FALSE),"----") -> ---- | DT37: =DT36-1 -> #N/A | DU37: =IF(AND(INDEX(STM,DT37,4)>=$AB41,INDEX(STM,DT37,5)>=$S35,INDEX(STM,DT37,6)>=$R35),1,0) -> #N/A | DV37: =MATCH(1,OFFSET(DU35:DU46,DW36,0,COUNT(DU35:DU46)-DW36),0) -> #REF! | DW37: =DV37+DW36 -> #REF! | DX37: =IFERROR(VLOOKUP(INDEX(DT35:DT46,DW37),STM,2,FALSE),"----") -> ---- | DY37: =DY36-1 -> #N/A | DZ37: =IF(AND(INDEX(ELM,DY37,4)>=$AB41,INDEX(ELM,DY37,5)>=$S35,INDEX(ELM,DY37,6)>=$R35),1,0) -> #N/A | EA37: =MATCH(1,OFFSET(DZ35:DZ46,EB36,0,COUNT(DZ35:DZ46)-EB36),0) -> #REF! | EB37: =EA37+EB36 -> #REF! | EC37: =IFERROR(VLOOKUP(INDEX(DY35:DY46,EB37),ELM,2,FALSE),"----") -> ---- | ED37: =ED36-1 -> #N/A | EE37: =IF(LEFT($J35,7)="Clad Wo",IF(AND(INDEX(SPPWS,ED37,4)>=$AB41,INDEX(SPPWS,ED37,5)>=$S35,INDEX(SPPWS,ED37,6)>=$R35),1,0),IF(AND(INDEX(SPM,ED37,4)>=$AB41,INDEX(SPM,ED37,5)>=$S35,INDEX(SPM,ED37,6)>=$R35),1,0)) -> #N/A | EF37: =MATCH(1,OFFSET(EE35:EE46,EG36,0,COUNT(EE35:EE46)-EG36),0) -> #REF! | EG37: =EG36+EF37 -> #REF! | EH37: =IF(LEFT($J35,7)="Clad Wo",IFERROR(VLOOKUP(INDEX(ED35:ED46,EG37),SPPWS,2,FALSE),"----"),IFERROR(VLOOKUP(INDEX(ED35:ED46,EG37),SPM,2,FALSE),"----")) -> ----
AD38: Steel Tube | AK38: =IFERROR(VLOOKUP(AI38,OFFSET(INDIRECT(AQ38),0,1),2,FALSE),"") | AM38: =IFERROR(Q35/12*ROUND(VLOOKUP(AF38,OFFSET(STM,0,1),6,FALSE),2),"") | AN38: =IF(BW38>1,"Lighter Reinforcement Options Available","") | AP38: =_xlfn.CONCAT(AR38,AS40) | AQ38: =IFERROR(LEFT(AP38,LEN(AP38)-1),"") | AR38: =IFERROR(VLOOKUP(AF38,MullList,2,FALSE),"") | AT38: =AL35 | AU38: =AU37-1 -> #REF! | AV38: =IFERROR(VLOOKUP(AU38,INDIRECT(AQ35),2,FALSE),"----") -> ---- | AW38: =AW37-1 -> #REF! | AX38: =IFERROR(VLOOKUP(AW38,INDIRECT(AQ36),2,FALSE),"----") -> ---- | AY38: =AY37-1 -> #REF! | AZ38: =IFERROR(VLOOKUP(AY38,INDIRECT(AQ37),2,FALSE),"----") -> ---- | BA38: =BA37-1 -> #REF! | BB38: =IFERROR(VLOOKUP(BA38,INDIRECT(AQ38),2,FALSE),"----") -> ---- | BC38: =BC37-1 -> #REF! | BD38: =IFERROR(VLOOKUP(BC38,INDIRECT(AQ39),2,FALSE),"----") -> ---- | BE38: =BE37-1 -> #REF! | BF38: =IFERROR(VLOOKUP(BE38,INDIRECT(AQ40),2,FALSE),"----") -> ---- | BG38: =BG37-1 -> #REF! | BH38: =IFERROR(VLOOKUP(BG38,INDIRECT(AQ41),2,FALSE),"----") -> ---- | BI38: =BI37-1 -> #REF! | BJ38: =IFERROR(VLOOKUP(BI38,INDIRECT(AQ42),2,FALSE),"----") -> ---- | BK38: =BK37-1 -> #REF! | BL38: =IFERROR(VLOOKUP(BK38,INDIRECT(AQ43),2,FALSE),"----") -> ---- | BM38: =BM37-1 -> #REF! | BN38: =IFERROR(VLOOKUP(BM38,INDIRECT(AQ44),2,FALSE),"----") -> ---- | BO38: =BO37-1 -> #REF! | BP38: =IFERROR(VLOOKUP(BO38,INDIRECT(AQ45),2,FALSE),"----") -> ---- | BQ38: =BQ37-1 -> #REF! | BR38: =IFERROR(VLOOKUP(BQ38,INDIRECT(AQ46),2,FALSE),"----") -> ---- | BS38: =IF(AI38="",1,IF(COUNTIF(BB35:BB46,AI38)=0,2,1)) -> 1 | BT38: =IF(AF38="",1,IF(BB35=".",2,1)) -> 1 | BV38: =IF(COUNTIF(CT35:CT46,AF38)=0,IF(AF38<>"",0,1),1) -> 1 | BW38: =IFERROR(MATCH(AF38,CT35:CT46,0),1) -> 1 | CA38: =CA37-1 -> #REF! | CB38: {=IF(AND(INDEX(INDIRECT(BY35),CA38,4)>=$AB35,INDEX(INDIRECT(BY35),CA38,5)>=$S35,INDEX(INDIRECT(BY35),CA38,6)>=$R35),1,0)} -> #REF! | CC38: =MATCH(1,OFFSET(CB35:CB46,CD37,0,COUNT(CB35:CB46)-CD37),0) -> #REF! | CD38: =CD37+CC38 -> #REF! | CE38: {=IFERROR(VLOOKUP(INDEX(CA35:CA46,CD38),INDIRECT(BY35),2,FALSE),"----")} -> ---- | CF38: =CF37-1 -> #N/A | CG38: =IF(AND(INDEX(SSM,CF38,4)>=$AB35,INDEX(SSM,CF38,5)>=$S35,INDEX(SSM,CF38,6)>=$R35),1,0) -> #N/A | CH38: =MATCH(1,OFFSET(CG35:CG46,CI37,0,COUNT(CG35:CG46)-CI37),0) -> #REF! | CI38: =CI37+CH38 -> #REF! | CJ38: =IFERROR(IF(AD36="Nested Steel Stud (wood infill)",VLOOKUP(INDEX(CF35:CF46,CI38),SSW,2,FALSE),VLOOKUP(INDEX(CF35:CF46,CI38),SSM,2,FALSE)),"----") -> ---- | CK38: =CK37-1 -> #N/A | CL38: =IF(AND(INDEX(WSM,CK38,4)>=$AB35,INDEX(WSM,CK38,5)>=$S35,INDEX(WSM,CK38,6)>=$R35),1,0) -> #N/A | CM38: =MATCH(1,OFFSET(CL35:CL46,CN37,0,COUNT(CL35:CL46)-CN37),0) -> #REF! | CN38: =CM38+CN37 -> #REF! | CO38: =IFERROR(VLOOKUP(INDEX(CK35:CK46,CN38),WSM,2,FALSE),"----") -> ---- | CP38: =CP37-1 -> #N/A | CQ38: =IF(AND(INDEX(STM,CP38,4)>=$AB35,INDEX(STM,CP38,5)>=$S35,INDEX(STM,CP38,6)>=$R35),1,0) -> #N/A | CR38: =MATCH(1,OFFSET(CQ35:CQ46,CS37,0,COUNT(CQ35:CQ46)-CS37),0) -> #REF! | CS38: =CR38+CS37 -> #REF! | CT38: =IFERROR(VLOOKUP(INDEX(CP35:CP46,CS38),STM,2,FALSE),"----") -> ---- | CU38: =CU37-1 -> #N/A | CV38: =IF(AND(INDEX(ELM,CU38,4)>=$AB35,INDEX(ELM,CU38,5)>=$S35,INDEX(ELM,CU38,6)>=$R35),1,0) -> #N/A | CW38: =MATCH(1,OFFSET(CV35:CV46,CX37,0,COUNT(CV35:CV46)-CX37),0) -> #REF! | CX38: =CW38+CX37 -> #REF! | CY38: =IFERROR(VLOOKUP(INDEX(CU35:CU46,CX38),ELM,2,FALSE),"----") -> ---- | CZ38: =CZ37-1 -> #N/A | DA38: =IF(LEFT($J35,7)="Clad Wo",IF(AND(INDEX(SPPWS,CZ38,4)>=$AB35,INDEX(SPPWS,CZ38,5)>=$S35,INDEX(SPPWS,CZ38,6)>=$R35),1,0),IF(AND(INDEX(SPM,CZ38,4)>=$AB35,INDEX(SPM,CZ38,5)>=$S35,INDEX(SPM,CZ38,6)>=$R35),1,0)) -> #N/A | DB38: =MATCH(1,OFFSET(DA35:DA46,DC37,0,COUNT(DA35:DA46)-DC37),0) -> #REF! | DC38: =DC37+DB38 -> #REF! | DD38: =IF(LEFT($J35,7)="Clad Wo",IFERROR(VLOOKUP(INDEX(CZ35:CZ46,DC38),SPPWS,2,FALSE),"----"),IFERROR(VLOOKUP(INDEX(CZ35:CZ46,DC38),SPM,2,FALSE),"----")) -> ---- | DE38: =DE37-1 -> #REF! | DF38: {=IF(AND(INDEX(INDIRECT(BY35),DE38,4)>=$AB41,INDEX(INDIRECT(BY35),DE38,5)>=$S35,INDEX(INDIRECT(BY35),DE38,6)>=$R35),1,0)} -> #REF! | DG38: =MATCH(1,OFFSET(DF35:DF46,DH37,0,COUNT(DF35:DF46)-DH37),0) -> #REF! | DH38: =DH37+DG38 -> #REF! | DI38: {=IFERROR(VLOOKUP(INDEX(DE35:DE46,DH38),INDIRECT(BY35),2,FALSE),"----")} -> ---- | DJ38: =DJ37-1 -> #N/A | DK38: =IF(AND(INDEX(SSM,DJ38,4)>=$AB41,INDEX(SSM,DJ38,5)>=$S35,INDEX(SSM,DJ38,6)>=$R35),1,0) -> #N/A | DL38: =MATCH(1,OFFSET(DK35:DK46,DM37,0,COUNT(DK35:DK46)-DM37),0) -> #REF! | DM38: =DL38+DM37 -> #REF! | DN38: =IFERROR(IF(AD42="Nested Steel Stud (wood infill)",VLOOKUP(INDEX(DJ35:DJ46,DM38),SSW,2,FALSE),VLOOKUP(INDEX(DJ35:DJ46,DM38),SSM,2,FALSE)),"----") -> ---- | DO38: =DO37-1 -> #N/A | DP38: =IF(AND(INDEX(WSM,DO38,4)>=$AB41,INDEX(WSM,DO38,5)>=$S35,INDEX(WSM,DO38,6)>=$R35),1,0) -> #N/A | DQ38: =MATCH(1,OFFSET(DP35:DP46,DR37,0,COUNT(DP35:DP46)-DR37),0) -> #REF! | DR38: =DQ38+DR37 -> #REF! | DS38: =IFERROR(VLOOKUP(INDEX(DO35:DO46,DR38),WSM,2,FALSE),"----") -> ---- | DT38: =DT37-1 -> #N/A | DU38: =IF(AND(INDEX(STM,DT38,4)>=$AB41,INDEX(STM,DT38,5)>=$S35,INDEX(STM,DT38,6)>=$R35),1,0) -> #N/A | DV38: =MATCH(1,OFFSET(DU35:DU46,DW37,0,COUNT(DU35:DU46)-DW37),0) -> #REF! | DW38: =DV38+DW37 -> #REF! | DX38: =IFERROR(VLOOKUP(INDEX(DT35:DT46,DW38),STM,2,FALSE),"----") -> ---- | DY38: =DY37-1 -> #N/A | DZ38: =IF(AND(INDEX(ELM,DY38,4)>=$AB41,INDEX(ELM,DY38,5)>=$S35,INDEX(ELM,DY38,6)>=$R35),1,0) -> #N/A | EA38: =MATCH(1,OFFSET(DZ35:DZ46,EB37,0,COUNT(DZ35:DZ46)-EB37),0) -> #REF! | EB38: =EA38+EB37 -> #REF! | EC38: =IFERROR(VLOOKUP(INDEX(DY35:DY46,EB38),ELM,2,FALSE),"----") -> ---- | ED38: =ED37-1 -> #N/A | EE38: =IF(LEFT($J35,7)="Clad Wo",IF(AND(INDEX(SPPWS,ED38,4)>=$AB41,INDEX(SPPWS,ED38,5)>=$S35,INDEX(SPPWS,ED38,6)>=$R35),1,0),IF(AND(INDEX(SPM,ED38,4)>=$AB41,INDEX(SPM,ED38,5)>=$S35,INDEX(SPM,ED38,6)>=$R35),1,0)) -> #N/A | EF38: =MATCH(1,OFFSET(EE35:EE46,EG37,0,COUNT(EE35:EE46)-EG37),0) -> #REF! | EG38: =EG37+EF38 -> #REF! | EH38: =IF(LEFT($J35,7)="Clad Wo",IFERROR(VLOOKUP(INDEX(ED35:ED46,EG38),SPPWS,2,FALSE),"----"),IFERROR(VLOOKUP(INDEX(ED35:ED46,EG38),SPM,2,FALSE),"----")) -> ----
