Workbook
Name AreaType: 'New Lookup Cells'!$M$57:$M$58
Name ASCE7_05WZ: 'New Lookup Cells'!$I$58:$I$61
Name ASCE7_10WZ: 'New Lookup Cells'!$I$65:$I$68
Name AutocadMull: 'New Lookup Cells'!$X$4:$Z$108
Name Bnli: 'New Lookup Cells'!$D$75:$F$80
Name BonAnchor: 'End Anchor Options'!$B$217:$B$227
Name BonAnchorc: 'End Anchor Options'!$I$217:$M$227
Name BonAnchorcx: 'End Anchor Options'!$K$217:$K$227
Name BonAnchors: 'End Anchor Options'!$N$217:$R$227
Name BonAnchorsx: 'End Anchor Options'!$P$217:$P$227
Name BonAnchorw: 'End Anchor Options'!$D$217:$H$227
Name BonAnchorwx: 'End Anchor Options'!$F$217:$F$227
Name BonEIx: 'Aluminum Mull Charts'!$D$60:$D$65
Name Bonelli: 'New Lookup Cells'!$L$3:$L$8
Name BonMull: 'Aluminum Mull Charts'!$B$60:$G$65
Name CAnchor: 'End Anchor Options'!$J$18:$K$526
Name Clad: 'New Lookup Cells'!$D$35:$F$48
Name Clad_Wood_Four_Way: 'New Lookup Cells'!$F$3
Name Clad_Wood_Three_Way: 'New Lookup Cells'!$E$3:$E$6
Name Clad_Wood_Two_Way: 'New Lookup Cells'!$D$3:$D$10
Name Classification: 'Project Mull Review'!$U$22:$U$25
Name Combo: RMEAT!$N$11:$N$99
Name CWAEIx: 'Aluminum Mull Charts'!$D$13:$D$24
Name CWAEIy: 'Aluminum Mull Charts'!$F$13:$F$24
Name CWAM: 'Aluminum Mull Charts'!$B$13:$G$24
Name cwm_1: 'End Anchor Options'!$B$18:$B$37
Name cwm_1c: 'End Anchor Options'!$I$18:$M$37
Name cwm_1cx: 'End Anchor Options'!$K$18:$K$37
Name cwm_1s: 'End Anchor Options'!$N$18:$R$37
Name cwm_1sx: 'End Anchor Options'!$P$18:$P$37
Name cwm_1w: 'End Anchor Options'!$D$18:$H$37
Name cwm_1wx: 'End Anchor Options'!$F$18:$F$37
Name cwm_2: 'End Anchor Options'!$B$38:$B$49
Name cwm_2c: 'End Anchor Options'!$I$38:$M$49
Name cwm_2cx: 'End Anchor Options'!$K$38:$K$49
Name cwm_2s: 'End Anchor Options'!$N$38:$R$49
Name cwm_2sx: 'End Anchor Options'!$P$38:$P$49
Name cwm_2w: 'End Anchor Options'!$D$38:$H$49
Name cwm_2wx: 'End Anchor Options'!$F$38:$F$49
Name cwm_3: 'End Anchor Options'!$B$50:$B$61
Name cwm_3c: 'End Anchor Options'!$I$50:$M$61
Name cwm_3cx: 'End Anchor Options'!$K$50:$K$61
Name cwm_3s: 'End Anchor Options'!$N$50:$R$61
Name cwm_3sx: 'End Anchor Options'!$P$50:$P$61
Name cwm_3w: 'End Anchor Options'!$D$50:$H$61
Name cwm_3wx: 'End Anchor Options'!$F$50:$F$61
Name Dual_IG: 'Deadload Assistance'!$T$37:$T$41
Name EIMM: 'New Lookup Cells'!$AC$4:$AF$17
Name ELEI: 'Generic Mull Charts'!$BG$3:$BG$33
Name ELM: 'Generic Mull Charts'!$BE$3:$BK$33
Name exposure: 'Project Mull Review'!$E$15
Name FinalSort: RMEAT!$BA$11:$BI$99
Name FrameStrength: 'New Lookup Cells'!$AC$21:$AD$30
Name GlassThickness: 'Deadload Assistance'!$V$8:$AA$10
Name GlazingTypes: 'Deadload Assistance'!$V$8:$V$10
Name IAEI: 'Aluminum Mull Charts'!$K$13:$K$28
Name IAEIT2: 'Aluminum Mull Charts'!$R$13:$R$25
Name IAEIT4: 'Aluminum Mull Charts'!$R$34:$R$46
Name IAEIx: 'Aluminum Mull Charts'!$K$13:$K$28
Name IAEIy: 'Aluminum Mull Charts'!$M$13:$M$28

Sheet Launch Page
B4: While Pella Corporation has made a good faith effort to verify the reliability of this Excel based tool, it may contain unknown programming errors that may result in incorrect results. The user is encouraged to use good judgment and report any questionable results to Pella for evaluation.
B6: The applicability and subsequent results of analysis performed by this tool will be compromised if the user fails to input the correct information.
B8: Pella makes no warranty or guarantee as to the results obtained by the user of this tool.
B10: The contents of this application are intended solely for the use of Pella Corporation, its subsidiaries, and the distributors affiliated with Pella Corporation and its subsidiaries. Any copying or distribution of this application without the express written consent of Pella Corporation is prohibited.
B13: TRAINING:
B14: DP/Mull Calculator Video Training Presentation: LINK
B15: DP/Mull Calculator Training Presentation Slides: LINK

Sheet Canada DP Link
B2: Canadian Calculator Link
B9: 1. Copy the Design Pressure from the Canadian Calculator into the "Spec DP" table of the "Project Mull Review" tab to calculate the mullion reinforcement for Canadian projects 2. Screenshot the results into the "Windspeed Results" tab
B407: Part 9 Building Types - "Housing and Small Buildings": -3 stories or less and -Total floor area (all floors) of 600 m^2 (6,458 sq ft) or less -Occupancies: Residential, Business/Personal, Mercantile, Med/Low Hazard Industrial
D419: 600 m^2 = 6,458 ft^2

Sheet Revisions
B4: Version | C4: Change | D4: Date | E4: Contact
B5: Beta V1 | C5: New | D5: 42172 | E5: Joe Vos
B6: Beta V1.1 | C6: Update DP calculations; Remove DP Calc Hidden Sheets | D6: 42172 | E6: Joe Vos
B7: Beta V1.2 | C7: Update DP calculations; + GCP formula for > < 60 ft was switched | D7: 42173 | E7: Joe Vos
B8: Beta V1.3 | C8: Minnesota Building Code change to 7-10 | D8: 42178 | E8: Eric Ferguson
B9: Beta V1.4 | C9: Update DP calcs for > 60ft tall buildings. | D9: 42179 | E9: Mary Rukashaza
B10: Beta V1.5 | C10: Added wind zone / impact mulls, dead load to mull table and unit weight calculator, impact glazing note, modified mull options section to two. | D10: 42202 | E10: Joe Vos
B11: Beta V1.5b
B12: Beta V1.5c
B13: Beta V1.5d
B14: Beta V1.5e | C14: Adjust truss plate results if clad / wood aluminum is selected. | D14: 42220 | E14: Joe Vos
B15: Beta V1.6a | C15: Added tabs for Canadian / based on spec calculator tabs; fixed LVL | D15: 42248 | E15: Joe Vos
B17: 2.0 | C17: Release to PERL | E17: Joe Vos
B18: 2.1 | C18: Update Spec based sheet | D18: 42271 | E18: Joe Vos
B19: 2.2 | C19: Adjustments to 20 G NSS values | D19: 42304 | E19: Joe Vos
B20: 2.3 | C20: Added Impervia Special Shapes properties; updated Impervia frame properties; change some text in truss plates options for better understanding; updated default state building codes. | D20: 42311 | E20: Joe Vos
B21: 2.4 | C21: Fixed issue with Impervia mull 1/2 no steel. Changed sheet formatting | D21: 42347 | E21: Joe Vos
B22: 2.5 | C22: Update State Codes; | D22: 42702 | E22: Joe Vos
B24: 2.6 Beta | C24: Revised State Code | D24: 43143 | E24: Mary Rukashaza
C25: Added 250 Series mullion | D25: 43143 | E25: Mary Rukashaza
C26: Added Scenescape page | D26: 43143 | E26: Mary Rukashaza
C27: Added DA sheet | D27: 43143 | E27: Mary Rukashaza
C28: Added column to select mullion for markups | D28: 43143 | E28: Mary Rukashaza
C29: Added Topographic factor links | D29: 43143 | E29: Mary Rukashaza
C30: Added Square Steel tube | D30: 43143 | E30: Mary Rukashaza
C31: Updated strength values for Wood | D31: 43143 | E31: Mary Rukashaza
B34: Final 2.6 | C34: added instructions on Project Mull Review - Spec DP to show that a negative value must be input in the neg DP | D34: 43219 | E34: Mary Rukashaza
C35: Changed the ATC map link and provided instructions on what to use | D35: 43220 | E35: Mary Rukashaza
C36: Added notes in the Scenescape tab for salesmen | D36: 43220 | E36: Mary Rukashaza
C37: Review State Code adoption maps - July 2017 Map | D37: 43220 | E37: Mary Rukashaza
C38: Added tab explaining Ultimate load Vs Allowable Load | D38: 43228 | E38: Mary Rukashaza
C39: Fixed deadload check on steel tube | D39: 43252 | E39: Joe Vos
B41: 2.6.2 | C41: Updated State Codes | D41: 43497 | E41: Joe Kempen
C42: Added visibility of Enclosed/Partially Enclosed Building Type | D42: 43497 | E42: Joe Kempen
C43: Updated format in DA Info Tab | D43: 43497 | E43: Joe Kempen
C44: Update formula for Wind Zone Classification to designate Colorado as Not Applicable (doesn't trigger Red "Impact Required" note) | D44: 43497 | E44: Joe Kempen
C45: Added red text that shows when county or local codes must be investigated | D45: 43497 | E45: Joe Kempen
C46: Updated naming of Vinyl 250 & Vinyl 350 windows & aluminum mulls | D46: 43524 | E46: Joe Kempen
C47: Update 2" Impervia Structural Receptor Mullion EI Values | D47: 43524 | E47: Joe Kempen
C48: Correct tab links | D48: 43524 | E48: Joe Kempen
B50: 2.6.3 | C50: Combined lines for zones 4 and 5 | D50: 43672 | E50: Eric Visscher
C51: Changed mullion selection to one column of 12 drop down lists | D51: 43672 | E51: Eric Visscher
C52: Changed product/joint type selections to two drop down lists | D52: 43672 | E52: Eric Visscher
C53: Added error analysis to joint/frame type and mullion drop down lists | D53: 43672 | E53: Eric Visscher
C54: Created states list to autofill states tab | D54: 43672 | E54: Eric Visscher
C55: Stacked cells in lines to save horizontal space | D55: 43672 | E55: Eric Visscher
C56: Added Struc Tab to integrate with structural reports | D56: 43672 | E56: Eric Visscher
C57: Revised Lookup Cell with new drop down list data and values | D57: 43672 | E57: Eric Visscher
C58: Revised top left DA Info in Project Mull Review; Removes DA Info tab | D58: 43672 | E58: Eric Visscher
C59: Removed Spec DP tab and added box in main tab to override DP in sheet | D59: 43672 | E59: Eric Visscher
C60: Canada tab only has calculator link; use given DP in the Spec table in main sheet | D60: 43672 | E60: Eric Visscher
C61: Added zone classification tab that explains what areas are zone 4 and 5 on building | D61: 43672 | E61: Eric Visscher
C62: Removed broken links to PERL documents | D62: 43676 | E62: Joe Kempen
... C64: Fixed 3 other errors | D64: 43690 | E64: Eric Visscher
B66: 2.6.3 | C66: Updated Canadian Calculator Link | D66: 43711 | E66: Joe Kempen
C67: Updated Bi-fold and Multi-slide information | D67: 43711 | E67: Joe Kempen
C68: Updated Zone 5 Calculation to include 0.4 x h & 4% least horizontal | D68: 43725 | E68: Joe Kempen
C69: Corrected Mullion Analysis DP calculation for Partially Enclosed | D69: 43731 | E69: Joe Kempen
C70: Updated Bi-Fold header deflection to 1/4", per instructions | D70: 43742 | E70: Joe Kempen
B72: 2.6.3 | C72: Fix Vinyl 250 Sliding Patio Door aluminum mull bar option | D72: 44008 | E72: Eric Visscher, Joe Kempen
C73: Add new Impervia "Structural" mulling options | D73: 44008 | E73: Eric Visscher, Joe Kempen
C74: The 1/2" Joining Mullion for 250-Series is good up 53.5" and a DP of 20 | D74: 44008 | E74: Eric Visscher, Joe Kempen
C75: Show Mull Type EI Value Tabs for reference, not editable | D75: 44008 | E75: Eric Visscher, Joe Kempen
C76: FIX 'a' calculation for building height | D76: 44008 | E76: Eric Visscher, Joe Kempen
C77: Add glass thickness to deadload calculator | D77: 44008 | E77: Eric Visscher, Joe Kempen
C78: Change Georgia to ASCE 7-16 | D78: 44008 | E78: Eric Visscher, Joe Kempen
C79: Fix link to wall zone size in Struct Calc tab (Cell # 84 to 85) | D79: 44008 | E79: Eric Visscher, Joe Kempen
C80: Made Deadload EIy visible for structure comparisons | D80: 44008 | E80: Eric Visscher, Joe Kempen
C81: Zone 4 'a' defaults to "---" unless all width, height, length are all filled in | D81: 44008 | E81: Eric Visscher, Joe Kempen
C82: Update weakest Impervia Frame EI Value (with new D-Set, new CM); Lowest is SW/SH/Fx 1.0 - 2,136,000 | D82: 44008 | E82: Eric Visscher, Joe Kempen
C83: Update Canadian DP Calculator link https://fenestrationcanada.ca/calculator/a44os1-17/ | D83: 44008 | E83: Eric Visscher, Joe Kempen
C84: Add reference info on what a Canadian Part 9 building is | D84: 44008 | E84: Eric Visscher, Joe Kempen
... C87: Fixed Impervia 2" Custom Reinforcing Mullion missing MMx values | D87: 44008 | E87: Eric Visscher, Joe Kempen
B90: 3.0 | C90: Added END ANCHOR sheet with end anchor library | D90: 44044 | E90: Eric Visscher
C91: Names for anchor categories, types of substrates, and strengths | D91: 44044 | E91: Eric Visscher
C92: Designed for easy changes, reorganizing, and referencing in equations | D92: 44044 | E92: Eric Visscher
C93: Changes to main Project Mull Review sheet | D93: 44044 | E93: Eric Visscher
C94: New format for DA info | D94: 44044 | E94: Eric Visscher
C95: End anchor choices with data sorter and column to show strength of anchors | D95: 44044 | E95: Eric Visscher
C96: Ground Elevation & Factor | D96: 44209 | E96: Eric Visscher
C97: Update to Effective Wind Area (remove combination width/height) | D97: 44209 | E97: Eric Visscher
C98: Misc Formatting | D98: 44209 | E98: Eric Visscher
C99: Added Ultimate & Allowable Wind Speeds & DP Charts | D99: 44209 | E99: Eric Visscher
B101: 3.1 | C101: Removed Pre-Feb 2021 Impervia Window Mull Options | D101: 44272 | E101: Eric Visscher
C102: Added "As-Tested" Impervia Window Mull Options & Functionality | D102: 44272 | E102: Eric Visscher
C103: "As-Tested" changed to "As Tested - 3.25" Frame", formula changes included | D103: 44274 | E103: Eric Visscher
C104: MMx values changed as to assume no effect on frame strength validation | D104: 44274 | E104: Eric Visscher
C105: "As Tested - 3.25" Frame" changed "Frames" to plural | D105: 44293 | E105: Eric Visscher
C106: Fixed error with calculated DP pressures; ground elevation factor could lower pressures below min/max of 10 psf | D106: 44293 | E106: Eric Visscher
C107: Fixed error on Importance Factor III/IV for ASCE 7-05 | D107: 44322 | E107: Eric Visscher
B109: 3.2 | C109: Updated the Impervia sliding door information, including frame strength, anchors, and mullions | D109: 44329 | E109: Eric Visscher
C110: Changed names of Impervia door mullions | D110: 44344 | E110: Eric Visscher
C111: Added weights of field structure (lb/ft) to allow using structure weights in deadload calculations; added column to calculate weight of the structure based on deadload member length, added to the right of all items in the Project Mull Review tab | D111: 44435 | E111: Eric Visscher
C112: Updated state wind codes from Taylor Krumwiede's notes | D112: 44435 | E112: Eric Visscher
C113: Added nail fin option for Impervia doors (potentially note about no sill fin) | D113: 44435 | E113: Eric Visscher
C114: Changed nail fin only strength to 350 lbs (per evaluation plan #5146, tests 40-48) | D114: 44435 | E114: Eric Visscher
C115: Removed 350 Series Vinyl Options | D115: 44440 | E115: Joe Kempen
B117: 3.2 | C117: Changed EI for As-Tested Impervia Tight Mull from 5,179,200 to 8,770,357 per Brandon Pace | D117: 44473 | E117: Joe Kempen
C118: Updated Zone 4/5 Diagram | D118: 44479 | E118: Joe Kempen
C119: Updated Impervia mull type options to allow using door mullions when in a 4 way mull joint | D119: 44567 | E119: Eric Visscher
...

Sheet Project Mull Review
B1: =IF(RIGHT(E10,1)="*",VLOOKUP(E10,StarState,2,FALSE),"")
C2: Project Name: | D2: XXXXXX | N2: Date: | O2: =TODAY() -> 46175 | U2: Building Type | V2: Degree | W2: 0 | Y2: B | Z2: 7 | AA2: 1200 | AC2: Design Wind Speed Website: | AG2: Instructional Tabs
C3: Project Address: | D3: XXXXXX | N3: PAS Project Number: | O3: XXXXXX | U3: Enclosed | V3: Yes | W3: 4 | Y3: C | Z3: 9.5 | AA3: 900 | AC3: ASCE Hazard Tool
C4: Architectural Plans: | D4: Partial/Complete/None | H4: XX/XX/XXXX | L4: PQM Quote Number: | O4: XXXXXX | U4: Partially Enclosed | V4: No | W4: 5 | Y4: D | Z4: 11.5 | AA4: 700 | AC4: Basic ASCE Wind Velocity | AG4: Risk Category/Importance Factor
C5: Specifications: | D5: Partial/Complete/None | H5: XX/XX/XXXX | U5: ASD | V5: =IF(ISBLANK(E14)=TRUE,"",ROUND(E14*SQRT(0.6),0)) | W5: 1 | Y5: B | Z5: 7.5 | AA5: 3280 | AG5: Exposure Category
B6: If this project information is no longer current, it may have an impact on this report. Please contact PAS with any updated project information. | U6: Z | V6: =IF(E15="B",IF(E12>30,E12,30),IF(E12>15,E12,15)) -> 15 | W6: B | Y6: C | Z6: 9.8 | AA6: 2460 | AG6: Topographical Factor
U7: Reduction | V7: 0.6 | W7: C | Y7: D | Z7: 11.5 | AA7: 1935 | AC7: Kd | AD7: 0.85 | AG7: Ultimate vs. Allowable Load
B8: Design Pressure Calculation | U8: Bldg Type | V8: =IF(AD8= "Enclosed", 0.18, 0.55) -> 0.18 | W8: D | AC8: Building Type: | AD8: Enclosed | AG8: Corner / Wall Zone 5
U9: Qz Total | V9: =IF($E$11="ASCE 7-05",$AA$11,IF($E$11="ASCE 7-10",$AA$12,IF($E$11="ASCE 7-16",$AA$13,$AA$14))) -> #N/A | AG9: Scenescape
B10: State : | J10: Components and Cladding Design Pressures (PSF) | X10: Code | Y10: Kz | Z10: Ke | AA10: Qz
B11: Building Code (By State) : | E11: =IFERROR(VLOOKUP($E$10,StateCodes,2,FALSE),"") | H11: =IFERROR(VLOOKUP($E$10,StateCodes,3,FALSE),"") | J11: Square Feet | K11: Ultimate | O11: Allowable (ASD) | X11: ASCE 7-05 | Y11: =2.01*(V6/VLOOKUP(E15,Y2:AA4,3))^(2/VLOOKUP(E15,Y2:AA4,2)) -> #N/A | Z11: 1 | AA11: =0.00256*Y11*E16*AD7*E14^2*U26 -> #N/A | AC11: Specified Design Pressures
B12: Mean Roof Height - h (ft) : | K12: Zone 4 | M12: Zone 5 | O12: Zone 4 | Q12: Zone 5 | U12: Tornado Variables | X12: ASCE 7-10 | Y12: =2.01*(V6/VLOOKUP(E15,Y2:AA4,3))^(2/VLOOKUP(E15,Y2:AA4,2)) -> #N/A | Z12: =EXP(-0.00003*E18) -> 1 | AA12: =0.00256*Y12*E16*AD7*E14^2*Z12 -> #N/A
B13: Risk Category : | J13: 10 | K13: =IF($E$11="ASCE 7-05","",CONCATENATE("+",X17," / ",Y17)) -> + / | M13: =IF($E$11="ASCE 7-05","",CONCATENATE("+",Z17," / ",AA17)) -> + / | O13: =IFERROR(CONCATENATE("+",FIXED(MAX(U$31,X17*IF($E$10="ASCE 7-05",1,V$7)),1)," / ",FIXED(MIN(V$31,Y17*IF($E$10="ASCE 7-05",1,V$7)),1)),"") | Q13: =IFERROR(CONCATENATE("+",FIXED(MAX(U$31,Z17*IF($E$10="ASCE 7-05",1,V$7)),1)," / ",FIXED(MIN(V$31,AA17*IF($E$10="ASCE 7-05",1,V$7)),1)),"") | U13: Qzt | V13: =Tornado!Y3 -> #VALUE! | X13: ASCE 7-16 | Y13: =2.01*(V6/VLOOKUP(E15,Y2:AA4,3))^(2/VLOOKUP(E15,Y2:AA4,2)) -> #N/A | Z13: =EXP(-0.0000362*E18) -> 1 | AA13: =0.00256*Y13*E16*AD7*E14^2*Z13 -> #N/A | AC13: Zone 4 Negative | AG13: Area Loading Method
B14: Design Wind Speed (MPH) : | F14: =IF(E11="ASCE 7-05", "(ASD)","(Ult.)") -> (Ult.) | H14: =IF(E11="ASCE 7-05","",CONCATENATE(V5, " (ASD)")) -> (ASD) | J14: 20 | K14: =IF($E$11="ASCE 7-05","",CONCATENATE("+",X18," / ",Y18)) -> + / | M14: =IF($E$11="ASCE 7-05","",CONCATENATE("+",Z18," / ",AA18)) -> + / | O14: =IFERROR(CONCATENATE("+",FIXED(MAX(U$31,X18*IF($E$10="ASCE 7-05",1,V$7)),1)," / ",FIXED(MIN(V$31,Y18*IF($E$10="ASCE 7-05",1,V$7)),1)),"") | Q14: =IFERROR(CONCATENATE("+",FIXED(MAX(U$31,Z18*IF($E$10="ASCE 7-05",1,V$7)),1)," / ",FIXED(MIN(V$31,AA18*IF($E$10="ASCE 7-05",1,V$7)),1)),"") | U14: Kztor | V14: =Tornado!V19 -> #VALUE! | X14: ASCE 7-22 | Y14: =2.41*(V6/VLOOKUP(E15,Y5:AA7,3))^(2/VLOOKUP(E15,Y5:AA7,2)) -> #N/A | Z14: =EXP(-0.0000362*E18) -> 1 | AA14: =0.00256*Y14*E16*E14^2*Z14*AD7 -> #N/A | AG14: Rectangular
B15: Exposure Category : | J15: 50 | K15: =IF($E$11="ASCE 7-05","",CONCATENATE("+",X19," / ",Y19)) -> + / | M15: =IF($E$11="ASCE 7-05","",CONCATENATE("+",Z19," / ",AA19)) -> + / | O15: =IFERROR(CONCATENATE("+",FIXED(MAX(U$31,X19*IF($E$10="ASCE 7-05",1,V$7)),1)," / ",FIXED(MIN(V$31,Y19*IF($E$10="ASCE 7-05",1,V$7)),1)),"") | Q15: =IFERROR(CONCATENATE("+",FIXED(MAX(U$31,Z19*IF($E$10="ASCE 7-05",1,V$7)),1)," / ",FIXED(MIN(V$31,AA19*IF($E$10="ASCE 7-05",1,V$7)),1)),"") | U15: Kdt/Kvt/Reduct. | V15: =Tornado!V25*Tornado!V26 -> 1 | AC15: Zone 4 Positive
B16: Topographical Factor : | E16: 1 | J16: 100 | K16: =IF($E$11="ASCE 7-05","",CONCATENATE("+",X20," / ",Y20)) -> + / | M16: =IF($E$11="ASCE 7-05","",CONCATENATE("+",Z20," / ",AA20)) -> + / | O16: =IFERROR(CONCATENATE("+",FIXED(MAX(U$31,X20*IF($E$10="ASCE 7-05",1,V$7)),1)," / ",FIXED(MIN(V$31,Y20*IF($E$10="ASCE 7-05",1,V$7)),1)),"") | Q16: =IFERROR(CONCATENATE("+",FIXED(MAX(U$31,Z20*IF($E$10="ASCE 7-05",1,V$7)),1)," / ",FIXED(MIN(V$31,AA20*IF($E$10="ASCE 7-05",1,V$7)),1)),"") | U16: Gcpit+ | V16: =Tornado!V30 -> 0.55 | X16: Standard DP
B17: Wind Zone Classification : | E17: =IFERROR(IF(E11="ASCE 7-05",MATCH(E14,ASCE7_05WZ,1),MATCH(E14,ASCE7_10WZ,1)),"Not Applicable") -> Not Applicable | J17: 200 | K17: =IF($E$11="ASCE 7-05","",CONCATENATE("+",X21," / ",Y21)) -> + / | M17: =IF($E$11="ASCE 7-05","",CONCATENATE("+",Z21," / ",AA21)) -> + / | O17: =IFERROR(CONCATENATE("+",FIXED(MAX(U$31,X21*IF($E$10="ASCE 7-05",1,V$7)),1)," / ",FIXED(MIN(V$31,Y21*IF($E$10="ASCE 7-05",1,V$7)),1)),"") | Q17: =IFERROR(CONCATENATE("+",FIXED(MAX(U$31,Z21*IF($E$10="ASCE 7-05",1,V$7)),1)," / ",FIXED(MIN(V$31,AA21*IF($E$10="ASCE 7-05",1,V$7)),1)),"") | U17: Gcpit- | V17: =Tornado!V31 -> -0.18 | X17: =IFERROR(FIXED(MAX($U$30,$V$9*((IF($E$12<60,-0.077*LN(J13)+1.1737,IF($E$11="ASCE 7-22",-0.077*LN(J13)+1.0798,-0.093*LN(MAX(20,J13))+1.1776)))+$V$8)),1),"") | Y17: =IFERROR(FIXED(MIN($V$30,$V$9*(IF($E$12<60,0.0771*LN(J13) -1.2737,IF($E$11="ASCE 7-22",0.0524*LN(J13)-1.0278,0.0614*LN(MAX(20,J13)) -1.0829))-$V$8)),1),"") | Z17: =IFERROR(FIXED(MAX($U$30,$V$9*((IF($E$12<60,-0.077*LN(J13)+1.1737,IF($E$11="ASCE 7-22",-0.077*LN(J13)+1.0798,-0.093*LN(MAX(20,J13))+1.1776)))+$V$8)),1),"") | AA17: =IFERROR(FIXED(MIN($V$30,$V$9*(IF($E$12<60,0.156*LN(J13) -1.7618,IF($E$11="ASCE 7-22", 0.2026*LN(J13)-2.2638,0.2503*LN(MAX(20,J13)) -2.5526))-$V$8)),1),"") | AC17: Zone 5 Negative
B18: Ground Elevation & Ke Factor : | E18: 0 | G18: ft | H18: =IFERROR(VLOOKUP(E11,X11:AA14,3,FALSE),"") | J18: The proposed windows and doors comply with the design pressures shown unless noted otherwise. Allowable Stress Design (ASD) pressures were obtained by multiplying the Ultimate design pressures (Ult.) by 0.6 per IBC section 1609. ASD pressures align with WDMA/AAMA standards and the NAFS performance rating system. Please confirm these design pressures with the structural engineer or building official. | X18: =IFERROR(FIXED(MAX($U$30,$V$9*((IF($E$12<60,-0.077*LN(J14)+1.1737,IF($E$11="ASCE 7-22",-0.077*LN(J14)+1.0798,-0.093*LN(MAX(20,J14))+1.1776)))+$V$8)),1),"") | Y18: =IFERROR(FIXED(MIN($V$30,$V$9*(IF($E$12<60,0.0771*LN(J14) -1.2737,IF($E$11="ASCE 7-22",0.0524*LN(J14)-1.0278,0.0614*LN(MAX(20,J14)) -1.0829))-$V$8)),1),"") | Z18: =IFERROR(FIXED(MAX($U$30,$V$9*((IF($E$12<60,-0.077*LN(J14)+1.1737,IF($E$11="ASCE 7-22",-0.077*LN(J14)+1.0798,-0.093*LN(MAX(20,J14))+1.1776)))+$V$8)),1),"") | AA18: =IFERROR(FIXED(MIN($V$30,$V$9*(IF($E$12<60,0.156*LN(J14) -1.7618,IF($E$11="ASCE 7-22", 0.2026*LN(J14)-2.2638,0.2503*LN(MAX(20,J14)) -2.5526))-$V$8)),1),"") | AG18: DP Loading Type
X19: =IFERROR(FIXED(MAX($U$30,$V$9*((IF($E$12<60,-0.077*LN(J15)+1.1737,IF($E$11="ASCE 7-22",-0.077*LN(J15)+1.0798,-0.093*LN(MAX(20,J15))+1.1776)))+$V$8)),1),"") | Y19: =IFERROR(FIXED(MIN($V$30,$V$9*(IF($E$12<60,0.0771*LN(J15) -1.2737,IF($E$11="ASCE 7-22",0.0524*LN(J15)-1.0278,0.0614*LN(MAX(20,J15)) -1.0829))-$V$8)),1),"") | Z19: =IFERROR(FIXED(MAX($U$30,$V$9*((IF($E$12<60,-0.077*LN(J15)+1.1737,IF($E$11="ASCE 7-22",-0.077*LN(J15)+1.0798,-0.093*LN(MAX(20,J15))+1.1776)))+$V$8)),1),"") | AA19: =IFERROR(FIXED(MIN($V$30,$V$9*(IF($E$12<60,0.156*LN(J15) -1.7618,IF($E$11="ASCE 7-22", 0.2026*LN(J15)-2.2638,0.2503*LN(MAX(20,J15)) -2.5526))-$V$8)),1),"") | AC19: Zone 5 Positive | AG19: Wind Loading
X20: =IFERROR(FIXED(MAX($U$30,$V$9*((IF($E$12<60,-0.077*LN(J16)+1.1737,IF($E$11="ASCE 7-22",-0.077*LN(J16)+1.0798,-0.093*LN(MAX(20,J16))+1.1776)))+$V$8)),1),"") | Y20: =IFERROR(FIXED(MIN($V$30,$V$9*(IF($E$12<60,0.0771*LN(J16) -1.2737,IF($E$11="ASCE 7-22",0.0524*LN(J16)-1.0278,0.0614*LN(MAX(20,J16)) -1.0829))-$V$8)),1),"") | Z20: =IFERROR(FIXED(MAX($U$30,$V$9*((IF($E$12<60,-0.077*LN(J16)+1.1737,IF($E$11="ASCE 7-22",-0.077*LN(J16)+1.0798,-0.093*LN(MAX(20,J16))+1.1776)))+$V$8)),1),"") | AA20: =IFERROR(FIXED(MIN($V$30,$V$9*(IF($E$12<60,0.156*LN(J16) -1.7618,IF($E$11="ASCE 7-22", 0.2026*LN(J16)-2.2638,0.2503*LN(MAX(20,J16)) -2.5526))-$V$8)),1),"")
U21: Importance Factor | X21: =IFERROR(FIXED(MAX($U$30,$V$9*((IF($E$12<60,-0.077*LN(J17)+1.1737,IF($E$11="ASCE 7-22",-0.077*LN(J17)+1.0798,-0.093*LN(MAX(20,J17))+1.1776)))+$V$8)),1),"") | Y21: =IFERROR(FIXED(MIN($V$30,$V$9*(IF($E$12<60,0.0771*LN(J17) -1.2737,IF($E$11="ASCE 7-22",0.0524*LN(J17)-1.0278,0.0614*LN(MAX(20,J17)) -1.0829))-$V$8)),1),"") | Z21: =IFERROR(FIXED(MAX($U$30,$V$9*((IF($E$12<60,-0.077*LN(J17)+1.1737,IF($E$11="ASCE 7-22",-0.077*LN(J17)+1.0798,-0.093*LN(MAX(20,J17))+1.1776)))+$V$8)),1),"") | AA21: =IFERROR(FIXED(MIN($V$30,$V$9*(IF($E$12<60,0.156*LN(J17) -1.7618,IF($E$11="ASCE 7-22", 0.2026*LN(J17)-2.2638,0.2503*LN(MAX(20,J17)) -2.5526))-$V$8)),1),"") | CA21: Zone 4 | DE21: Zone 5
U22: I | V22: 0.87 | AC22: Single Unit Design Pressures | AD22: Unit Length (in) | AE22: Unit Width (in) | AF22: Unit Area (sqft) | AG22: Zone 4 Max Pressure (psf) | AH22: Zone 5 Max Pressure (psf)
U23: II | V23: 1 | X23: Wind [Single Unit DP] Tor
L24: Building Length (ft) | U24: III | V24: 1.15 | X24: =IF(E$11="ASCE 7-05",$U$26,$V$7)*$V$9*((IF($E$12<60,-0.077*LN(MAX(MIN(500,AF24),10))+1.1737,IF($E$11="ASCE 7-22",-0.077*LN(MAX(MIN(500,AF24),20))+1.0798,-0.093*LN(MAX(MIN(500,AF24),20))+1.1776)))+$V$8) -> #N/A | Y24: =IF(E$11="ASCE 7-05",$U$26,$V$7)*$V$9*(IF($E$12<60,0.0771*LN(MAX(MIN(500,AF24),10)) -1.2737,IF($E$11="ASCE 7-22",0.0524*LN(MAX(MIN(500,AF24),50))-1.0278,0.0614*LN(MAX(MIN(500,AF24),20)) -1.0829))-$V$8) -> #N/A | Z24: =$V$7*IF(E$12<60,$V$13*($V$15*(-0.077*LN(MAX(MIN(500,AF24),10))+1.1737)-$V$17),$V$13*$V$15*((-0.077*LN(MAX(MIN(500,AF24),20))+1.0798)-$V$17)) -> #VALUE! | AA24: =$V$7*IF(E$12<60,$V$13*($V$15*0.0771*LN(MAX(MIN(500,AF24),10)) -1.2737-$V$16),$V$13*$V$15*((0.0524*LN(MAX(MIN(500,AF24),20))-1.0278)-$V$16)) -> #VALUE! | AF24: =AD24*AE24/144 -> 0 | AG24: =IFERROR(CONCATENATE("+",ROUND(MAX($U$31,IF($AG$19="Wind Loading",X24,Z24)),1)," / ",ROUND(MIN($V$31,IF($AG$19="Wind Loading",Y24,AA24)),1)),"") | AH24: =IFERROR(CONCATENATE("+",ROUND(MAX($U$31,IF($AG$19="Wind Loading",X28,Z28)),1)," / ",ROUND(MIN($V$31,IF($AG$19="Wind Loading",Y28,AA28)),1)),"")
L25: Building Width (ft) | U25: IV | V25: 1.15 | X25: =IF(E$11="ASCE 7-05",$U$26,$V$7)*$V$9*((IF($E$12<60,-0.077*LN(MAX(MIN(500,AF26),10))+1.1737,IF($E$11="ASCE 7-22",-0.077*LN(MAX(MIN(500,AF26),20))+1.0798,-0.093*LN(MAX(MIN(500,AF26),20))+1.1776)))+$V$8) -> #N/A | Y25: =IF(E$11="ASCE 7-05",$U$26,$V$7)*$V$9*(IF($E$12<60,0.0771*LN(MAX(MIN(500,AF26),10)) -1.2737,IF($E$11="ASCE 7-22",0.0524*LN(MAX(MIN(500,AF26),50))-1.0278,0.0614*LN(MAX(MIN(500,AF26),20)) -1.0829))-$V$8) -> #N/A | Z25: =$V$7*IF(E$12<60,$V$13*($V$15*(-0.077*LN(MAX(MIN(500,AF26),10))+1.1737)-$V$17),$V$13*$V$15*((-0.077*LN(MAX(MIN(500,AF26),20))+1.0798)-$V$17)) -> #VALUE! | AA25: =$V$7*IF(E$12<60,$V$13*($V$15*0.0771*LN(MAX(MIN(500,AF26),10)) -1.2737-$V$16),$V$13*$V$15*((0.0524*LN(MAX(MIN(500,AF26),20))-1.0278)-$V$16)) -> #VALUE!
L26: Building Height (ft) | O26: =IF(ISBLANK(E12)=TRUE,"",E12) | U26: =VLOOKUP(E13,U22:V25,2) -> #N/A | V26: =IF(E13="III", "Yes", IF(E13="IV", "Yes", "No")) -> No | X26: =IF(E$11="ASCE 7-05",$U$26,$V$7)*$V$9*((IF($E$12<60,-0.077*LN(MAX(MIN(500,AF28),10))+1.1737,IF($E$11="ASCE 7-22",-0.077*LN(MAX(MIN(500,AF28),20))+1.0798,-0.093*LN(MAX(MIN(500,AF28),20))+1.1776)))+$V$8) -> #N/A | Y26: =IF(E$11="ASCE 7-05",$U$26,$V$7)*$V$9*(IF($E$12<60,0.0771*LN(MAX(MIN(500,AF28),10)) -1.2737,IF($E$11="ASCE 7-22",0.0524*LN(MAX(MIN(500,AF28),50))-1.0278,0.0614*LN(MAX(MIN(500,AF28),20)) -1.0829))-$V$8) -> #N/A | Z26: =$V$7*IF(E$12<60,$V$13*($V$15*(-0.077*LN(MAX(MIN(500,AF28),10))+1.1737)-$V$17),$V$13*$V$15*((-0.077*LN(MAX(MIN(500,AF28),20))+1.0798)-$V$17)) -> #VALUE! | AA26: =$V$7*IF(E$12<60,$V$13*($V$15*0.0771*LN(MAX(MIN(500,AF28),10)) -1.2737-$V$16),$V$13*$V$15*((0.0524*LN(MAX(MIN(500,AF28),20))-1.0278)-$V$16)) -> #VALUE! | AF26: =AD26*AE26/144 -> 0 | AG26: =IFERROR(CONCATENATE("+",ROUND(MAX($U$31,IF($AG$19="Wind Loading",X25,Z25)),1)," / ",ROUND(MIN($V$31,IF($AG$19="Wind Loading",Y25,AA25)),1)),"") | AH26: =IFERROR(CONCATENATE("+",ROUND(MAX($U$31,IF($AG$19="Wind Loading",X29,Z29)),1)," / ",ROUND(MIN($V$31,IF($AG$19="Wind Loading",Y29,AA29)),1)),"")
L27: Wall Zone 5 - a (ft) | O27: =IF(OR(O24=0,O25=0,O26=""),"---",MAX(MIN(0.1*O24,0.1*O25,0.4*O26),3,MIN(0.04*O24,0.04*O25))) -> --- | X27: =IF(E$11="ASCE 7-05",$U$26,$V$7)*$V$9*((IF($E$12<60,-0.077*LN(MAX(MIN(500,AF30),10))+1.1737,IF($E$11="ASCE 7-22",-0.077*LN(MAX(MIN(500,AF30),20))+1.0798,-0.093*LN(MAX(MIN(500,AF30),20))+1.1776)))+$V$8) -> #N/A | Y27: =IF(E$11="ASCE 7-05",$U$26,$V$7)*$V$9*(IF($E$12<60,0.0771*LN(MAX(MIN(500,AF30),10)) -1.2737,IF($E$11="ASCE 7-22",0.0524*LN(MAX(MIN(500,AF30),50))-1.0278,0.0614*LN(MAX(MIN(500,AF30),20)) -1.0829))-$V$8) -> #N/A | Z27: =$V$7*IF(E$12<60,$V$13*($V$15*(-0.077*LN(MAX(MIN(500,AF30),10))+1.1737)-$V$17),$V$13*$V$15*((-0.077*LN(MAX(MIN(500,AF30),20))+1.0798)-$V$17)) -> #VALUE! | AA27: =$V$7*IF(E$12<60,$V$13*($V$15*0.0771*LN(MAX(MIN(500,AF30),10)) -1.2737-$V$16),$V$13*$V$15*((0.0524*LN(MAX(MIN(500,AF30),20))-1.0278)-$V$16)) -> #VALUE!
B28: =IF(E17="Not Applicable","",IF(E17=1,"If the building location is within 1 mile of the coast, impact glazing may be required. Consult a local building official.","Based on the building code and windspeed entered IMPACT glazing may be required. Verify with local building official.")) | X28: =IF(E$11="ASCE 7-05",$U$26,$V$7)*$V$9*((IF($E$12<60,-0.077*LN(MAX(MIN(500,AF24),10))+1.1737,IF($E$11="ASCE 7-22",-0.077*LN(MAX(MIN(500,AF24),20))+1.0798,-0.093*LN(MAX(MIN(500,AF24),20))+1.1776)))+$V$8) -> #N/A | Y28: =IF(E$11="ASCE 7-05",$U$26,$V$7)*$V$9*(IF($E$12<60,0.156*LN(MAX(MIN(500,AF24),10)) -1.7618,IF($E$11="ASCE 7-22", 0.2026*LN(MAX(MIN(500,AF24),20))-2.2638,0.2503*LN(MAX(MIN(500,AF24),20)) -2.5526))-$V$8) -> #N/A | Z28: =$V$7*IF(E$12<60,$V$13*($V$15*(-0.077*LN(MAX(MIN(500,AF24),10))+1.1737)-$V$17),$V$13*$V$15*((-0.077*LN(MAX(MIN(500,AF24),20))+1.0798)-$V$17)) -> #VALUE! | AA28: =$V$7*IF(E$12<60,$V$13*($V$15*(0.156*LN(MAX(MIN(500,AF24),10)) -1.7618)-$V$16),$V$13*$V$15*((0.2026*LN(MAX(MIN(500,AF24),20))-2.2638)-$V$16)) -> #VALUE! | AF28: =AD28*AE28/144 -> 0 | AG28: =IFERROR(CONCATENATE("+",ROUND(MAX($U$31,IF($AG$19="Wind Loading",X26,Z26)),1)," / ",ROUND(MIN($V$31,IF($AG$19="Wind Loading",Y26,AA26)),1)),"") | AH28: =IFERROR(CONCATENATE("+",ROUND(MAX($U$31,IF($AG$19="Wind Loading",X30,Z30)),1)," / ",ROUND(MIN($V$31,IF($AG$19="Wind Loading",Y30,AA30)),1)),"")
B29: =IF(AND(E11="ASCE 7-22",OR(E13="III", E13="IV")),"Check project location to determine if TORNADO SAFETY LOADS are required. See Tornado tab below.","") | U29: Minimum DP | X29: =IF(E$11="ASCE 7-05",$U$26,$V$7)*$V$9*((IF($E$12<60,-0.077*LN(MAX(MIN(500,AF26),10))+1.1737,IF($E$11="ASCE 7-22",-0.077*LN(MAX(MIN(500,AF26),20))+1.0798,-0.093*LN(MAX(MIN(500,AF26),20))+1.1776)))+$V$8) -> #N/A | Y29: =IF(E$11="ASCE 7-05",$U$26,$V$7)*$V$9*(IF($E$12<60,0.156*LN(MAX(MIN(500,AF26),10)) -1.7618,IF($E$11="ASCE 7-22", 0.2026*LN(MAX(MIN(500,AF26),20))-2.2638,0.2503*LN(MAX(MIN(500,AF26),20)) -2.5526))-$V$8) -> #N/A | Z29: =$V$7*IF(E$12<60,$V$13*($V$15*(-0.077*LN(MAX(MIN(500,AF26),10))+1.1737)-$V$17),$V$13*$V$15*((-0.077*LN(MAX(MIN(500,AF26),20))+1.0798)-$V$17)) -> #VALUE! | AA29: =$V$7*IF(E$12<60,$V$13*($V$15*(0.156*LN(MAX(MIN(500,AF26),10)) -1.7618)-$V$16),$V$13*$V$15*((0.2026*LN(MAX(MIN(500,AF26),20))-2.2638)-$V$16)) -> #VALUE!
B30: =IF(E18>3499, "High Altitute Glazing may be required at this elevation. Please review.","") | U30: 16 | V30: -16 | X30: =IF(E$11="ASCE 7-05",$U$26,$V$7)*$V$9*((IF($E$12<60,-0.077*LN(MAX(MIN(500,AF28),10))+1.1737,IF($E$11="ASCE 7-22",-0.077*LN(MAX(MIN(500,AF28),20))+1.0798,-0.093*LN(MAX(MIN(500,AF28),20))+1.1776)))+$V$8) -> #N/A | Y30: =IF(E$11="ASCE 7-05",$U$26,$V$7)*$V$9*(IF($E$12<60,0.156*LN(MAX(MIN(500,AF28),10)) -1.7618,IF($E$11="ASCE 7-22", 0.2026*LN(MAX(MIN(500,AF28),20))-2.2638,0.2503*LN(MAX(MIN(500,AF28),20)) -2.5526))-$V$8) -> #N/A | Z30: =$V$7*IF(E$12<60,$V$13*($V$15*(-0.077*LN(MAX(MIN(500,AF28),10))+1.1737)-$V$17),$V$13*$V$15*((-0.077*LN(MAX(MIN(500,AF28),20))+1.0798)-$V$17)) -> #VALUE! | AA30: =$V$7*IF(E$12<60,$V$13*($V$15*(0.156*LN(MAX(MIN(500,AF28),10)) -1.7618)-$V$16),$V$13*$V$15*((0.2026*LN(MAX(MIN(500,AF28),20))-2.2638)-$V$16)) -> #VALUE! | AF30: =AD30*AE30/144 -> 0 | AG30: =IFERROR(CONCATENATE("+",ROUND(MAX($U$31,IF($AG$19="Wind Loading",X27,Z27)),1)," / ",ROUND(MIN($V$31,IF($AG$19="Wind Loading",Y27,AA27)),1)),"") | AH30: =IFERROR(CONCATENATE("+",ROUND(MAX($U$31,IF($AG$19="Wind Loading",X31,Z31)),1)," / ",ROUND(MIN($V$31,IF($AG$19="Wind Loading",Y31,AA31)),1)),"") | AU30: Zone 4 Anchor Search and Validation | BG30: Zone 5 Anchor Search and Validation
L31: =IF(AG19="Tornado Loading","Tornado Pressures Used Below","") | P31: Deadload Assistance | U31: 10 | V31: -10 | X31: =IF(E$11="ASCE 7-05",$U$26,$V$7)*$V$9*((IF($E$12<60,-0.077*LN(MAX(MIN(500,AF30),10))+1.1737,IF($E$11="ASCE 7-22",-0.077*LN(MAX(MIN(500,AF30),20))+1.0798,-0.093*LN(MAX(MIN(500,AF30),20))+1.1776)))+$V$8) -> #N/A | Y31: =IF(E$11="ASCE 7-05",$U$26,$V$7)*$V$9*(IF($E$12<60,0.156*LN(MAX(MIN(500,AF30),10)) -1.7618,IF($E$11="ASCE 7-22", 0.2026*LN(MAX(MIN(500,AF30),20))-2.2638,0.2503*LN(MAX(MIN(500,AF30),20)) -2.5526))-$V$8) -> #N/A | Z31: =$V$7*IF(E$12<60,$V$13*($V$15*(-0.077*LN(MAX(MIN(500,AF30),10))+1.1737)-$V$17),$V$13*$V$15*((-0.077*LN(MAX(MIN(500,AF30),20))+1.0798)-$V$17)) -> #VALUE! | AA31: =$V$7*IF(E$12<60,$V$13*($V$15*(0.156*LN(MAX(MIN(500,AF30),10)) -1.7618)-$V$16),$V$13*$V$15*((0.2026*LN(MAX(MIN(500,AF30),20))-2.2638)-$V$16)) -> #VALUE!
B34: Unit ID / Mullion ID | E34: Mullion Length L (in) | H34: Adjacent support distance 1 D1 (in) | I34: Adjacent support distance 2 D2 (in) | J34: Product/ Joint Type/ Substrate | L34: Wall Zone | M34: Negative DP (PSF) | N34: Positive DP (PSF) | O34: Effective Wind Area (sqft) | P34: Dead Load Weight (lbs) | Q34: Dead Load Span (in) | R34: Max Y Moment (lbs-in) | S34: Required Deadload Strength (EIy) | U34: Windload Strength Frame Contribution (EIx) | V34: Tributary Length (in) | W34: Total Loading (lbs) | X34: Max Allowed Deflection (in) | Y34: Required EIx (lbs-in^2) | Z34: Required Max Moment x (lbs-in) | AA34: Max Moment Frame Contribution | AB34: MMx Mull Minimum (lbs-in) | AC34: Required Mullion Strength (EIx) | AD34: Mullion Reinforcement choices are static. New dimensions or product/joint types can change the type of mullions available. Verify that all chosen options are valid. | AI34: End Anchors | AK34: End Anchor Capacity (lbs) | AL34: End load (lbs) | AM34: Mullion Reinforcement Weight (lbs) | AP34: Final | AQ34: Lookup | AR34: Clad Bonelli | AS34: Imp Vista | AT34: End Load Reference | AU34: List | AV34: Window Type Anchor Choices | AW34: List | AX34: Nested Steel Stud Anchor Choices | AY34: List | AZ34: Wood Stud Anchor Choices | BA34: List | BB34: Steel Tube Anchor Choices | BC34: List | BD34: Engineered Lumber Anchor Choices | BE34: List | BF34: Pella Wood Spread Anchor Choices | BG34: List | BH34: Window Type Anchor Choices | BI34: List | BJ34: Nested Steel Stud Anchor Choices | BK34: List | BL34: Wood Stud Anchor Choices | BM34: List | BN34: Steel Tube Anchor Choices | BO34: List | BP34: Engineered Lumber Anchor Choices | BQ34: List | BR34: Pella Wood Spread Anchor Choices | BS34: Anchor Error | BT34: No Anchor Available | BV34: Mullion Error | BW34: Lighter Option Mullion | BX34: EIx list | BY34: MMxy and EIy list | BZ34: Frame Type Error | CA34: All | CF34: Nested Steel Stud | CK34: Wood Stud | CP34: Steel Tube | CU34: Engineered Lumber | CZ34: Wood Spread / Steel Plate | DE34: All | DJ34: Nested Steel Stud | DO34: Wood Stud | DT34: Steel Tube | DY34: Engineered Lumber | ED34: Wood Spread / Steel Plate
B35: Unit ID | L35: =$W$3 -> 4 | M35: =IFERROR(IF($AE$13="",IF($AG$19="Wind Loading",MIN($V$31,IF(E$11="ASCE 7-05",$U$26,$V$7)*$V$9*(IF($E$12<60,0.0771*LN(MAX(MIN(500,O35),10)) -1.2737,IF($E$11="ASCE 7-22",0.0524*LN(MAX(MIN(500,O35),50))-1.0278,0.0614*LN(MAX(MIN(500,O35),20)) -1.0829))-$V$8)),$V$7*IF(E$12<60,$V$13*($V$15*0.0771*LN(MAX(MIN(500,O35),10))-1.2737-$V$16),$V$13*$V$15*((0.0524*LN(MAX(MIN(500,O35),20))-1.0278)-$V$16))),-ABS($AE$13)),"") | N35: =IFERROR(IF($AE$15="",IF($AG$19="Wind Loading",MAX($U$31,IF(E$11="ASCE 7-05",$U$26,$V$7)*$V$9*((IF($E$12<60,-0.077*LN(MAX(MIN(500,O35),10))+1.1737,IF($E$11="ASCE 7-22",-0.077*LN(MAX(MIN(500,O35),20))+1.0798,-0.093*LN(MAX(MIN(500,O35),20))+1.1776)))+$V$8)),$V$7*IF(E$12<60,$V$13*($V$15*(-0.077*LN(MAX(MIN(500,O35),10))+1.1737)-$V$17),$V$13*$V$15*((-0.077*LN(MAX(MIN(500,O35),20))+1.0798)-$V$17))),ABS($AE$15)),"") | O35: =IF(BX42=0,"",IF(AG$14="Trapezoidal",BY42,BX42)) | R35: =P35*Q35/8 -> 0 | S35: =IF(5*(P35*Q35^3/(384*0.125))=0,0,5*(P35*Q35^3/(384*0.125))) -> 0 | U35: =VLOOKUP(J39,INDIRECT(VLOOKUP(J35,FrameStrength,2,FALSE)),3,FALSE) -> #N/A | V35: =(H35+I35)/2 -> 0 | W35: =MAX(-M35,N35)*O35 -> #VALUE! | X35: =IF(E35>162,(E35/240+0.25),IF(AND(E35<162,E35/175<0.75),E35/175,0.75)) -> 0 | Y35: =IFERROR(IF(AG$14="Trapezoidal",BY43,BX43)+IF($E$17="4",(400*E35^3)/(48*X35),0),0) -> 0 | Z35: =+($V35*MAX(-$M35,$N35)*$E35^2)/(144*8)+IF($E$17=4,(400*$E35)/4,0) -> #VALUE! | AA35: =VLOOKUP(J39,INDIRECT(VLOOKUP(J35,FrameStrength,2,FALSE)),2,FALSE) -> #N/A | AB35: =IFERROR(Z35-AA35,"") | AC35: =IFERROR(Y35-U35,"") | AD35: =IFERROR(IF(LEFT(J39,2)="As",VLOOKUP(J39,EIMM,4,FALSE),VLOOKUP(J35,EIMM,4,FALSE)),IF(AND(ISNUMBER(SEARCH("Impervia",J35)),ISNUMBER(SEARCH("door",J39))),'New Lookup Cells'!AF$10,IF(ISNUMBER(SEARCH("Impervia",J35)),'New Lookup Cells'!AF$7,IF(AND(ISNUMBER(SEARCH("250",J35)),ISNUMBER(SEARCH("door",J39))),'New Lookup Cells'!AF$14,IF(ISNUMBER(SEARCH("250",J35)),'New Lookup Cells'!AF$13,""))))) | AK35: =IFERROR(VLOOKUP(AI35,OFFSET(INDIRECT(AQ35),0,1),2,FALSE),"") | AL35: =IFERROR(ROUND(SQRT(P35^2+(W35/2+IF($E$17=4,200,0))^2),0),"") | AM35: NA | AN35: =IF(BW35>1,"Lighter Reinforcement Options Available","") | AP35: =_xlfn.CONCAT(AR35,AS40) | AQ35: =IFERROR(LEFT(AP35,LEN(AP35)-1),"") | AR35: =IFERROR(VLOOKUP(AF35,MullList,2,FALSE),"") | AS35: =IF(COUNTIF(imp_1,AF35)=1,"imp_1",IF(COUNTIF(imp_2,AF35)=1,"imp_2",IF(COUNTIF(imp_3,AF35)=1,"imp_3",IF(COUNTIF(impdoor,AF35)=1,"impdoor","")))) | AT35: =AL35 | AU35: =MATCH(AL35,INDIRECT(AP35),-1) -> #REF! | AV35: =IFERROR(VLOOKUP(AU35,INDIRECT(AQ35),2,FALSE),"----") -> ---- | AW35: =MATCH(AL35,INDIRECT(AP36),-1) -> #REF! | AX35: =IFERROR(VLOOKUP(AW35,INDIRECT(AQ36),2,FALSE),"----") -> ---- | AY35: =MATCH(AL35,INDIRECT(AP37),-1) -> #REF! | AZ35: =IFERROR(VLOOKUP(AY35,INDIRECT(AQ37),2,FALSE),"----") -> ---- | BA35: =MATCH(AL35,INDIRECT(AP38),-1) -> #REF! | BB35: =IFERROR(VLOOKUP(BA35,INDIRECT(AQ38),2,FALSE),"----") -> ---- | BC35: =MATCH(AL35,INDIRECT(AP39),-1) -> #REF! | BD35: =IFERROR(VLOOKUP(BC35,INDIRECT(AQ39),2,FALSE),"----") -> ---- | BE35: =MATCH(AL35,INDIRECT(AP40),-1) -> #REF! | BF35: =IFERROR(VLOOKUP(BE35,INDIRECT(AQ40),2,FALSE),"----") -> ---- | BG35: =MATCH(AL41,INDIRECT(AP41),-1) -> #REF! | BH35: =IFERROR(VLOOKUP(BG35,INDIRECT(AQ41),2,FALSE),"----") -> ---- | BI35: =MATCH(AL41,INDIRECT(AP42),-1) -> #REF! | BJ35: =IFERROR(VLOOKUP(BI35,INDIRECT(AQ42),2,FALSE),"----") -> ---- | BK35: =MATCH(AL41,INDIRECT(AP43),-1) -> #REF! | BL35: =IFERROR(VLOOKUP(BK35,INDIRECT(AQ43),2,FALSE),"----") -> ---- | BM35: =MATCH(AL41,INDIRECT(AP44),-1) -> #REF! | BN35: =IFERROR(VLOOKUP(BM35,INDIRECT(AQ44),2,FALSE),"----") -> ---- | BO35: =MATCH(AL41,INDIRECT(AP45),-1) -> #REF! | BP35: =IFERROR(VLOOKUP(BO35,INDIRECT(AQ45),2,FALSE),"----") -> ---- | BQ35: =MATCH(AL41,INDIRECT(AP46),-1) -> #REF! | BR35: =IFERROR(VLOOKUP(BQ35,INDIRECT(AQ46),2,FALSE),"----") -> ---- | BS35: =IF(AI35="",1,IF(COUNTIF(AV35:AV46,AI35)=0,2,1)) -> 1 | BT35: =IF(AP35="1",1,IF(AF35="",1,IF(AV35=".",2,1))) -> 1 | BV35: =IF(COUNTIF(CE35:CE46,AF35)=0,IF(AF35<>"",0,1),1) -> 1 | BW35: =IFERROR(MATCH(AF35,CE35:CE46,0),1) -> 1 | BX35: =IFERROR(IF(LEFT(J39,2)="As",VLOOKUP(J39,EIMM,2,FALSE),IF(AND(ISNUMBER(SEARCH("Impervia",J35)),ISNUMBER(SEARCH("door",J39))),VLOOKUP("Impervia Door",EIMM,2,FALSE),IF(AND(ISNUMBER(SEARCH("250",J35)),ISNUMBER(SEARCH("door",J39))),VLOOKUP("250 Series Door",EIMM,2,FALSE),VLOOKUP(J35,EIMM,2,FALSE)))),"") | BY35: =IFERROR(VLOOKUP(BX35,OFFSET(EIMM,0,1),2,FALSE),"") | BZ35: =IF((COUNTIF(INDIRECT(SUBSTITUTE(J35," ","_")),J39))=0,IF(J39="",1,0),1) -> #REF! | CA35: =MATCH(AC35,INDIRECT(BX35),-1) -> #REF! | CB35: {=IF(AND(INDEX(INDIRECT(BY35),CA35,4)>=$AB35,INDEX(INDIRECT(BY35),CA35,5)>=$S35,INDEX(INDIRECT(BY35),CA35,6)>=$R35),1,0)} -> #REF! | CC35: =MATCH(1,OFFSET(CB35:CB46,$W$2,0,COUNT(CB35:CB46)-$W$2),0) -> #REF! | CD35: =$W$2+CC35 -> #REF! | CE35: {=IFERROR(VLOOKUP(INDEX(CA35:CA46,CD35),INDIRECT(BY35),2,FALSE),"----")} -> ---- | CF35: =MATCH($AC35,SSEI,-1) -> #N/A | CG35: =IF(AND(INDEX(SSM,CF35,4)>=$AB35,INDEX(SSM,CF35,5)>=$S35,INDEX(SSM,CF35,6)>=$R35),1,0) -> #N/A | CH35: =MATCH(1,OFFSET(CG35:CG46,$W$2,0,COUNT(CG35:CG46)-$W$2),0) -> #REF! | CI35: =$W$2+CH35 -> #REF! | CJ35: =IFERROR(IF(AD36="Nested Steel Stud (wood infill)",VLOOKUP(INDEX(CF35:CF46,CI35),SSW,2,FALSE),VLOOKUP(INDEX(CF35:CF46,CI35),SSM,2,FALSE)),"----") -> ---- | CK35: =MATCH($AC35,WSEI,-1) -> #N/A | CL35: =IF(AND(INDEX(WSM,CK35,4)>=$AB35,INDEX(WSM,CK35,5)>=$S35,INDEX(WSM,CK35,6)>=$R35),1,0) -> #N/A | CM35: =MATCH(1,OFFSET(CL35:CL46,$W$2,0,COUNT(CL35:CL46)-$W$2),0) -> #REF! | CN35: =$W$2+CM35 -> #REF! | CO35: =IFERROR(VLOOKUP(INDEX(CK35:CK46,CN35),WSM,2,FALSE),"----") -> ---- | CP35: =MATCH($AC35,STEI,-1) -> #N/A | CQ35: =IF(AND(INDEX(STM,CP35,4)>=$AB35,INDEX(STM,CP35,5)>=$S35,INDEX(STM,CP35,6)>=$R35),1,0) -> #N/A | CR35: =MATCH(1,OFFSET(CQ35:CQ46,$W$2,0,COUNT(CQ35:CQ46)-$W$2),0) -> #REF! | CS35: =$W$2+CR35 -> #REF! | CT35: =IFERROR(VLOOKUP(INDEX(CP35:CP46,CS35),STM,2,FALSE),"----") -> ---- | CU35: =MATCH($AC35,ELEI,-1) -> #N/A | CV35: =IF(AND(INDEX(ELM,CU35,4)>=$AB35,INDEX(ELM,CU35,5)>=$S35,INDEX(ELM,CU35,6)>=$R35),1,0) -> #N/A | CW35: =MATCH(1,OFFSET(CV35:CV46,$W$2,0,COUNT(CV35:CV46)-$W$2),0) -> #REF! | CX35: =$W$2+CW35 -> #REF! | CY35: =IFERROR(VLOOKUP(INDEX(CU35:CU46,CX35),ELM,2,FALSE),"----") -> ---- | CZ35: =IF(LEFT($J35,7)="Clad Wo",MATCH($AC35,SPEIW,-1),MATCH($AC35,SPEI,-1)) -> #N/A | DA35: =IF(LEFT($J35,7)="Clad Wo",IF(AND(INDEX(SPPWS,CZ35,4)>=$AB35,INDEX(SPPWS,CZ35,5)>=$S35,INDEX(SPPWS,CZ35,6)>=$R35),1,0),IF(AND(INDEX(SPM,CZ35,4)>=$AB35,INDEX(SPM,CZ35,5)>=$S35,INDEX(SPM,CZ35,6)>=$R35),1,0)) -> #N/A | DB35: =MATCH(1,OFFSET(DA35:DA46,$W$2,0,COUNT(DA35:DA46)-$W$2),0) -> #REF! | DC35: =$W$2+DB35 -> #REF! | DD35: =IF(LEFT($J35,7)="Clad Wo",IFERROR(VLOOKUP(INDEX(CZ35:CZ46,DC35),SPPWS,2,FALSE),"----"),IFERROR(VLOOKUP(INDEX(CZ35:CZ46,DC35),SPM,2,FALSE),"----")) -> ---- | DE35: =MATCH(AC41,INDIRECT(BX35),-1) -> #REF! | DF35: {=IF(AND(INDEX(INDIRECT(BY35),DE35,4)>=$AB41,INDEX(INDIRECT(BY35),DE35,5)>=$S35,INDEX(INDIRECT(BY35),DE35,6)>=$R35),1,0)} -> #REF! | DG35: =MATCH(1,OFFSET(DF35:DF46,$W$2,0,COUNT(DF35:DF46)-$W$2),0) -> #REF! | DH35: =$W$2+DG35 -> #REF! | DI35: {=IFERROR(VLOOKUP(INDEX(DE35:DE46,DH35),INDIRECT(BY35),2,FALSE),"----")} -> ---- | DJ35: =MATCH($AC41,SSEI,-1) -> #N/A | DK35: =IF(AND(INDEX(SSM,DJ35,4)>=$AB41,INDEX(SSM,DJ35,5)>=$S35,INDEX(SSM,DJ35,6)>=$R35),1,0) -> #N/A | DL35: =MATCH(1,OFFSET(DK35:DK46,$W$2,0,COUNT(DK35:DK46)-$W$2),0) -> #REF! | DM35: =$W$2+DL35 -> #REF! | DN35: =IFERROR(IF(AD42="Nested Steel Stud (wood infill)",VLOOKUP(INDEX(DJ35:DJ46,DM35),SSW,2,FALSE),VLOOKUP(INDEX(DJ35:DJ46,DM35),SSM,2,FALSE)),"----") -> ---- | DO35: =MATCH($AC41,WSEI,-1) -> #N/A | DP35: =IF(AND(INDEX(WSM,DO35,4)>=$AB41,INDEX(WSM,DO35,5)>=$S35,INDEX(WSM,DO35,6)>=$R35),1,0) -> #N/A | DQ35: =MATCH(1,OFFSET(DP35:DP46,$W$2,0,COUNT(DP35:DP46)-$W$2),0) -> #REF! | DR35: =$W$2+DQ35 -> #REF! | DS35: =IFERROR(VLOOKUP(INDEX(DO35:DO46,DR35),WSM,2,FALSE),"----") -> ---- | DT35: =MATCH($AC41,STEI,-1) -> #N/A | DU35: =IF(AND(INDEX(STM,DT35,4)>=$AB41,INDEX(STM,DT35,5)>=$S35,INDEX(STM,DT35,6)>=$R35),1,0) -> #N/A | DV35: =MATCH(1,OFFSET(DU35:DU46,$W$2,0,COUNT(DU35:DU46)-$W$2),0) -> #REF! | DW35: =$W$2+DV35 -> #REF! | DX35: =IFERROR(VLOOKUP(INDEX(DT35:DT46,DW35),STM,2,FALSE),"----") -> ---- | DY35: =MATCH($AC41,ELEI,-1) -> #N/A | DZ35: =IF(AND(INDEX(ELM,DY35,4)>=$AB41,INDEX(ELM,DY35,5)>=$S35,INDEX(ELM,DY35,6)>=$R35),1,0) -> #N/A | EA35: =MATCH(1,OFFSET(DZ35:DZ46,$W$2,0,COUNT(DZ35:DZ46)-$W$2),0) -> #REF! | EB35: =EA35+$W$2 -> #REF! | EC35: =IFERROR(VLOOKUP(INDEX(DY35:DY46,EB35),ELM,2,FALSE),"----") -> ---- | ED35: =IF(LEFT($J35,7)="Clad Wo",MATCH($AC41,SPEIW,-1),MATCH($AC41,SPEI,-1)) -> #N/A | EE35: =IF(LEFT($J35,7)="Clad Wo",IF(AND(INDEX(SPPWS,ED35,4)>=$AB41,INDEX(SPPWS,ED35,5)>=$S35,INDEX(SPPWS,ED35,6)>=$R35),1,0),IF(AND(INDEX(SPM,ED35,4)>=$AB41,INDEX(SPM,ED35,5)>=$S35,INDEX(SPM,ED35,6)>=$R35),1,0)) -> #N/A | EF35: =MATCH(1,OFFSET(EE35:EE46,$W$2,0,COUNT(EE35:EE46)-$W$2),0) -> #REF! | EG35: =$W$2+EF35 -> #REF! | EH35: =IF(LEFT($J35,7)="Clad Wo",IFERROR(VLOOKUP(INDEX(ED35:ED46,EG35),SPPWS,2,FALSE),"----"),IFERROR(VLOOKUP(INDEX(ED35:ED46,EG35),SPM,2,FALSE),"----")) -> ----
AD36: Nested Steel Stud | AK36: =IFERROR(VLOOKUP(AI36,OFFSET(INDIRECT(AQ36),0,1),2,FALSE),"") | AM36: =IFERROR(Q35/12*ROUND(VLOOKUP(AF36,OFFSET(SSM,0,1),6,FALSE),2),"") | AN36: =IF(BW36>1,"Lighter Reinforcement Options Available","") | AP36: =_xlfn.CONCAT(AR36,AS40) | AQ36: =IFERROR(LEFT(AP36,LEN(AP36)-1),"") | AR36: =IFERROR(VLOOKUP(AF36,MullList,2,FALSE),"") | AS36: =IF(COUNTIF(Vista_1,AF35)=1,"Vista_1",IF(COUNTIF(Vista_2,AF35)=1,"Vista_2","")) | AT36: =AL35 | AU36: =AU35-1 -> #REF! | AV36: =IFERROR(VLOOKUP(AU36,INDIRECT(AQ35),2,FALSE),"----") -> ---- | AW36: =AW35-1 -> #REF! | AX36: =IFERROR(VLOOKUP(AW36,INDIRECT(AQ36),2,FALSE),"----") -> ---- | AY36: =AY35-1 -> #REF! | AZ36: =IFERROR(VLOOKUP(AY36,INDIRECT(AQ37),2,FALSE),"----") -> ---- | BA36: =BA35-1 -> #REF! | BB36: =IFERROR(VLOOKUP(BA36,INDIRECT(AQ38),2,FALSE),"----") -> ---- | BC36: =BC35-1 -> #REF! | BD36: =IFERROR(VLOOKUP(BC36,INDIRECT(AQ39),2,FALSE),"----") -> ---- | BE36: =BE35-1 -> #REF! | BF36: =IFERROR(VLOOKUP(BE36,INDIRECT(AQ40),2,FALSE),"----") -> ---- | BG36: =BG35-1 -> #REF! | BH36: =IFERROR(VLOOKUP(BG36,INDIRECT(AQ41),2,FALSE),"----") -> ---- | BI36: =BI35-1 -> #REF! | BJ36: =IFERROR(VLOOKUP(BI36,INDIRECT(AQ42),2,FALSE),"----") -> ---- | BK36: =BK35-1 -> #REF! | BL36: =IFERROR(VLOOKUP(BK36,INDIRECT(AQ43),2,FALSE),"----") -> ---- | BM36: =BM35-1 -> #REF! | BN36: =IFERROR(VLOOKUP(BM36,INDIRECT(AQ44),2,FALSE),"----") -> ---- | BO36: =BO35-1 -> #REF! | BP36: =IFERROR(VLOOKUP(BO36,INDIRECT(AQ45),2,FALSE),"----") -> ---- | BQ36: =BQ35-1 -> #REF! | BR36: =IFERROR(VLOOKUP(BQ36,INDIRECT(AQ46),2,FALSE),"----") -> ---- | BS36: =IF(AI36="",1,IF(COUNTIF(AX35:AX46,AI36)=0,2,1)) -> 1 | BT36: =IF(AF36="",1,IF(AX35=".",2,1)) -> 1 | BV36: =IF(COUNTIF(CJ35:CJ46,AF36)=0,IF(AF36<>"",0,1),1) -> 1 | BW36: =IFERROR(MATCH(AF36,CJ35:CJ46,0),1) -> 1 | CA36: =CA35-1 -> #REF! | CB36: {=IF(AND(INDEX(INDIRECT(BY35),CA36,4)>=$AB35,INDEX(INDIRECT(BY35),CA36,5)>=$S35,INDEX(INDIRECT(BY35),CA36,6)>=$R35),1,0)} -> #REF! | CC36: =MATCH(1,OFFSET(CB35:CB46,CD35,0,COUNT(CB35:CB46)-CD35),0) -> #REF! | CD36: =CD35+CC36 -> #REF! | CE36: {=IFERROR(VLOOKUP(INDEX(CA35:CA46,CD36),INDIRECT(BY35),2,FALSE),"----")} -> ---- | CF36: =CF35-1 -> #N/A | CG36: =IF(AND(INDEX(SSM,CF36,4)>=$AB35,INDEX(SSM,CF36,5)>=$S35,INDEX(SSM,CF36,6)>=$R35),1,0) -> #N/A | CH36: =MATCH(1,OFFSET(CG35:CG46,CI35,0,COUNT(CG35:CG46)-CI35),0) -> #REF! | CI36: =CI35+CH36 -> #REF! | CJ36: =IFERROR(IF(AD36="Nested Steel Stud (wood infill)",VLOOKUP(INDEX(CF35:CF46,CI36),SSW,2,FALSE),VLOOKUP(INDEX(CF35:CF46,CI36),SSM,2,FALSE)),"----") -> ---- | CK36: =CK35-1 -> #N/A | CL36: =IF(AND(INDEX(WSM,CK36,4)>=$AB35,INDEX(WSM,CK36,5)>=$S35,INDEX(WSM,CK36,6)>=$R35),1,0) -> #N/A | CM36: =MATCH(1,OFFSET(CL35:CL46,CN35,0,COUNT(CL35:CL46)-CN35),0) -> #REF! | CN36: =CM36+CN35 -> #REF! | CO36: =IFERROR(VLOOKUP(INDEX(CK35:CK46,CN36),WSM,2,FALSE),"----") -> ---- | CP36: =CP35-1 -> #N/A | CQ36: =IF(AND(INDEX(STM,CP36,4)>=$AB35,INDEX(STM,CP36,5)>=$S35,INDEX(STM,CP36,6)>=$R35),1,0) -> #N/A | CR36: =MATCH(1,OFFSET(CQ35:CQ46,CS35,0,COUNT(CQ35:CQ46)-CS35),0) -> #REF! | CS36: =CR36+CS35 -> #REF! | CT36: =IFERROR(VLOOKUP(INDEX(CP35:CP46,CS36),STM,2,FALSE),"----") -> ---- | CU36: =CU35-1 -> #N/A | CV36: =IF(AND(INDEX(ELM,CU36,4)>=$AB35,INDEX(ELM,CU36,5)>=$S35,INDEX(ELM,CU36,6)>=$R35),1,0) -> #N/A | CW36: =MATCH(1,OFFSET(CV35:CV46,CX35,0,COUNT(CV35:CV46)-CX35),0) -> #REF! | CX36: =CW36+CX35 -> #REF! | CY36: =IFERROR(VLOOKUP(INDEX(CU35:CU46,CX36),ELM,2,FALSE),"----") -> ---- | CZ36: =CZ35-1 -> #N/A | DA36: =IF(LEFT($J35,7)="Clad Wo",IF(AND(INDEX(SPPWS,CZ36,4)>=$AB35,INDEX(SPPWS,CZ36,5)>=$S35,INDEX(SPPWS,CZ36,6)>=$R35),1,0),IF(AND(INDEX(SPM,CZ36,4)>=$AB35,INDEX(SPM,CZ36,5)>=$S35,INDEX(SPM,CZ36,6)>=$R35),1,0)) -> #N/A | DB36: =MATCH(1,OFFSET(DA35:DA46,DC35,0,COUNT(DA35:DA46)-DC35),0) -> #REF! | DC36: =DC35+DB36 -> #REF! | DD36: =IF(LEFT($J35,7)="Clad Wo",IFERROR(VLOOKUP(INDEX(CZ35:CZ46,DC36),SPPWS,2,FALSE),"----"),IFERROR(VLOOKUP(INDEX(CZ35:CZ46,DC36),SPM,2,FALSE),"----")) -> ---- | DE36: =DE35-1 -> #REF! | DF36: {=IF(AND(INDEX(INDIRECT(BY35),DE36,4)>=$AB41,INDEX(INDIRECT(BY35),DE36,5)>=$S35,INDEX(INDIRECT(BY35),DE36,6)>=$R35),1,0)} -> #REF! | DG36: =MATCH(1,OFFSET(DF35:DF46,DH35,0,COUNT(DF35:DF46)-DH35),0) -> #REF! | DH36: =DH35+DG36 -> #REF! | DI36: {=IFERROR(VLOOKUP(INDEX(DE35:DE46,DH36),INDIRECT(BY35),2,FALSE),"----")} -> ---- | DJ36: =DJ35-1 -> #N/A | DK36: =IF(AND(INDEX(SSM,DJ36,4)>=$AB41,INDEX(SSM,DJ36,5)>=$S35,INDEX(SSM,DJ36,6)>=$R35),1,0) -> #N/A | DL36: =MATCH(1,OFFSET(DK35:DK46,DM35,0,COUNT(DK35:DK46)-DM35),0) -> #REF! | DM36: =DL36+DM35 -> #REF! | DN36: =IFERROR(IF(AD42="Nested Steel Stud (wood infill)",VLOOKUP(INDEX(DJ35:DJ46,DM36),SSW,2,FALSE),VLOOKUP(INDEX(DJ35:DJ46,DM36),SSM,2,FALSE)),"----") -> ---- | DO36: =DO35-1 -> #N/A | DP36: =IF(AND(INDEX(WSM,DO36,4)>=$AB41,INDEX(WSM,DO36,5)>=$S35,INDEX(WSM,DO36,6)>=$R35),1,0) -> #N/A | DQ36: =MATCH(1,OFFSET(DP35:DP46,DR35,0,COUNT(DP35:DP46)-DR35),0) -> #REF! | DR36: =DQ36+DR35 -> #REF! | DS36: =IFERROR(VLOOKUP(INDEX(DO35:DO46,DR36),WSM,2,FALSE),"----") -> ---- | DT36: =DT35-1 -> #N/A | DU36: =IF(AND(INDEX(STM,DT36,4)>=$AB41,INDEX(STM,DT36,5)>=$S35,INDEX(STM,DT36,6)>=$R35),1,0) -> #N/A | DV36: =MATCH(1,OFFSET(DU35:DU46,DW35,0,COUNT(DU35:DU46)-DW35),0) -> #REF! | DW36: =DV36+DW35 -> #REF! | DX36: =IFERROR(VLOOKUP(INDEX(DT35:DT46,DW36),STM,2,FALSE),"----") -> ---- | DY36: =DY35-1 -> #N/A | DZ36: =IF(AND(INDEX(ELM,DY36,4)>=$AB41,INDEX(ELM,DY36,5)>=$S35,INDEX(ELM,DY36,6)>=$R35),1,0) -> #N/A | EA36: =MATCH(1,OFFSET(DZ35:DZ46,EB35,0,COUNT(DZ35:DZ46)-EB35),0) -> #REF! | EB36: =EA36+EB35 -> #REF! | EC36: =IFERROR(VLOOKUP(INDEX(DY35:DY46,EB36),ELM,2,FALSE),"----") -> ---- | ED36: =ED35-1 -> #N/A | EE36: =IF(LEFT($J35,7)="Clad Wo",IF(AND(INDEX(SPPWS,ED36,4)>=$AB41,INDEX(SPPWS,ED36,5)>=$S35,INDEX(SPPWS,ED36,6)>=$R35),1,0),IF(AND(INDEX(SPM,ED36,4)>=$AB41,INDEX(SPM,ED36,5)>=$S35,INDEX(SPM,ED36,6)>=$R35),1,0)) -> #N/A | EF36: =MATCH(1,OFFSET(EE35:EE46,EG35,0,COUNT(EE35:EE46)-EG35),0) -> #REF! | EG36: =EG35+EF36 -> #REF! | EH36: =IF(LEFT($J35,7)="Clad Wo",IFERROR(VLOOKUP(INDEX(ED35:ED46,EG36),SPPWS,2,FALSE),"----"),IFERROR(VLOOKUP(INDEX(ED35:ED46,EG36),SPM,2,FALSE),"----")) -> ----
AD37: Wood Stud Framing | AK37: =IFERROR(VLOOKUP(AI37,OFFSET(INDIRECT(AQ37),0,1),2,FALSE),"") | AM37: =IFERROR(Q35/12*ROUND(VLOOKUP(AF37,OFFSET(WSM,0,1),6,FALSE),2),"") | AN37: =IF(BW37>1,"Lighter Reinforcement Options Available","") | AP37: =_xlfn.CONCAT(AR37,AS40) | AQ37: =IFERROR(LEFT(AP37,LEN(AP37)-1),"") | AR37: =IFERROR(VLOOKUP(AF37,MullList,2,FALSE),"") | AT37: =AL35 | AU37: =AU36-1 -> #REF! | AV37: =IFERROR(VLOOKUP(AU37,INDIRECT(AQ35),2,FALSE),"----") -> ---- | AW37: =AW36-1 -> #REF! | AX37: =IFERROR(VLOOKUP(AW37,INDIRECT(AQ36),2,FALSE),"----") -> ---- | AY37: =AY36-1 -> #REF! | AZ37: =IFERROR(VLOOKUP(AY37,INDIRECT(AQ37),2,FALSE),"----") -> ---- | BA37: =BA36-1 -> #REF! | BB37: =IFERROR(VLOOKUP(BA37,INDIRECT(AQ38),2,FALSE),"----") -> ---- | BC37: =BC36-1 -> #REF! | BD37: =IFERROR(VLOOKUP(BC37,INDIRECT(AQ39),2,FALSE),"----") -> ---- | BE37: =BE36-1 -> #REF! | BF37: =IFERROR(VLOOKUP(BE37,INDIRECT(AQ40),2,FALSE),"----") -> ---- | BG37: =BG36-1 -> #REF! | BH37: =IFERROR(VLOOKUP(BG37,INDIRECT(AQ41),2,FALSE),"----") -> ---- | BI37: =BI36-1 -> #REF! | BJ37: =IFERROR(VLOOKUP(BI37,INDIRECT(AQ42),2,FALSE),"----") -> ---- | BK37: =BK36-1 -> #REF! | BL37: =IFERROR(VLOOKUP(BK37,INDIRECT(AQ43),2,FALSE),"----") -> ---- | BM37: =BM36-1 -> #REF! | BN37: =IFERROR(VLOOKUP(BM37,INDIRECT(AQ44),2,FALSE),"----") -> ---- | BO37: =BO36-1 -> #REF! | BP37: =IFERROR(VLOOKUP(BO37,INDIRECT(AQ45),2,FALSE),"----") -> ---- | BQ37: =BQ36-1 -> #REF! | BR37: =IFERROR(VLOOKUP(BQ37,INDIRECT(AQ46),2,FALSE),"----") -> ---- | BS37: =IF(AI37="",1,IF(COUNTIF(AZ35:AZ46,AI37)=0,2,1)) -> 1 | BT37: =IF(AF37="",1,IF(AZ35=".",2,1)) -> 1 | BV37: =IF(COUNTIF(CO35:CO46,AF37)=0,IF(AF37<>"",0,1),1) -> 1 | BW37: =IFERROR(MATCH(AF37,CO35:CO46,0),1) -> 1 | CA37: =CA36-1 -> #REF! | CB37: {=IF(AND(INDEX(INDIRECT(BY35),CA37,4)>=$AB35,INDEX(INDIRECT(BY35),CA37,5)>=$S35,INDEX(INDIRECT(BY35),CA37,6)>=$R35),1,0)} -> #REF! | CC37: =MATCH(1,OFFSET(CB35:CB46,CD36,0,COUNT(CB35:CB46)-CD36),0) -> #REF! | CD37: =CD36+CC37 -> #REF! | CE37: {=IFERROR(VLOOKUP(INDEX(CA35:CA46,CD37),INDIRECT(BY35),2,FALSE),"----")} -> ---- | CF37: =CF36-1 -> #N/A | CG37: =IF(AND(INDEX(SSM,CF37,4)>=$AB35,INDEX(SSM,CF37,5)>=$S35,INDEX(SSM,CF37,6)>=$R35),1,0) -> #N/A | CH37: =MATCH(1,OFFSET(CG35:CG46,CI36,0,COUNT(CG35:CG46)-CI36),0) -> #REF! | CI37: =CI36+CH37 -> #REF! | CJ37: =IFERROR(IF(AD36="Nested Steel Stud (wood infill)",VLOOKUP(INDEX(CF35:CF46,CI37),SSW,2,FALSE),VLOOKUP(INDEX(CF35:CF46,CI37),SSM,2,FALSE)),"----") -> ---- | CK37: =CK36-1 -> #N/A | CL37: =IF(AND(INDEX(WSM,CK37,4)>=$AB35,INDEX(WSM,CK37,5)>=$S35,INDEX(WSM,CK37,6)>=$R35),1,0) -> #N/A | CM37: =MATCH(1,OFFSET(CL35:CL46,CN36,0,COUNT(CL35:CL46)-CN36),0) -> #REF! | CN37: =CM37+CN36 -> #REF! | CO37: =IFERROR(VLOOKUP(INDEX(CK35:CK46,CN37),WSM,2,FALSE),"----") -> ---- | CP37: =CP36-1 -> #N/A | CQ37: =IF(AND(INDEX(STM,CP37,4)>=$AB35,INDEX(STM,CP37,5)>=$S35,INDEX(STM,CP37,6)>=$R35),1,0) -> #N/A | CR37: =MATCH(1,OFFSET(CQ35:CQ46,CS36,0,COUNT(CQ35:CQ46)-CS36),0) -> #REF! | CS37: =CR37+CS36 -> #REF! | CT37: =IFERROR(VLOOKUP(INDEX(CP35:CP46,CS37),STM,2,FALSE),"----") -> ---- | CU37: =CU36-1 -> #N/A | CV37: =IF(AND(INDEX(ELM,CU37,4)>=$AB35,INDEX(ELM,CU37,5)>=$S35,INDEX(ELM,CU37,6)>=$R35),1,0) -> #N/A | CW37: =MATCH(1,OFFSET(CV35:CV46,CX36,0,COUNT(CV35:CV46)-CX36),0) -> #REF! | CX37: =CW37+CX36 -> #REF! | CY37: =IFERROR(VLOOKUP(INDEX(CU35:CU46,CX37),ELM,2,FALSE),"----") -> ---- | CZ37: =CZ36-1 -> #N/A | DA37: =IF(LEFT($J35,7)="Clad Wo",IF(AND(INDEX(SPPWS,CZ37,4)>=$AB35,INDEX(SPPWS,CZ37,5)>=$S35,INDEX(SPPWS,CZ37,6)>=$R35),1,0),IF(AND(INDEX(SPM,CZ37,4)>=$AB35,INDEX(SPM,CZ37,5)>=$S35,INDEX(SPM,CZ37,6)>=$R35),1,0)) -> #N/A | DB37: =MATCH(1,OFFSET(DA35:DA46,DC36,0,COUNT(DA35:DA46)-DC36),0) -> #REF! | DC37: =DC36+DB37 -> #REF! | DD37: =IF(LEFT($J35,7)="Clad Wo",IFERROR(VLOOKUP(INDEX(CZ35:CZ46,DC37),SPPWS,2,FALSE),"----"),IFERROR(VLOOKUP(INDEX(CZ35:CZ46,DC37),SPM,2,FALSE),"----")) -> ---- | DE37: =DE36-1 -> #REF! | DF37: {=IF(AND(INDEX(INDIRECT(BY35),DE37,4)>=$AB41,INDEX(INDIRECT(BY35),DE37,5)>=$S35,INDEX(INDIRECT(BY35),DE37,6)>=$R35),1,0)} -> #REF! | DG37: =MATCH(1,OFFSET(DF35:DF46,DH36,0,COUNT(DF35:DF46)-DH36),0) -> #REF! | DH37: =DH36+DG37 -> #REF! | DI37: {=IFERROR(VLOOKUP(INDEX(DE35:DE46,DH37),INDIRECT(BY35),2,FALSE),"----")} -> ---- | DJ37: =DJ36-1 -> #N/A | DK37: =IF(AND(INDEX(SSM,DJ37,4)>=$AB41,INDEX(SSM,DJ37,5)>=$S35,INDEX(SSM,DJ37,6)>=$R35),1,0) -> #N/A | DL37: =MATCH(1,OFFSET(DK35:DK46,DM36,0,COUNT(DK35:DK46)-DM36),0) -> #REF! | DM37: =DL37+DM36 -> #REF! | DN37: =IFERROR(IF(AD42="Nested Steel Stud (wood infill)",VLOOKUP(INDEX(DJ35:DJ46,DM37),SSW,2,FALSE),VLOOKUP(INDEX(DJ35:DJ46,DM37),SSM,2,FALSE)),"----") -> ---- | DO37: =DO36-1 -> #N/A | DP37: =IF(AND(INDEX(WSM,DO37,4)>=$AB41,INDEX(WSM,DO37,5)>=$S35,INDEX(WSM,DO37,6)>=$R35),1,0) -> #N/A | DQ37: =MATCH(1,OFFSET(DP35:DP46,DR36,0,COUNT(DP35:DP46)-DR36),0) -> #REF! | DR37: =DQ37+DR36 -> #REF! | DS37: =IFERROR(VLOOKUP(INDEX(DO35:DO46,DR37),WSM,2,FALSE),"----") -> ---- | DT37: =DT36-1 -> #N/A | DU37: =IF(AND(INDEX(STM,DT37,4)>=$AB41,INDEX(STM,DT37,5)>=$S35,INDEX(STM,DT37,6)>=$R35),1,0) -> #N/A | DV37: =MATCH(1,OFFSET(DU35:DU46,DW36,0,COUNT(DU35:DU46)-DW36),0) -> #REF! | DW37: =DV37+DW36 -> #REF! | DX37: =IFERROR(VLOOKUP(INDEX(DT35:DT46,DW37),STM,2,FALSE),"----") -> ---- | DY37: =DY36-1 -> #N/A | DZ37: =IF(AND(INDEX(ELM,DY37,4)>=$AB41,INDEX(ELM,DY37,5)>=$S35,INDEX(ELM,DY37,6)>=$R35),1,0) -> #N/A | EA37: =MATCH(1,OFFSET(DZ35:DZ46,EB36,0,COUNT(DZ35:DZ46)-EB36),0) -> #REF! | EB37: =EA37+EB36 -> #REF! | EC37: =IFERROR(VLOOKUP(INDEX(DY35:DY46,EB37),ELM,2,FALSE),"----") -> ---- | ED37: =ED36-1 -> #N/A | EE37: =IF(LEFT($J35,7)="Clad Wo",IF(AND(INDEX(SPPWS,ED37,4)>=$AB41,INDEX(SPPWS,ED37,5)>=$S35,INDEX(SPPWS,ED37,6)>=$R35),1,0),IF(AND(INDEX(SPM,ED37,4)>=$AB41,INDEX(SPM,ED37,5)>=$S35,INDEX(SPM,ED37,6)>=$R35),1,0)) -> #N/A | EF37: =MATCH(1,OFFSET(EE35:EE46,EG36,0,COUNT(EE35:EE46)-EG36),0) -> #REF! | EG37: =EG36+EF37 -> #REF! | EH37: =IF(LEFT($J35,7)="Clad Wo",IFERROR(VLOOKUP(INDEX(ED35:ED46,EG37),SPPWS,2,FALSE),"----"),IFERROR(VLOOKUP(INDEX(ED35:ED46,EG37),SPM,2,FALSE),"----")) -> ----
AD38: Steel Tube | AK38: =IFERROR(VLOOKUP(AI38,OFFSET(INDIRECT(AQ38),0,1),2,FALSE),"") | AM38: =IFERROR(Q35/12*ROUND(VLOOKUP(AF38,OFFSET(STM,0,1),6,FALSE),2),"") | AN38: =IF(BW38>1,"Lighter Reinforcement Options Available","") | AP38: =_xlfn.CONCAT(AR38,AS40) | AQ38: =IFERROR(LEFT(AP38,LEN(AP38)-1),"") | AR38: =IFERROR(VLOOKUP(AF38,MullList,2,FALSE),"") | AT38: =AL35 | AU38: =AU37-1 -> #REF! | AV38: =IFERROR(VLOOKUP(AU38,INDIRECT(AQ35),2,FALSE),"----") -> ---- | AW38: =AW37-1 -> #REF! | AX38: =IFERROR(VLOOKUP(AW38,INDIRECT(AQ36),2,FALSE),"----") -> ---- | AY38: =AY37-1 -> #REF! | AZ38: =IFERROR(VLOOKUP(AY38,INDIRECT(AQ37),2,FALSE),"----") -> ---- | BA38: =BA37-1 -> #REF! | BB38: =IFERROR(VLOOKUP(BA38,INDIRECT(AQ38),2,FALSE),"----") -> ---- | BC38: =BC37-1 -> #REF! | BD38: =IFERROR(VLOOKUP(BC38,INDIRECT(AQ39),2,FALSE),"----") -> ---- | BE38: =BE37-1 -> #REF! | BF38: =IFERROR(VLOOKUP(BE38,INDIRECT(AQ40),2,FALSE),"----") -> ---- | BG38: =BG37-1 -> #REF! | BH38: =IFERROR(VLOOKUP(BG38,INDIRECT(AQ41),2,FALSE),"----") -> ---- | BI38: =BI37-1 -> #REF! | BJ38: =IFERROR(VLOOKUP(BI38,INDIRECT(AQ42),2,FALSE),"----") -> ---- | BK38: =BK37-1 -> #REF! | BL38: =IFERROR(VLOOKUP(BK38,INDIRECT(AQ43),2,FALSE),"----") -> ---- | BM38: =BM37-1 -> #REF! | BN38: =IFERROR(VLOOKUP(BM38,INDIRECT(AQ44),2,FALSE),"----") -> ---- | BO38: =BO37-1 -> #REF! | BP38: =IFERROR(VLOOKUP(BO38,INDIRECT(AQ45),2,FALSE),"----") -> ---- | BQ38: =BQ37-1 -> #REF! | BR38: =IFERROR(VLOOKUP(BQ38,INDIRECT(AQ46),2,FALSE),"----") -> ---- | BS38: =IF(AI38="",1,IF(COUNTIF(BB35:BB46,AI38)=0,2,1)) -> 1 | BT38: =IF(AF38="",1,IF(BB35=".",2,1)) -> 1 | BV38: =IF(COUNTIF(CT35:CT46,AF38)=0,IF(AF38<>"",0,1),1) -> 1 | BW38: =IFERROR(MATCH(AF38,CT35:CT46,0),1) -> 1 | CA38: =CA37-1 -> #REF! | CB38: {=IF(AND(INDEX(INDIRECT(BY35),CA38,4)>=$AB35,INDEX(INDIRECT(BY35),CA38,5)>=$S35,INDEX(INDIRECT(BY35),CA38,6)>=$R35),1,0)} -> #REF! | CC38: =MATCH(1,OFFSET(CB35:CB46,CD37,0,COUNT(CB35:CB46)-CD37),0) -> #REF! | CD38: =CD37+CC38 -> #REF! | CE38: {=IFERROR(VLOOKUP(INDEX(CA35:CA46,CD38),INDIRECT(BY35),2,FALSE),"----")} -> ---- | CF38: =CF37-1 -> #N/A | CG38: =IF(AND(INDEX(SSM,CF38,4)>=$AB35,INDEX(SSM,CF38,5)>=$S35,INDEX(SSM,CF38,6)>=$R35),1,0) -> #N/A | CH38: =MATCH(1,OFFSET(CG35:CG46,CI37,0,COUNT(CG35:CG46)-CI37),0) -> #REF! | CI38: =CI37+CH38 -> #REF! | CJ38: =IFERROR(IF(AD36="Nested Steel Stud (wood infill)",VLOOKUP(INDEX(CF35:CF46,CI38),SSW,2,FALSE),VLOOKUP(INDEX(CF35:CF46,CI38),SSM,2,FALSE)),"----") -> ---- | CK38: =CK37-1 -> #N/A | CL38: =IF(AND(INDEX(WSM,CK38,4)>=$AB35,INDEX(WSM,CK38,5)>=$S35,INDEX(WSM,CK38,6)>=$R35),1,0) -> #N/A | CM38: =MATCH(1,OFFSET(CL35:CL46,CN37,0,COUNT(CL35:CL46)-CN37),0) -> #REF! | CN38: =CM38+CN37 -> #REF! | CO38: =IFERROR(VLOOKUP(INDEX(CK35:CK46,CN38),WSM,2,FALSE),"----") -> ---- | CP38: =CP37-1 -> #N/A | CQ38: =IF(AND(INDEX(STM,CP38,4)>=$AB35,INDEX(STM,CP38,5)>=$S35,INDEX(STM,CP38,6)>=$R35),1,0) -> #N/A | CR38: =MATCH(1,OFFSET(CQ35:CQ46,CS37,0,COUNT(CQ35:CQ46)-CS37),0) -> #REF! | CS38: =CR38+CS37 -> #REF! | CT38: =IFERROR(VLOOKUP(INDEX(CP35:CP46,CS38),STM,2,FALSE),"----") -> ---- | CU38: =CU37-1 -> #N/A | CV38: =IF(AND(INDEX(ELM,CU38,4)>=$AB35,INDEX(ELM,CU38,5)>=$S35,INDEX(ELM,CU38,6)>=$R35),1,0) -> #N/A | CW38: =MATCH(1,OFFSET(CV35:CV46,CX37,0,COUNT(CV35:CV46)-CX37),0) -> #REF! | CX38: =CW38+CX37 -> #REF! | CY38: =IFERROR(VLOOKUP(INDEX(CU35:CU46,CX38),ELM,2,FALSE),"----") -> ---- | CZ38: =CZ37-1 -> #N/A | DA38: =IF(LEFT($J35,7)="Clad Wo",IF(AND(INDEX(SPPWS,CZ38,4)>=$AB35,INDEX(SPPWS,CZ38,5)>=$S35,INDEX(SPPWS,CZ38,6)>=$R35),1,0),IF(AND(INDEX(SPM,CZ38,4)>=$AB35,INDEX(SPM,CZ38,5)>=$S35,INDEX(SPM,CZ38,6)>=$R35),1,0)) -> #N/A | DB38: =MATCH(1,OFFSET(DA35:DA46,DC37,0,COUNT(DA35:DA46)-DC37),0) -> #REF! | DC38: =DC37+DB38 -> #REF! | DD38: =IF(LEFT($J35,7)="Clad Wo",IFERROR(VLOOKUP(INDEX(CZ35:CZ46,DC38),SPPWS,2,FALSE),"----"),IFERROR(VLOOKUP(INDEX(CZ35:CZ46,DC38),SPM,2,FALSE),"----")) -> ---- | DE38: =DE37-1 -> #REF! | DF38: {=IF(AND(INDEX(INDIRECT(BY35),DE38,4)>=$AB41,INDEX(INDIRECT(BY35),DE38,5)>=$S35,INDEX(INDIRECT(BY35),DE38,6)>=$R35),1,0)} -> #REF! | DG38: =MATCH(1,OFFSET(DF35:DF46,DH37,0,COUNT(DF35:DF46)-DH37),0) -> #REF! | DH38: =DH37+DG38 -> #REF! | DI38: {=IFERROR(VLOOKUP(INDEX(DE35:DE46,DH38),INDIRECT(BY35),2,FALSE),"----")} -> ---- | DJ38: =DJ37-1 -> #N/A | DK38: =IF(AND(INDEX(SSM,DJ38,4)>=$AB41,INDEX(SSM,DJ38,5)>=$S35,INDEX(SSM,DJ38,6)>=$R35),1,0) -> #N/A | DL38: =MATCH(1,OFFSET(DK35:DK46,DM37,0,COUNT(DK35:DK46)-DM37),0) -> #REF! | DM38: =DL38+DM37 -> #REF! | DN38: =IFERROR(IF(AD42="Nested Steel Stud (wood infill)",VLOOKUP(INDEX(DJ35:DJ46,DM38),SSW,2,FALSE),VLOOKUP(INDEX(DJ35:DJ46,DM38),SSM,2,FALSE)),"----") -> ---- | DO38: =DO37-1 -> #N/A | DP38: =IF(AND(INDEX(WSM,DO38,4)>=$AB41,INDEX(WSM,DO38,5)>=$S35,INDEX(WSM,DO38,6)>=$R35),1,0) -> #N/A | DQ38: =MATCH(1,OFFSET(DP35:DP46,DR37,0,COUNT(DP35:DP46)-DR37),0) -> #REF! | DR38: =DQ38+DR37 -> #REF! | DS38: =IFERROR(VLOOKUP(INDEX(DO35:DO46,DR38),WSM,2,FALSE),"----") -> ---- | DT38: =DT37-1 -> #N/A | DU38: =IF(AND(INDEX(STM,DT38,4)>=$AB41,INDEX(STM,DT38,5)>=$S35,INDEX(STM,DT38,6)>=$R35),1,0) -> #N/A | DV38: =MATCH(1,OFFSET(DU35:DU46,DW37,0,COUNT(DU35:DU46)-DW37),0) -> #REF! | DW38: =DV38+DW37 -> #REF! | DX38: =IFERROR(VLOOKUP(INDEX(DT35:DT46,DW38),STM,2,FALSE),"----") -> ---- | DY38: =DY37-1 -> #N/A | DZ38: =IF(AND(INDEX(ELM,DY38,4)>=$AB41,INDEX(ELM,DY38,5)>=$S35,INDEX(ELM,DY38,6)>=$R35),1,0) -> #N/A | EA38: =MATCH(1,OFFSET(DZ35:DZ46,EB37,0,COUNT(DZ35:DZ46)-EB37),0) -> #REF! | EB38: =EA38+EB37 -> #REF! | EC38: =IFERROR(VLOOKUP(INDEX(DY35:DY46,EB38),ELM,2,FALSE),"----") -> ---- | ED38: =ED37-1 -> #N/A | EE38: =IF(LEFT($J35,7)="Clad Wo",IF(AND(INDEX(SPPWS,ED38,4)>=$AB41,INDEX(SPPWS,ED38,5)>=$S35,INDEX(SPPWS,ED38,6)>=$R35),1,0),IF(AND(INDEX(SPM,ED38,4)>=$AB41,INDEX(SPM,ED38,5)>=$S35,INDEX(SPM,ED38,6)>=$R35),1,0)) -> #N/A | EF38: =MATCH(1,OFFSET(EE35:EE46,EG37,0,COUNT(EE35:EE46)-EG37),0) -> #REF! | EG38: =EG37+EF38 -> #REF! | EH38: =IF(LEFT($J35,7)="Clad Wo",IFERROR(VLOOKUP(INDEX(ED35:ED46,EG38),SPPWS,2,FALSE),"----"),IFERROR(VLOOKUP(INDEX(ED35:ED46,EG38),SPM,2,FALSE),"----")) -> ----
AD39: Engineered Lumber | AK39: =IFERROR(VLOOKUP(AI39,OFFSET(INDIRECT(AQ39),0,1),2,FALSE),"") | AM39: =IFERROR(Q35/12*ROUND(VLOOKUP(AF39,OFFSET(ELM,0,1),6,FALSE),2),"") | AN39: =IF(BW39>1,"Lighter Reinforcement Options Available","") | AP39: =_xlfn.CONCAT(AR39,AS40) | AQ39: =IFERROR(LEFT(AP39,LEN(AP39)-1),"") | AR39: =IFERROR(VLOOKUP(AF39,MullList,2,FALSE),"") | AT39: =AL35 | AU39: =AU38-1 -> #REF! | AV39: =IFERROR(VLOOKUP(AU39,INDIRECT(AQ35),2,FALSE),"----") -> ---- | AW39: =AW38-1 -> #REF! | AX39: =IFERROR(VLOOKUP(AW39,INDIRECT(AQ36),2,FALSE),"----") -> ---- | AY39: =AY38-1 -> #REF! | AZ39: =IFERROR(VLOOKUP(AY39,INDIRECT(AQ37),2,FALSE),"----") -> ---- | BA39: =BA38-1 -> #REF! | BB39: =IFERROR(VLOOKUP(BA39,INDIRECT(AQ38),2,FALSE),"----") -> ---- | BC39: =BC38-1 -> #REF! | BD39: =IFERROR(VLOOKUP(BC39,INDIRECT(AQ39),2,FALSE),"----") -> ---- | BE39: =BE38-1 -> #REF! | BF39: =IFERROR(VLOOKUP(BE39,INDIRECT(AQ40),2,FALSE),"----") -> ---- | BG39: =BG38-1 -> #REF! | BH39: =IFERROR(VLOOKUP(BG39,INDIRECT(AQ41),2,FALSE),"----") -> ---- | BI39: =BI38-1 -> #REF! | BJ39: =IFERROR(VLOOKUP(BI39,INDIRECT(AQ42),2,FALSE),"----") -> ---- | BK39: =BK38-1 -> #REF! | BL39: =IFERROR(VLOOKUP(BK39,INDIRECT(AQ43),2,FALSE),"----") -> ---- | BM39: =BM38-1 -> #REF! | BN39: =IFERROR(VLOOKUP(BM39,INDIRECT(AQ44),2,FALSE),"----") -> ---- | BO39: =BO38-1 -> #REF! | BP39: =IFERROR(VLOOKUP(BO39,INDIRECT(AQ45),2,FALSE),"----") -> ---- | BQ39: =BQ38-1 -> #REF! | BR39: =IFERROR(VLOOKUP(BQ39,INDIRECT(AQ46),2,FALSE),"----") -> ---- | BS39: =IF(AI39="",1,IF(COUNTIF(BD35:BD46,AI39)=0,2,1)) -> 1 | BT39: =IF(AF39="",1,IF(BD35=".",2,1)) -> 1 | BV39: =IF(COUNTIF(CY35:CY46,AF39)=0,IF(AF39<>"",0,1),1) -> 1 | BW39: =IFERROR(MATCH(AF39,CY35:CY46,0),1) -> 1 | CA39: =CA38-1 -> #REF! | CB39: {=IF(AND(INDEX(INDIRECT(BY35),CA39,4)>=$AB35,INDEX(INDIRECT(BY35),CA39,5)>=$S35,INDEX(INDIRECT(BY35),CA39,6)>=$R35),1,0)} -> #REF! | CC39: =MATCH(1,OFFSET(CB35:CB46,CD38,0,COUNT(CB35:CB46)-CD38),0) -> #REF! | CD39: =CD38+CC39 -> #REF! | CE39: {=IFERROR(VLOOKUP(INDEX(CA35:CA46,CD39),INDIRECT(BY35),2,FALSE),"----")} -> ---- | CF39: =CF38-1 -> #N/A | CG39: =IF(AND(INDEX(SSM,CF39,4)>=$AB35,INDEX(SSM,CF39,5)>=$S35,INDEX(SSM,CF39,6)>=$R35),1,0) -> #N/A | CH39: =MATCH(1,OFFSET(CG35:CG46,CI38,0,COUNT(CG35:CG46)-CI38),0) -> #REF! | CI39: =CI38+CH39 -> #REF! | CJ39: =IFERROR(IF(AD36="Nested Steel Stud (wood infill)",VLOOKUP(INDEX(CF35:CF46,CI39),SSW,2,FALSE),VLOOKUP(INDEX(CF35:CF46,CI39),SSM,2,FALSE)),"----") -> ---- | CK39: =CK38-1 -> #N/A | CL39: =IF(AND(INDEX(WSM,CK39,4)>=$AB35,INDEX(WSM,CK39,5)>=$S35,INDEX(WSM,CK39,6)>=$R35),1,0) -> #N/A | CM39: =MATCH(1,OFFSET(CL35:CL46,CN38,0,COUNT(CL35:CL46)-CN38),0) -> #REF! | CN39: =CM39+CN38 -> #REF! | CO39: =IFERROR(VLOOKUP(INDEX(CK35:CK46,CN39),WSM,2,FALSE),"----") -> ---- | CP39: =CP38-1 -> #N/A | CQ39: =IF(AND(INDEX(STM,CP39,4)>=$AB35,INDEX(STM,CP39,5)>=$S35,INDEX(STM,CP39,6)>=$R35),1,0) -> #N/A | CR39: =MATCH(1,OFFSET(CQ35:CQ46,CS38,0,COUNT(CQ35:CQ46)-CS38),0) -> #REF! | CS39: =CR39+CS38 -> #REF! | CT39: =IFERROR(VLOOKUP(INDEX(CP35:CP46,CS39),STM,2,FALSE),"----") -> ---- | CU39: =CU38-1 -> #N/A | CV39: =IF(AND(INDEX(ELM,CU39,4)>=$AB35,INDEX(ELM,CU39,5)>=$S35,INDEX(ELM,CU39,6)>=$R35),1,0) -> #N/A | CW39: =MATCH(1,OFFSET(CV35:CV46,CX38,0,COUNT(CV35:CV46)-CX38),0) -> #REF! | CX39: =CW39+CX38 -> #REF! | CY39: =IFERROR(VLOOKUP(INDEX(CU35:CU46,CX39),ELM,2,FALSE),"----") -> ---- | CZ39: =CZ38-1 -> #N/A | DA39: =IF(LEFT($J35,7)="Clad Wo",IF(AND(INDEX(SPPWS,CZ39,4)>=$AB35,INDEX(SPPWS,CZ39,5)>=$S35,INDEX(SPPWS,CZ39,6)>=$R35),1,0),IF(AND(INDEX(SPM,CZ39,4)>=$AB35,INDEX(SPM,CZ39,5)>=$S35,INDEX(SPM,CZ39,6)>=$R35),1,0)) -> #N/A | DB39: =MATCH(1,OFFSET(DA35:DA46,DC38,0,COUNT(DA35:DA46)-DC38),0) -> #REF! | DC39: =DC38+DB39 -> #REF! | DD39: =IF(LEFT($J35,7)="Clad Wo",IFERROR(VLOOKUP(INDEX(CZ35:CZ46,DC39),SPPWS,2,FALSE),"----"),IFERROR(VLOOKUP(INDEX(CZ35:CZ46,DC39),SPM,2,FALSE),"----")) -> ---- | DE39: =DE38-1 -> #REF! | DF39: {=IF(AND(INDEX(INDIRECT(BY35),DE39,4)>=$AB41,INDEX(INDIRECT(BY35),DE39,5)>=$S35,INDEX(INDIRECT(BY35),DE39,6)>=$R35),1,0)} -> #REF! | DG39: =MATCH(1,OFFSET(DF35:DF46,DH38,0,COUNT(DF35:DF46)-DH38),0) -> #REF! | DH39: =DH38+DG39 -> #REF! | DI39: {=IFERROR(VLOOKUP(INDEX(DE35:DE46,DH39),INDIRECT(BY35),2,FALSE),"----")} -> ---- | DJ39: =DJ38-1 -> #N/A | DK39: =IF(AND(INDEX(SSM,DJ39,4)>=$AB41,INDEX(SSM,DJ39,5)>=$S35,INDEX(SSM,DJ39,6)>=$R35),1,0) -> #N/A | DL39: =MATCH(1,OFFSET(DK35:DK46,DM38,0,COUNT(DK35:DK46)-DM38),0) -> #REF! | DM39: =DL39+DM38 -> #REF! | DN39: =IFERROR(IF(AD42="Nested Steel Stud (wood infill)",VLOOKUP(INDEX(DJ35:DJ46,DM39),SSW,2,FALSE),VLOOKUP(INDEX(DJ35:DJ46,DM39),SSM,2,FALSE)),"----") -> ---- | DO39: =DO38-1 -> #N/A | DP39: =IF(AND(INDEX(WSM,DO39,4)>=$AB41,INDEX(WSM,DO39,5)>=$S35,INDEX(WSM,DO39,6)>=$R35),1,0) -> #N/A | DQ39: =MATCH(1,OFFSET(DP35:DP46,DR38,0,COUNT(DP35:DP46)-DR38),0) -> #REF! | DR39: =DQ39+DR38 -> #REF! | DS39: =IFERROR(VLOOKUP(INDEX(DO35:DO46,DR39),WSM,2,FALSE),"----") -> ---- | DT39: =DT38-1 -> #N/A | DU39: =IF(AND(INDEX(STM,DT39,4)>=$AB41,INDEX(STM,DT39,5)>=$S35,INDEX(STM,DT39,6)>=$R35),1,0) -> #N/A | DV39: =MATCH(1,OFFSET(DU35:DU46,DW38,0,COUNT(DU35:DU46)-DW38),0) -> #REF! | DW39: =DV39+DW38 -> #REF! | DX39: =IFERROR(VLOOKUP(INDEX(DT35:DT46,DW39),STM,2,FALSE),"----") -> ---- | DY39: =DY38-1 -> #N/A | DZ39: =IF(AND(INDEX(ELM,DY39,4)>=$AB41,INDEX(ELM,DY39,5)>=$S35,INDEX(ELM,DY39,6)>=$R35),1,0) -> #N/A | EA39: =MATCH(1,OFFSET(DZ35:DZ46,EB38,0,COUNT(DZ35:DZ46)-EB38),0) -> #REF! | EB39: =EA39+EB38 -> #REF! | EC39: =IFERROR(VLOOKUP(INDEX(DY35:DY46,EB39),ELM,2,FALSE),"----") -> ---- | ED39: =ED38-1 -> #N/A | EE39: =IF(LEFT($J35,7)="Clad Wo",IF(AND(INDEX(SPPWS,ED39,4)>=$AB41,INDEX(SPPWS,ED39,5)>=$S35,INDEX(SPPWS,ED39,6)>=$R35),1,0),IF(AND(INDEX(SPM,ED39,4)>=$AB41,INDEX(SPM,ED39,5)>=$S35,INDEX(SPM,ED39,6)>=$R35),1,0)) -> #N/A | EF39: =MATCH(1,OFFSET(EE35:EE46,EG38,0,COUNT(EE35:EE46)-EG38),0) -> #REF! | EG39: =EG38+EF39 -> #REF! | EH39: =IF(LEFT($J35,7)="Clad Wo",IFERROR(VLOOKUP(INDEX(ED35:ED46,EG39),SPPWS,2,FALSE),"----"),IFERROR(VLOOKUP(INDEX(ED35:ED46,EG39),SPM,2,FALSE),"----")) -> ----
AD40: =IF(LEFT(J35,7)="Clad Wo","Pella Wood Spr / Steel Pte","Steel Plate") -> Steel Plate | AK40: =IFERROR(VLOOKUP(AI40,OFFSET(INDIRECT(AQ40),0,1),2,FALSE),"") | AM40: =IFERROR(Q35/12*ROUND(VLOOKUP(AF40,OFFSET(SPM,0,1),6,FALSE),2),"") | AN40: =IF(BW40>1,"Lighter Reinforcement Options Available","") | AP40: =_xlfn.CONCAT(AR40,AS40) | AQ40: =IFERROR(LEFT(AP40,LEN(AP40)-1),"") | AR40: =IFERROR(VLOOKUP(AF40,MullList,2,FALSE),"") | AS40: =IFERROR(VLOOKUP(J43, WallType,2,FALSE),"") | AT40: =AL35 | AU40: =AU39-1 -> #REF! | AV40: =IFERROR(VLOOKUP(AU40,INDIRECT(AQ35),2,FALSE),"----") -> ---- | AW40: =AW39-1 -> #REF! | AX40: =IFERROR(VLOOKUP(AW40,INDIRECT(AQ36),2,FALSE),"----") -> ---- | AY40: =AY39-1 -> #REF! | AZ40: =IFERROR(VLOOKUP(AY40,INDIRECT(AQ37),2,FALSE),"----") -> ---- | BA40: =BA39-1 -> #REF! | BB40: =IFERROR(VLOOKUP(BA40,INDIRECT(AQ38),2,FALSE),"----") -> ---- | BC40: =BC39-1 -> #REF! | BD40: =IFERROR(VLOOKUP(BC40,INDIRECT(AQ39),2,FALSE),"----") -> ---- | BE40: =BE39-1 -> #REF! | BF40: =IFERROR(VLOOKUP(BE40,INDIRECT(AQ40),2,FALSE),"----") -> ---- | BG40: =BG39-1 -> #REF! | BH40: =IFERROR(VLOOKUP(BG40,INDIRECT(AQ41),2,FALSE),"----") -> ---- | BI40: =BI39-1 -> #REF! | BJ40: =IFERROR(VLOOKUP(BI40,INDIRECT(AQ42),2,FALSE),"----") -> ---- | BK40: =BK39-1 -> #REF! | BL40: =IFERROR(VLOOKUP(BK40,INDIRECT(AQ43),2,FALSE),"----") -> ---- | BM40: =BM39-1 -> #REF! | BN40: =IFERROR(VLOOKUP(BM40,INDIRECT(AQ44),2,FALSE),"----") -> ---- | BO40: =BO39-1 -> #REF! | BP40: =IFERROR(VLOOKUP(BO40,INDIRECT(AQ45),2,FALSE),"----") -> ---- | BQ40: =BQ39-1 -> #REF! | BR40: =IFERROR(VLOOKUP(BQ40,INDIRECT(AQ46),2,FALSE),"----") -> ---- | BS40: =IF(AI40="",1,IF(COUNTIF(BF35:BF46,AI40)=0,2,1)) -> 1 | BT40: =IF(AF40="",1,IF(BF35=".",2,1)) -> 1 | BV40: =IF(COUNTIF(DD35:DD46,AF40)=0,IF(AF40<>"",0,1),1) -> 1 | BW40: =IFERROR(MATCH(AF40,DD35:DD46,0),1) -> 1 | BX40: Area | CA40: =CA39-1 -> #REF! | CB40: {=IF(AND(INDEX(INDIRECT(BY35),CA40,4)>=$AB35,INDEX(INDIRECT(BY35),CA40,5)>=$S35,INDEX(INDIRECT(BY35),CA40,6)>=$R35),1,0)} -> #REF! | CC40: =MATCH(1,OFFSET(CB35:CB46,CD39,0,COUNT(CB35:CB46)-CD39),0) -> #REF! | CD40: =CD39+CC40 -> #REF! | CE40: {=IFERROR(VLOOKUP(INDEX(CA35:CA46,CD40),INDIRECT(BY35),2,FALSE),"----")} -> ---- | CF40: =CF39-1 -> #N/A | CG40: =IF(AND(INDEX(SSM,CF40,4)>=$AB35,INDEX(SSM,CF40,5)>=$S35,INDEX(SSM,CF40,6)>=$R35),1,0) -> #N/A | CH40: =MATCH(1,OFFSET(CG35:CG46,CI39,0,COUNT(CG35:CG46)-CI39),0) -> #REF! | CI40: =CI39+CH40 -> #REF! | CJ40: =IFERROR(IF(AD36="Nested Steel Stud (wood infill)",VLOOKUP(INDEX(CF35:CF46,CI40),SSW,2,FALSE),VLOOKUP(INDEX(CF35:CF46,CI40),SSM,2,FALSE)),"----") -> ---- | CK40: =CK39-1 -> #N/A | CL40: =IF(AND(INDEX(WSM,CK40,4)>=$AB35,INDEX(WSM,CK40,5)>=$S35,INDEX(WSM,CK40,6)>=$R35),1,0) -> #N/A | CM40: =MATCH(1,OFFSET(CL35:CL46,CN39,0,COUNT(CL35:CL46)-CN39),0) -> #REF! | CN40: =CM40+CN39 -> #REF! | CO40: =IFERROR(VLOOKUP(INDEX(CK35:CK46,CN40),WSM,2,FALSE),"----") -> ---- | CP40: =CP39-1 -> #N/A | CQ40: =IF(AND(INDEX(STM,CP40,4)>=$AB35,INDEX(STM,CP40,5)>=$S35,INDEX(STM,CP40,6)>=$R35),1,0) -> #N/A | CR40: =MATCH(1,OFFSET(CQ35:CQ46,CS39,0,COUNT(CQ35:CQ46)-CS39),0) -> #REF! | CS40: =CR40+CS39 -> #REF! | CT40: =IFERROR(VLOOKUP(INDEX(CP35:CP46,CS40),STM,2,FALSE),"----") -> ---- | CU40: =CU39-1 -> #N/A | CV40: =IF(AND(INDEX(ELM,CU40,4)>=$AB35,INDEX(ELM,CU40,5)>=$S35,INDEX(ELM,CU40,6)>=$R35),1,0) -> #N/A | CW40: =MATCH(1,OFFSET(CV35:CV46,CX39,0,COUNT(CV35:CV46)-CX39),0) -> #REF! | CX40: =CW40+CX39 -> #REF! | CY40: =IFERROR(VLOOKUP(INDEX(CU35:CU46,CX40),ELM,2,FALSE),"----") -> ---- | CZ40: =CZ39-1 -> #N/A | DA40: =IF(LEFT($J35,7)="Clad Wo",IF(AND(INDEX(SPPWS,CZ40,4)>=$AB35,INDEX(SPPWS,CZ40,5)>=$S35,INDEX(SPPWS,CZ40,6)>=$R35),1,0),IF(AND(INDEX(SPM,CZ40,4)>=$AB35,INDEX(SPM,CZ40,5)>=$S35,INDEX(SPM,CZ40,6)>=$R35),1,0)) -> #N/A | DB40: =MATCH(1,OFFSET(DA35:DA46,DC39,0,COUNT(DA35:DA46)-DC39),0) -> #REF! | DC40: =DC39+DB40 -> #REF! | DD40: =IF(LEFT($J35,7)="Clad Wo",IFERROR(VLOOKUP(INDEX(CZ35:CZ46,DC40),SPPWS,2,FALSE),"----"),IFERROR(VLOOKUP(INDEX(CZ35:CZ46,DC40),SPM,2,FALSE),"----")) -> ---- | DE40: =DE39-1 -> #REF! | DF40: {=IF(AND(INDEX(INDIRECT(BY35),DE40,4)>=$AB41,INDEX(INDIRECT(BY35),DE40,5)>=$S35,INDEX(INDIRECT(BY35),DE40,6)>=$R35),1,0)} -> #REF! | DG40: =MATCH(1,OFFSET(DF35:DF46,DH39,0,COUNT(DF35:DF46)-DH39),0) -> #REF! | DH40: =DH39+DG40 -> #REF! | DI40: {=IFERROR(VLOOKUP(INDEX(DE35:DE46,DH40),INDIRECT(BY35),2,FALSE),"----")} -> ---- | DJ40: =DJ39-1 -> #N/A | DK40: =IF(AND(INDEX(SSM,DJ40,4)>=$AB41,INDEX(SSM,DJ40,5)>=$S35,INDEX(SSM,DJ40,6)>=$R35),1,0) -> #N/A | DL40: =MATCH(1,OFFSET(DK35:DK46,DM39,0,COUNT(DK35:DK46)-DM39),0) -> #REF! | DM40: =DL40+DM39 -> #REF! | DN40: =IFERROR(IF(AD42="Nested Steel Stud (wood infill)",VLOOKUP(INDEX(DJ35:DJ46,DM40),SSW,2,FALSE),VLOOKUP(INDEX(DJ35:DJ46,DM40),SSM,2,FALSE)),"----") -> ---- | DO40: =DO39-1 -> #N/A | DP40: =IF(AND(INDEX(WSM,DO40,4)>=$AB41,INDEX(WSM,DO40,5)>=$S35,INDEX(WSM,DO40,6)>=$R35),1,0) -> #N/A | DQ40: =MATCH(1,OFFSET(DP35:DP46,DR39,0,COUNT(DP35:DP46)-DR39),0) -> #REF! | DR40: =DQ40+DR39 -> #REF! | DS40: =IFERROR(VLOOKUP(INDEX(DO35:DO46,DR40),WSM,2,FALSE),"----") -> ---- | DT40: =DT39-1 -> #N/A | DU40: =IF(AND(INDEX(STM,DT40,4)>=$AB41,INDEX(STM,DT40,5)>=$S35,INDEX(STM,DT40,6)>=$R35),1,0) -> #N/A | DV40: =MATCH(1,OFFSET(DU35:DU46,DW39,0,COUNT(DU35:DU46)-DW39),0) -> #REF! | DW40: =DV40+DW39 -> #REF! | DX40: =IFERROR(VLOOKUP(INDEX(DT35:DT46,DW40),STM,2,FALSE),"----") -> ---- | DY40: =DY39-1 -> #N/A | DZ40: =IF(AND(INDEX(ELM,DY40,4)>=$AB41,INDEX(ELM,DY40,5)>=$S35,INDEX(ELM,DY40,6)>=$R35),1,0) -> #N/A | EA40: =MATCH(1,OFFSET(DZ35:DZ46,EB39,0,COUNT(DZ35:DZ46)-EB39),0) -> #REF! | EB40: =EA40+EB39 -> #REF! | EC40: =IFERROR(VLOOKUP(INDEX(DY35:DY46,EB40),ELM,2,FALSE),"----") -> ---- | ED40: =ED39-1 -> #N/A | EE40: =IF(LEFT($J35,7)="Clad Wo",IF(AND(INDEX(SPPWS,ED40,4)>=$AB41,INDEX(SPPWS,ED40,5)>=$S35,INDEX(SPPWS,ED40,6)>=$R35),1,0),IF(AND(INDEX(SPM,ED40,4)>=$AB41,INDEX(SPM,ED40,5)>=$S35,INDEX(SPM,ED40,6)>=$R35),1,0)) -> #N/A | EF40: =MATCH(1,OFFSET(EE35:EE46,EG39,0,COUNT(EE35:EE46)-EG39),0) -> #REF! | EG40: =EG39+EF40 -> #REF! | EH40: =IF(LEFT($J35,7)="Clad Wo",IFERROR(VLOOKUP(INDEX(ED35:ED46,EG40),SPPWS,2,FALSE),"----"),IFERROR(VLOOKUP(INDEX(ED35:ED46,EG40),SPM,2,FALSE),"----")) -> ----
B41: Mullion ID | L41: =L35+1 -> 5 | M41: =IFERROR(IF($AE$17="",IF($AG$19="Wind Loading",MIN($V$31,IF(E$11="ASCE 7-05",$U$26,$V$7)*$V$9*(IF($E$12<60,0.156*LN(MAX(MIN(500,O35),10)) -1.7618,IF($E$11="ASCE 7-22", 0.2026*LN(MAX(MIN(500,O35),20))-2.2638,0.2503*LN(MAX(MIN(500,O35),20)) -2.5526))-$V$8)),$V$7*IF(E$12<60,$V$13*($V$15*(0.156*LN(MAX(MIN(500,O35),10)) -1.7618)-$V$16),$V$13*$V$15*((0.2026*LN(MAX(MIN(500,O35),20))-2.2638)-$V$16))),-ABS($AE$17)),"") | N41: =IFERROR(IF($AE$19="",IF($AG$19="Wind Loading",MAX($U$31,IF(E$11="ASCE 7-05",$U$26,$V$7)*$V$9*((IF($E$12<60,-0.077*LN(MAX(MIN(500,O35),10))+1.1737,IF($E$11="ASCE 7-22",-0.077*LN(MAX(MIN(500,O35),20))+1.0798,-0.093*LN(MAX(MIN(500,O35),20))+1.1776)))+$V$8)),$V$7*IF(E$12<60,$V$13*($V$15*(-0.077*LN(MAX(MIN(500,O35),10))+1.1737)-$V$17),$V$13*$V$15*((-0.077*LN(MAX(MIN(500,O35),20))+1.0798)-$V$17))),ABS($AE$19)),"") | W41: =MAX(-M41,N41)*O35 -> #VALUE! | Y41: =IFERROR(IF(AG$14="Trapezoidal",BY44,BX44)+IF($E$17="4",(400*E35^3)/(48*X35),0),0) -> 0 | Z41: =+($V35*MAX(-$M41,$N41)*$E35^2)/(144*8)+IF($E$17=4,(400*$E35)/4,0) -> #VALUE! | AB41: =IFERROR(Z41-AA35,"") | AC41: =IFERROR(Y41-U35,"") | AD41: =AD35 | AK41: =IFERROR(VLOOKUP(AI41,OFFSET(INDIRECT(AQ41),0,1),2,FALSE),"") | AL41: =IFERROR(ROUND(SQRT(P35^2+(W41/2+IF($E$17=4,200,0))^2),0),"") | AM41: NA | AN41: =IF(BW41>1,"Lighter Reinforcement Options Available","") | AP41: =_xlfn.CONCAT(AR41,AS46) | AQ41: =IFERROR(LEFT(AP41,LEN(AP41)-1),"") | AR41: =IFERROR(VLOOKUP(AF41,MullList,2,FALSE),"") | AS41: =IF(COUNTIF(imp_1,AF41)=1,"imp_1",IF(COUNTIF(imp_2,AF41)=1,"imp_2",IF(COUNTIF(imp_3,AF41)=1,"imp_3",IF(COUNTIF(impdoor,AF41)=1,"impdoor","")))) | AT41: =AL41 | AU41: =AU40-1 -> #REF! | AV41: =IFERROR(VLOOKUP(AU41,INDIRECT(AQ35),2,FALSE),"----") -> ---- | AW41: =AW40-1 -> #REF! | AX41: =IFERROR(VLOOKUP(AW41,INDIRECT(AQ36),2,FALSE),"----") -> ---- | AY41: =AY40-1 -> #REF! | AZ41: =IFERROR(VLOOKUP(AY41,INDIRECT(AQ37),2,FALSE),"----") -> ---- | BA41: =BA40-1 -> #REF! | BB41: =IFERROR(VLOOKUP(BA41,INDIRECT(AQ38),2,FALSE),"----") -> ---- | BC41: =BC40-1 -> #REF! | BD41: =IFERROR(VLOOKUP(BC41,INDIRECT(AQ39),2,FALSE),"----") -> ---- | BE41: =BE40-1 -> #REF! | BF41: =IFERROR(VLOOKUP(BE41,INDIRECT(AQ40),2,FALSE),"----") -> ---- | BG41: =BG40-1 -> #REF! | BH41: =IFERROR(VLOOKUP(BG41,INDIRECT(AQ41),2,FALSE),"----") -> ---- | BI41: =BI40-1 -> #REF! | BJ41: =IFERROR(VLOOKUP(BI41,INDIRECT(AQ42),2,FALSE),"----") -> ---- | BK41: =BK40-1 -> #REF! | BL41: =IFERROR(VLOOKUP(BK41,INDIRECT(AQ43),2,FALSE),"----") -> ---- | BM41: =BM40-1 -> #REF! | BN41: =IFERROR(VLOOKUP(BM41,INDIRECT(AQ44),2,FALSE),"----") -> ---- | BO41: =BO40-1 -> #REF! | BP41: =IFERROR(VLOOKUP(BO41,INDIRECT(AQ45),2,FALSE),"----") -> ---- | BQ41: =BQ40-1 -> #REF! | BR41: =IFERROR(VLOOKUP(BQ41,INDIRECT(AQ46),2,FALSE),"----") -> ---- | BS41: =IF(AI41="",1,IF(COUNTIF(BH35:BH46,AI41)=0,2,1)) -> 1 | BT41: =IF(AP41="1",1,IF(AF41="",1,IF(BH35=".",2,1))) -> 1 | BV41: =IF(COUNTIF(DI35:DI46,AF41)=0,IF(AF41<>"",0,1),1) -> 1 | BW41: =IFERROR(MATCH(AF41,DI35:DI46,0),1) -> 1 | BX41: Rect | BY41: Trap/Tri | CA41: =CA40-1 -> #REF! | CB41: {=IF(AND(INDEX(INDIRECT(BY35),CA41,4)>=$AB35,INDEX(INDIRECT(BY35),CA41,5)>=$S35,INDEX(INDIRECT(BY35),CA41,6)>=$R35),1,0)} -> #REF! | CC41: =MATCH(1,OFFSET(CB35:CB46,CD40,0,COUNT(CB35:CB46)-CD40),0) -> #REF! | CD41: =CD40+CC41 -> #REF! | CE41: {=IFERROR(VLOOKUP(INDEX(CA35:CA46,CD41),INDIRECT(BY35),2,FALSE),"----")} -> ---- | CF41: =CF40-1 -> #N/A | CG41: =IF(AND(INDEX(SSM,CF41,4)>=$AB35,INDEX(SSM,CF41,5)>=$S35,INDEX(SSM,CF41,6)>=$R35),1,0) -> #N/A | CH41: =MATCH(1,OFFSET(CG35:CG46,CI40,0,COUNT(CG35:CG46)-CI40),0) -> #REF! | CI41: =CI40+CH41 -> #REF! | CJ41: =IFERROR(IF(AD36="Nested Steel Stud (wood infill)",VLOOKUP(INDEX(CF35:CF46,CI41),SSW,2,FALSE),VLOOKUP(INDEX(CF35:CF46,CI41),SSM,2,FALSE)),"----") -> ---- | CK41: =CK40-1 -> #N/A | CL41: =IF(AND(INDEX(WSM,CK41,4)>=$AB35,INDEX(WSM,CK41,5)>=$S35,INDEX(WSM,CK41,6)>=$R35),1,0) -> #N/A | CM41: =MATCH(1,OFFSET(CL35:CL46,CN40,0,COUNT(CL35:CL46)-CN40),0) -> #REF! | CN41: =CM41+CN40 -> #REF! | CO41: =IFERROR(VLOOKUP(INDEX(CK35:CK46,CN41),WSM,2,FALSE),"----") -> ---- | CP41: =CP40-1 -> #N/A | CQ41: =IF(AND(INDEX(STM,CP41,4)>=$AB35,INDEX(STM,CP41,5)>=$S35,INDEX(STM,CP41,6)>=$R35),1,0) -> #N/A | CR41: =MATCH(1,OFFSET(CQ35:CQ46,CS40,0,COUNT(CQ35:CQ46)-CS40),0) -> #REF! | CS41: =CR41+CS40 -> #REF! | CT41: =IFERROR(VLOOKUP(INDEX(CP35:CP46,CS41),STM,2,FALSE),"----") -> ---- | CU41: =CU40-1 -> #N/A | CV41: =IF(AND(INDEX(ELM,CU41,4)>=$AB35,INDEX(ELM,CU41,5)>=$S35,INDEX(ELM,CU41,6)>=$R35),1,0) -> #N/A | CW41: =MATCH(1,OFFSET(CV35:CV46,CX40,0,COUNT(CV35:CV46)-CX40),0) -> #REF! | CX41: =CW41+CX40 -> #REF! | CY41: =IFERROR(VLOOKUP(INDEX(CU35:CU46,CX41),ELM,2,FALSE),"----") -> ---- | CZ41: =CZ40-1 -> #N/A | DA41: =IF(LEFT($J35,7)="Clad Wo",IF(AND(INDEX(SPPWS,CZ41,4)>=$AB35,INDEX(SPPWS,CZ41,5)>=$S35,INDEX(SPPWS,CZ41,6)>=$R35),1,0),IF(AND(INDEX(SPM,CZ41,4)>=$AB35,INDEX(SPM,CZ41,5)>=$S35,INDEX(SPM,CZ41,6)>=$R35),1,0)) -> #N/A | DB41: =MATCH(1,OFFSET(DA35:DA46,DC40,0,COUNT(DA35:DA46)-DC40),0) -> #REF! | DC41: =DC40+DB41 -> #REF! | DD41: =IF(LEFT($J35,7)="Clad Wo",IFERROR(VLOOKUP(INDEX(CZ35:CZ46,DC41),SPPWS,2,FALSE),"----"),IFERROR(VLOOKUP(INDEX(CZ35:CZ46,DC41),SPM,2,FALSE),"----")) -> ---- | DE41: =DE40-1 -> #REF! | DF41: {=IF(AND(INDEX(INDIRECT(BY35),DE41,4)>=$AB41,INDEX(INDIRECT(BY35),DE41,5)>=$S35,INDEX(INDIRECT(BY35),DE41,6)>=$R35),1,0)} -> #REF! | DG41: =MATCH(1,OFFSET(DF35:DF46,DH40,0,COUNT(DF35:DF46)-DH40),0) -> #REF! | DH41: =DH40+DG41 -> #REF! | DI41: {=IFERROR(VLOOKUP(INDEX(DE35:DE46,DH41),INDIRECT(BY35),2,FALSE),"----")} -> ---- | DJ41: =DJ40-1 -> #N/A | DK41: =IF(AND(INDEX(SSM,DJ41,4)>=$AB41,INDEX(SSM,DJ41,5)>=$S35,INDEX(SSM,DJ41,6)>=$R35),1,0) -> #N/A | DL41: =MATCH(1,OFFSET(DK35:DK46,DM40,0,COUNT(DK35:DK46)-DM40),0) -> #REF! | DM41: =DL41+DM40 -> #REF! | DN41: =IFERROR(IF(AD42="Nested Steel Stud (wood infill)",VLOOKUP(INDEX(DJ35:DJ46,DM41),SSW,2,FALSE),VLOOKUP(INDEX(DJ35:DJ46,DM41),SSM,2,FALSE)),"----") -> ---- | DO41: =DO40-1 -> #N/A | DP41: =IF(AND(INDEX(WSM,DO41,4)>=$AB41,INDEX(WSM,DO41,5)>=$S35,INDEX(WSM,DO41,6)>=$R35),1,0) -> #N/A | DQ41: =MATCH(1,OFFSET(DP35:DP46,DR40,0,COUNT(DP35:DP46)-DR40),0) -> #REF! | DR41: =DQ41+DR40 -> #REF! | DS41: =IFERROR(VLOOKUP(INDEX(DO35:DO46,DR41),WSM,2,FALSE),"----") -> ---- | DT41: =DT40-1 -> #N/A | DU41: =IF(AND(INDEX(STM,DT41,4)>=$AB41,INDEX(STM,DT41,5)>=$S35,INDEX(STM,DT41,6)>=$R35),1,0) -> #N/A | DV41: =MATCH(1,OFFSET(DU35:DU46,DW40,0,COUNT(DU35:DU46)-DW40),0) -> #REF! | DW41: =DV41+DW40 -> #REF! | DX41: =IFERROR(VLOOKUP(INDEX(DT35:DT46,DW41),STM,2,FALSE),"----") -> ---- | DY41: =DY40-1 -> #N/A | DZ41: =IF(AND(INDEX(ELM,DY41,4)>=$AB41,INDEX(ELM,DY41,5)>=$S35,INDEX(ELM,DY41,6)>=$R35),1,0) -> #N/A | EA41: =MATCH(1,OFFSET(DZ35:DZ46,EB40,0,COUNT(DZ35:DZ46)-EB40),0) -> #REF! | EB41: =EA41+EB40 -> #REF! | EC41: =IFERROR(VLOOKUP(INDEX(DY35:DY46,EB41),ELM,2,FALSE),"----") -> ---- | ED41: =ED40-1 -> #N/A | EE41: =IF(LEFT($J35,7)="Clad Wo",IF(AND(INDEX(SPPWS,ED41,4)>=$AB41,INDEX(SPPWS,ED41,5)>=$S35,INDEX(SPPWS,ED41,6)>=$R35),1,0),IF(AND(INDEX(SPM,ED41,4)>=$AB41,INDEX(SPM,ED41,5)>=$S35,INDEX(SPM,ED41,6)>=$R35),1,0)) -> #N/A | EF41: =MATCH(1,OFFSET(EE35:EE46,EG40,0,COUNT(EE35:EE46)-EG40),0) -> #REF! | EG41: =EG40+EF41 -> #REF! | EH41: =IF(LEFT($J35,7)="Clad Wo",IFERROR(VLOOKUP(INDEX(ED35:ED46,EG41),SPPWS,2,FALSE),"----"),IFERROR(VLOOKUP(INDEX(ED35:ED46,EG41),SPM,2,FALSE),"----")) -> ----
AD42: =IF(ISBLANK(AD36)=TRUE,"",AD36) -> Nested Steel Stud | AK42: =IFERROR(VLOOKUP(AI42,OFFSET(INDIRECT(AQ42),0,1),2,FALSE),"") | AM42: =IFERROR(Q35/12*ROUND(VLOOKUP(AF42,OFFSET(SSM,0,1),6,FALSE),2),"") | AN42: =IF(BW42>1,"Lighter Reinforcement Options Available","") | AP42: =_xlfn.CONCAT(AR42,AS46) | AQ42: =IFERROR(LEFT(AP42,LEN(AP42)-1),"") | AR42: =IFERROR(VLOOKUP(AF42,MullList,2,FALSE),"") | AS42: =IF(COUNTIF(Vista_1,AF41)=1,"Vista_1",IF(COUNTIF(Vista_2,AF41)=1,"Vista_2","")) | AT42: =AL41 | AU42: =AU41-1 -> #REF! | AV42: =IFERROR(VLOOKUP(AU42,INDIRECT(AQ35),2,FALSE),"----") -> ---- | AW42: =AW41-1 -> #REF! | AX42: =IFERROR(VLOOKUP(AW42,INDIRECT(AQ36),2,FALSE),"----") -> ---- | AY42: =AY41-1 -> #REF! | AZ42: =IFERROR(VLOOKUP(AY42,INDIRECT(AQ37),2,FALSE),"----") -> ---- | BA42: =BA41-1 -> #REF! | BB42: =IFERROR(VLOOKUP(BA42,INDIRECT(AQ38),2,FALSE),"----") -> ---- | BC42: =BC41-1 -> #REF! | BD42: =IFERROR(VLOOKUP(BC42,INDIRECT(AQ39),2,FALSE),"----") -> ---- | BE42: =BE41-1 -> #REF! | BF42: =IFERROR(VLOOKUP(BE42,INDIRECT(AQ40),2,FALSE),"----") -> ---- | BG42: =BG41-1 -> #REF! | BH42: =IFERROR(VLOOKUP(BG42,INDIRECT(AQ41),2,FALSE),"----") -> ---- | BI42: =BI41-1 -> #REF! | BJ42: =IFERROR(VLOOKUP(BI42,INDIRECT(AQ42),2,FALSE),"----") -> ---- | BK42: =BK41-1 -> #REF! | BL42: =IFERROR(VLOOKUP(BK42,INDIRECT(AQ43),2,FALSE),"----") -> ---- | BM42: =BM41-1 -> #REF! | BN42: =IFERROR(VLOOKUP(BM42,INDIRECT(AQ44),2,FALSE),"----") -> ---- | BO42: =BO41-1 -> #REF! | BP42: =IFERROR(VLOOKUP(BO42,INDIRECT(AQ45),2,FALSE),"----") -> ---- | BQ42: =BQ41-1 -> #REF! | BR42: =IFERROR(VLOOKUP(BQ42,INDIRECT(AQ46),2,FALSE),"----") -> ---- | BS42: =IF(AI42="",1,IF(COUNTIF(BJ35:BJ46,AI42)=0,2,1)) -> 1 | BT42: =IF(AF42="",1,IF(BJ35=".",2,1)) -> 1 | BV42: =IF(COUNTIF(DN35:DN46,AF42)=0,IF(AF42<>"",0,1),1) -> 1 | BW42: =IFERROR(MATCH(AF42,DN35:DN46,0),1) -> 1 | BX42: =E35*(H35+I35)/144/2 -> 0 | BY42: =SUM(IF(H35>E35,E35^2/4,(H35*E35/2)-(H35^2/4))/144,IF(I35>E35,E35^2/4,(I35*E35/2)-(I35^2/4))/144) -> 0 | CA42: =CA41-1 -> #REF! | CB42: {=IF(AND(INDEX(INDIRECT(BY35),CA42,4)>=$AB35,INDEX(INDIRECT(BY35),CA42,5)>=$S35,INDEX(INDIRECT(BY35),CA42,6)>=$R35),1,0)} -> #REF! | CC42: =MATCH(1,OFFSET(CB35:CB46,CD41,0,COUNT(CB35:CB46)-CD41),0) -> #REF! | CD42: =CD41+CC42 -> #REF! | CE42: {=IFERROR(VLOOKUP(INDEX(CA35:CA46,CD42),INDIRECT(BY35),2,FALSE),"----")} -> ---- | CF42: =CF41-1 -> #N/A | CG42: =IF(AND(INDEX(SSM,CF42,4)>=$AB35,INDEX(SSM,CF42,5)>=$S35,INDEX(SSM,CF42,6)>=$R35),1,0) -> #N/A | CH42: =MATCH(1,OFFSET(CG35:CG46,CI41,0,COUNT(CG35:CG46)-CI41),0) -> #REF! | CI42: =CI41+CH42 -> #REF! | CJ42: =IFERROR(IF(AD36="Nested Steel Stud (wood infill)",VLOOKUP(INDEX(CF35:CF46,CI42),SSW,2,FALSE),VLOOKUP(INDEX(CF35:CF46,CI42),SSM,2,FALSE)),"----") -> ---- | CK42: =CK41-1 -> #N/A | CL42: =IF(AND(INDEX(WSM,CK42,4)>=$AB35,INDEX(WSM,CK42,5)>=$S35,INDEX(WSM,CK42,6)>=$R35),1,0) -> #N/A | CM42: =MATCH(1,OFFSET(CL35:CL46,CN41,0,COUNT(CL35:CL46)-CN41),0) -> #REF! | CN42: =CM42+CN41 -> #REF! | CO42: =IFERROR(VLOOKUP(INDEX(CK35:CK46,CN42),WSM,2,FALSE),"----") -> ---- | CP42: =CP41-1 -> #N/A | CQ42: =IF(AND(INDEX(STM,CP42,4)>=$AB35,INDEX(STM,CP42,5)>=$S35,INDEX(STM,CP42,6)>=$R35),1,0) -> #N/A | CR42: =MATCH(1,OFFSET(CQ35:CQ46,CS41,0,COUNT(CQ35:CQ46)-CS41),0) -> #REF! | CS42: =CR42+CS41 -> #REF! | CT42: =IFERROR(VLOOKUP(INDEX(CP35:CP46,CS42),STM,2,FALSE),"----") -> ---- | CU42: =CU41-1 -> #N/A | CV42: =IF(AND(INDEX(ELM,CU42,4)>=$AB35,INDEX(ELM,CU42,5)>=$S35,INDEX(ELM,CU42,6)>=$R35),1,0) -> #N/A | CW42: =MATCH(1,OFFSET(CV35:CV46,CX41,0,COUNT(CV35:CV46)-CX41),0) -> #REF! | CX42: =CW42+CX41 -> #REF! | CY42: =IFERROR(VLOOKUP(INDEX(CU35:CU46,CX42),ELM,2,FALSE),"----") -> ---- | CZ42: =CZ41-1 -> #N/A | DA42: =IF(LEFT($J35,7)="Clad Wo",IF(AND(INDEX(SPPWS,CZ42,4)>=$AB35,INDEX(SPPWS,CZ42,5)>=$S35,INDEX(SPPWS,CZ42,6)>=$R35),1,0),IF(AND(INDEX(SPM,CZ42,4)>=$AB35,INDEX(SPM,CZ42,5)>=$S35,INDEX(SPM,CZ42,6)>=$R35),1,0)) -> #N/A | DB42: =MATCH(1,OFFSET(DA35:DA46,DC41,0,COUNT(DA35:DA46)-DC41),0) -> #REF! | DC42: =DC41+DB42 -> #REF! | DD42: =IF(LEFT($J35,7)="Clad Wo",IFERROR(VLOOKUP(INDEX(CZ35:CZ46,DC42),SPPWS,2,FALSE),"----"),IFERROR(VLOOKUP(INDEX(CZ35:CZ46,DC42),SPM,2,FALSE),"----")) -> ---- | DE42: =DE41-1 -> #REF! | DF42: {=IF(AND(INDEX(INDIRECT(BY35),DE42,4)>=$AB41,INDEX(INDIRECT(BY35),DE42,5)>=$S35,INDEX(INDIRECT(BY35),DE42,6)>=$R35),1,0)} -> #REF! | DG42: =MATCH(1,OFFSET(DF35:DF46,DH41,0,COUNT(DF35:DF46)-DH41),0) -> #REF! | DH42: =DH41+DG42 -> #REF! | DI42: {=IFERROR(VLOOKUP(INDEX(DE35:DE46,DH42),INDIRECT(BY35),2,FALSE),"----")} -> ---- | DJ42: =DJ41-1 -> #N/A | DK42: =IF(AND(INDEX(SSM,DJ42,4)>=$AB41,INDEX(SSM,DJ42,5)>=$S35,INDEX(SSM,DJ42,6)>=$R35),1,0) -> #N/A | DL42: =MATCH(1,OFFSET(DK35:DK46,DM41,0,COUNT(DK35:DK46)-DM41),0) -> #REF! | DM42: =DL42+DM41 -> #REF! | DN42: =IFERROR(IF(AD42="Nested Steel Stud (wood infill)",VLOOKUP(INDEX(DJ35:DJ46,DM42),SSW,2,FALSE),VLOOKUP(INDEX(DJ35:DJ46,DM42),SSM,2,FALSE)),"----") -> ---- | DO42: =DO41-1 -> #N/A | DP42: =IF(AND(INDEX(WSM,DO42,4)>=$AB41,INDEX(WSM,DO42,5)>=$S35,INDEX(WSM,DO42,6)>=$R35),1,0) -> #N/A | DQ42: =MATCH(1,OFFSET(DP35:DP46,DR41,0,COUNT(DP35:DP46)-DR41),0) -> #REF! | DR42: =DQ42+DR41 -> #REF! | DS42: =IFERROR(VLOOKUP(INDEX(DO35:DO46,DR42),WSM,2,FALSE),"----") -> ---- | DT42: =DT41-1 -> #N/A | DU42: =IF(AND(INDEX(STM,DT42,4)>=$AB41,INDEX(STM,DT42,5)>=$S35,INDEX(STM,DT42,6)>=$R35),1,0) -> #N/A | DV42: =MATCH(1,OFFSET(DU35:DU46,DW41,0,COUNT(DU35:DU46)-DW41),0) -> #REF! | DW42: =DV42+DW41 -> #REF! | DX42: =IFERROR(VLOOKUP(INDEX(DT35:DT46,DW42),STM,2,FALSE),"----") -> ---- | DY42: =DY41-1 -> #N/A | DZ42: =IF(AND(INDEX(ELM,DY42,4)>=$AB41,INDEX(ELM,DY42,5)>=$S35,INDEX(ELM,DY42,6)>=$R35),1,0) -> #N/A | EA42: =MATCH(1,OFFSET(DZ35:DZ46,EB41,0,COUNT(DZ35:DZ46)-EB41),0) -> #REF! | EB42: =EA42+EB41 -> #REF! | EC42: =IFERROR(VLOOKUP(INDEX(DY35:DY46,EB42),ELM,2,FALSE),"----") -> ---- | ED42: =ED41-1 -> #N/A | EE42: =IF(LEFT($J35,7)="Clad Wo",IF(AND(INDEX(SPPWS,ED42,4)>=$AB41,INDEX(SPPWS,ED42,5)>=$S35,INDEX(SPPWS,ED42,6)>=$R35),1,0),IF(AND(INDEX(SPM,ED42,4)>=$AB41,INDEX(SPM,ED42,5)>=$S35,INDEX(SPM,ED42,6)>=$R35),1,0)) -> #N/A | EF42: =MATCH(1,OFFSET(EE35:EE46,EG41,0,COUNT(EE35:EE46)-EG41),0) -> #REF! | EG42: =EG41+EF42 -> #REF! | EH42: =IF(LEFT($J35,7)="Clad Wo",IFERROR(VLOOKUP(INDEX(ED35:ED46,EG42),SPPWS,2,FALSE),"----"),IFERROR(VLOOKUP(INDEX(ED35:ED46,EG42),SPM,2,FALSE),"----")) -> ----
AD43: =AD37 -> Wood Stud Framing | AK43: =IFERROR(VLOOKUP(AI43,OFFSET(INDIRECT(AQ43),0,1),2,FALSE),"") | AM43: =IFERROR(Q35/12*ROUND(VLOOKUP(AF43,OFFSET(WSM,0,1),6,FALSE),2),"") | AN43: =IF(BW43>1,"Lighter Reinforcement Options Available","") | AP43: =_xlfn.CONCAT(AR43,AS46) | AQ43: =IFERROR(LEFT(AP43,LEN(AP43)-1),"") | AR43: =IFERROR(VLOOKUP(AF43,MullList,2,FALSE),"") | AT43: =AL41 | AU43: =AU42-1 -> #REF! | AV43: =IFERROR(VLOOKUP(AU43,INDIRECT(AQ35),2,FALSE),"----") -> ---- | AW43: =AW42-1 -> #REF! | AX43: =IFERROR(VLOOKUP(AW43,INDIRECT(AQ36),2,FALSE),"----") -> ---- | AY43: =AY42-1 -> #REF! | AZ43: =IFERROR(VLOOKUP(AY43,INDIRECT(AQ37),2,FALSE),"----") -> ---- | BA43: =BA42-1 -> #REF! | BB43: =IFERROR(VLOOKUP(BA43,INDIRECT(AQ38),2,FALSE),"----") -> ---- | BC43: =BC42-1 -> #REF! | BD43: =IFERROR(VLOOKUP(BC43,INDIRECT(AQ39),2,FALSE),"----") -> ---- | BE43: =BE42-1 -> #REF! | BF43: =IFERROR(VLOOKUP(BE43,INDIRECT(AQ40),2,FALSE),"----") -> ---- | BG43: =BG42-1 -> #REF! | BH43: =IFERROR(VLOOKUP(BG43,INDIRECT(AQ41),2,FALSE),"----") -> ---- | BI43: =BI42-1 -> #REF! | BJ43: =IFERROR(VLOOKUP(BI43,INDIRECT(AQ42),2,FALSE),"----") -> ---- | BK43: =BK42-1 -> #REF! | BL43: =IFERROR(VLOOKUP(BK43,INDIRECT(AQ43),2,FALSE),"----") -> ---- | BM43: =BM42-1 -> #REF! | BN43: =IFERROR(VLOOKUP(BM43,INDIRECT(AQ44),2,FALSE),"----") -> ---- | BO43: =BO42-1 -> #REF! | BP43: =IFERROR(VLOOKUP(BO43,INDIRECT(AQ45),2,FALSE),"----") -> ---- | BQ43: =BQ42-1 -> #REF! | BR43: =IFERROR(VLOOKUP(BQ43,INDIRECT(AQ46),2,FALSE),"----") -> ---- | BS43: =IF(AI43="",1,IF(COUNTIF(BL35:BL46,AI43)=0,2,1)) -> 1 | BT43: =IF(AF43="",1,IF(BL35=".",2,1)) -> 1 | BV43: =IF(COUNTIF(DS35:DS46,AF43)=0,IF(AF43<>"",0,1),1) -> 1 | BW43: =IFERROR(MATCH(AF43,DS35:DS46,0),1) -> 1 | BX43: =5*E35^3*W35/(384*X35) -> #VALUE! | BY43: =W35*E35^3/(60*X35) -> #VALUE! | CA43: =CA42-1 -> #REF! | CB43: {=IF(AND(INDEX(INDIRECT(BY35),CA43,4)>=$AB35,INDEX(INDIRECT(BY35),CA43,5)>=$S35,INDEX(INDIRECT(BY35),CA43,6)>=$R35),1,0)} -> #REF! | CC43: =MATCH(1,OFFSET(CB35:CB46,CD42,0,COUNT(CB35:CB46)-CD42),0) -> #REF! | CD43: =CD42+CC43 -> #REF! | CE43: {=IFERROR(VLOOKUP(INDEX(CA35:CA46,CD43),INDIRECT(BY35),2,FALSE),"----")} -> ---- | CF43: =CF42-1 -> #N/A | CG43: =IF(AND(INDEX(SSM,CF43,4)>=$AB35,INDEX(SSM,CF43,5)>=$S35,INDEX(SSM,CF43,6)>=$R35),1,0) -> #N/A | CH43: =MATCH(1,OFFSET(CG35:CG46,CI42,0,COUNT(CG35:CG46)-CI42),0) -> #REF! | CI43: =CI42+CH43 -> #REF! | CJ43: =IFERROR(IF(AD36="Nested Steel Stud (wood infill)",VLOOKUP(INDEX(CF35:CF46,CI43),SSW,2,FALSE),VLOOKUP(INDEX(CF35:CF46,CI43),SSM,2,FALSE)),"----") -> ---- | CK43: =CK42-1 -> #N/A | CL43: =IF(AND(INDEX(WSM,CK43,4)>=$AB35,INDEX(WSM,CK43,5)>=$S35,INDEX(WSM,CK43,6)>=$R35),1,0) -> #N/A | CM43: =MATCH(1,OFFSET(CL35:CL46,CN42,0,COUNT(CL35:CL46)-CN42),0) -> #REF! | CN43: =CM43+CN42 -> #REF! | CO43: =IFERROR(VLOOKUP(INDEX(CK35:CK46,CN43),WSM,2,FALSE),"----") -> ---- | CP43: =CP42-1 -> #N/A | CQ43: =IF(AND(INDEX(STM,CP43,4)>=$AB35,INDEX(STM,CP43,5)>=$S35,INDEX(STM,CP43,6)>=$R35),1,0) -> #N/A | CR43: =MATCH(1,OFFSET(CQ35:CQ46,CS42,0,COUNT(CQ35:CQ46)-CS42),0) -> #REF! | CS43: =CR43+CS42 -> #REF! | CT43: =IFERROR(VLOOKUP(INDEX(CP35:CP46,CS43),STM,2,FALSE),"----") -> ---- | CU43: =CU42-1 -> #N/A | CV43: =IF(AND(INDEX(ELM,CU43,4)>=$AB35,INDEX(ELM,CU43,5)>=$S35,INDEX(ELM,CU43,6)>=$R35),1,0) -> #N/A | CW43: =MATCH(1,OFFSET(CV35:CV46,CX42,0,COUNT(CV35:CV46)-CX42),0) -> #REF! | CX43: =CW43+CX42 -> #REF! | CY43: =IFERROR(VLOOKUP(INDEX(CU35:CU46,CX43),ELM,2,FALSE),"----") -> ---- | CZ43: =CZ42-1 -> #N/A | DA43: =IF(LEFT($J35,7)="Clad Wo",IF(AND(INDEX(SPPWS,CZ43,4)>=$AB35,INDEX(SPPWS,CZ43,5)>=$S35,INDEX(SPPWS,CZ43,6)>=$R35),1,0),IF(AND(INDEX(SPM,CZ43,4)>=$AB35,INDEX(SPM,CZ43,5)>=$S35,INDEX(SPM,CZ43,6)>=$R35),1,0)) -> #N/A | DB43: =MATCH(1,OFFSET(DA35:DA46,DC42,0,COUNT(DA35:DA46)-DC42),0) -> #REF! | DC43: =DC42+DB43 -> #REF! | DD43: =IF(LEFT($J35,7)="Clad Wo",IFERROR(VLOOKUP(INDEX(CZ35:CZ46,DC43),SPPWS,2,FALSE),"----"),IFERROR(VLOOKUP(INDEX(CZ35:CZ46,DC43),SPM,2,FALSE),"----")) -> ---- | DE43: =DE42-1 -> #REF! | DF43: {=IF(AND(INDEX(INDIRECT(BY35),DE43,4)>=$AB41,INDEX(INDIRECT(BY35),DE43,5)>=$S35,INDEX(INDIRECT(BY35),DE43,6)>=$R35),1,0)} -> #REF! | DG43: =MATCH(1,OFFSET(DF35:DF46,DH42,0,COUNT(DF35:DF46)-DH42),0) -> #REF! | DH43: =DH42+DG43 -> #REF! | DI43: {=IFERROR(VLOOKUP(INDEX(DE35:DE46,DH43),INDIRECT(BY35),2,FALSE),"----")} -> ---- | DJ43: =DJ42-1 -> #N/A | DK43: =IF(AND(INDEX(SSM,DJ43,4)>=$AB41,INDEX(SSM,DJ43,5)>=$S35,INDEX(SSM,DJ43,6)>=$R35),1,0) -> #N/A | DL43: =MATCH(1,OFFSET(DK35:DK46,DM42,0,COUNT(DK35:DK46)-DM42),0) -> #REF! | DM43: =DL43+DM42 -> #REF! | DN43: =IFERROR(IF(AD42="Nested Steel Stud (wood infill)",VLOOKUP(INDEX(DJ35:DJ46,DM43),SSW,2,FALSE),VLOOKUP(INDEX(DJ35:DJ46,DM43),SSM,2,FALSE)),"----") -> ---- | DO43: =DO42-1 -> #N/A | DP43: =IF(AND(INDEX(WSM,DO43,4)>=$AB41,INDEX(WSM,DO43,5)>=$S35,INDEX(WSM,DO43,6)>=$R35),1,0) -> #N/A | DQ43: =MATCH(1,OFFSET(DP35:DP46,DR42,0,COUNT(DP35:DP46)-DR42),0) -> #REF! | DR43: =DQ43+DR42 -> #REF! | DS43: =IFERROR(VLOOKUP(INDEX(DO35:DO46,DR43),WSM,2,FALSE),"----") -> ---- | DT43: =DT42-1 -> #N/A | DU43: =IF(AND(INDEX(STM,DT43,4)>=$AB41,INDEX(STM,DT43,5)>=$S35,INDEX(STM,DT43,6)>=$R35),1,0) -> #N/A | DV43: =MATCH(1,OFFSET(DU35:DU46,DW42,0,COUNT(DU35:DU46)-DW42),0) -> #REF! | DW43: =DV43+DW42 -> #REF! | DX43: =IFERROR(VLOOKUP(INDEX(DT35:DT46,DW43),STM,2,FALSE),"----") -> ---- | DY43: =DY42-1 -> #N/A | DZ43: =IF(AND(INDEX(ELM,DY43,4)>=$AB41,INDEX(ELM,DY43,5)>=$S35,INDEX(ELM,DY43,6)>=$R35),1,0) -> #N/A | EA43: =MATCH(1,OFFSET(DZ35:DZ46,EB42,0,COUNT(DZ35:DZ46)-EB42),0) -> #REF! | EB43: =EA43+EB42 -> #REF! | EC43: =IFERROR(VLOOKUP(INDEX(DY35:DY46,EB43),ELM,2,FALSE),"----") -> ---- | ED43: =ED42-1 -> #N/A | EE43: =IF(LEFT($J35,7)="Clad Wo",IF(AND(INDEX(SPPWS,ED43,4)>=$AB41,INDEX(SPPWS,ED43,5)>=$S35,INDEX(SPPWS,ED43,6)>=$R35),1,0),IF(AND(INDEX(SPM,ED43,4)>=$AB41,INDEX(SPM,ED43,5)>=$S35,INDEX(SPM,ED43,6)>=$R35),1,0)) -> #N/A | EF43: =MATCH(1,OFFSET(EE35:EE46,EG42,0,COUNT(EE35:EE46)-EG42),0) -> #REF! | EG43: =EG42+EF43 -> #REF! | EH43: =IF(LEFT($J35,7)="Clad Wo",IFERROR(VLOOKUP(INDEX(ED35:ED46,EG43),SPPWS,2,FALSE),"----"),IFERROR(VLOOKUP(INDEX(ED35:ED46,EG43),SPM,2,FALSE),"----")) -> ----
AD44: =AD38 -> Steel Tube | AK44: =IFERROR(VLOOKUP(AI44,OFFSET(INDIRECT(AQ44),0,1),2,FALSE),"") | AM44: =IFERROR(Q35/12*ROUND(VLOOKUP(AF44,OFFSET(STM,0,1),6,FALSE),2),"") | AN44: =IF(BW44>1,"Lighter Reinforcement Options Available","") | AP44: =_xlfn.CONCAT(AR44,AS46) | AQ44: =IFERROR(LEFT(AP44,LEN(AP44)-1),"") | AR44: =IFERROR(VLOOKUP(AF44,MullList,2,FALSE),"") | AT44: =AL41 | AU44: =AU43-1 -> #REF! | AV44: =IFERROR(VLOOKUP(AU44,INDIRECT(AQ35),2,FALSE),"----") -> ---- | AW44: =AW43-1 -> #REF! | AX44: =IFERROR(VLOOKUP(AW44,INDIRECT(AQ36),2,FALSE),"----") -> ---- | AY44: =AY43-1 -> #REF! | AZ44: =IFERROR(VLOOKUP(AY44,INDIRECT(AQ37),2,FALSE),"----") -> ---- | BA44: =BA43-1 -> #REF! | BB44: =IFERROR(VLOOKUP(BA44,INDIRECT(AQ38),2,FALSE),"----") -> ---- | BC44: =BC43-1 -> #REF! | BD44: =IFERROR(VLOOKUP(BC44,INDIRECT(AQ39),2,FALSE),"----") -> ---- | BE44: =BE43-1 -> #REF! | BF44: =IFERROR(VLOOKUP(BE44,INDIRECT(AQ40),2,FALSE),"----") -> ---- | BG44: =BG43-1 -> #REF! | BH44: =IFERROR(VLOOKUP(BG44,INDIRECT(AQ41),2,FALSE),"----") -> ---- | BI44: =BI43-1 -> #REF! | BJ44: =IFERROR(VLOOKUP(BI44,INDIRECT(AQ42),2,FALSE),"----") -> ---- | BK44: =BK43-1 -> #REF! | BL44: =IFERROR(VLOOKUP(BK44,INDIRECT(AQ43),2,FALSE),"----") -> ---- | BM44: =BM43-1 -> #REF! | BN44: =IFERROR(VLOOKUP(BM44,INDIRECT(AQ44),2,FALSE),"----") -> ---- | BO44: =BO43-1 -> #REF! | BP44: =IFERROR(VLOOKUP(BO44,INDIRECT(AQ45),2,FALSE),"----") -> ---- | BQ44: =BQ43-1 -> #REF! | BR44: =IFERROR(VLOOKUP(BQ44,INDIRECT(AQ46),2,FALSE),"----") -> ---- | BS44: =IF(AI44="",1,IF(COUNTIF(BN35:BN46,AI44)=0,2,1)) -> 1 | BT44: =IF(AF44="",1,IF(BN35=".",2,1)) -> 1 | BV44: =IF(COUNTIF(DX35:DX46,AF44)=0,IF(AF44<>"",0,1),1) -> 1 | BW44: =IFERROR(MATCH(AF44,DX35:DX46,0),1) -> 1 | BX44: =5*E35^3*W41/(384*X35) -> #VALUE! | BY44: =E35^3*W41/(60*X35) -> #VALUE! | CA44: =CA43-1 -> #REF! | CB44: {=IF(AND(INDEX(INDIRECT(BY35),CA44,4)>=$AB35,INDEX(INDIRECT(BY35),CA44,5)>=$S35,INDEX(INDIRECT(BY35),CA44,6)>=$R35),1,0)} -> #REF! | CC44: =MATCH(1,OFFSET(CB35:CB46,CD43,0,COUNT(CB35:CB46)-CD43),0) -> #REF! | CD44: =CD43+CC44 -> #REF! | CE44: {=IFERROR(VLOOKUP(INDEX(CA35:CA46,CD44),INDIRECT(BY35),2,FALSE),"----")} -> ---- | CF44: =CF43-1 -> #N/A | CG44: =IF(AND(INDEX(SSM,CF44,4)>=$AB35,INDEX(SSM,CF44,5)>=$S35,INDEX(SSM,CF44,6)>=$R35),1,0) -> #N/A | CH44: =MATCH(1,OFFSET(CG35:CG46,CI43,0,COUNT(CG35:CG46)-CI43),0) -> #REF! | CI44: =CI43+CH44 -> #REF! | CJ44: =IFERROR(IF(AD36="Nested Steel Stud (wood infill)",VLOOKUP(INDEX(CF35:CF46,CI44),SSW,2,FALSE),VLOOKUP(INDEX(CF35:CF46,CI44),SSM,2,FALSE)),"----") -> ---- | CK44: =CK43-1 -> #N/A | CL44: =IF(AND(INDEX(WSM,CK44,4)>=$AB35,INDEX(WSM,CK44,5)>=$S35,INDEX(WSM,CK44,6)>=$R35),1,0) -> #N/A | CM44: =MATCH(1,OFFSET(CL35:CL46,CN43,0,COUNT(CL35:CL46)-CN43),0) -> #REF! | CN44: =CM44+CN43 -> #REF! | CO44: =IFERROR(VLOOKUP(INDEX(CK35:CK46,CN44),WSM,2,FALSE),"----") -> ---- | CP44: =CP43-1 -> #N/A | CQ44: =IF(AND(INDEX(STM,CP44,4)>=$AB35,INDEX(STM,CP44,5)>=$S35,INDEX(STM,CP44,6)>=$R35),1,0) -> #N/A | CR44: =MATCH(1,OFFSET(CQ35:CQ46,CS43,0,COUNT(CQ35:CQ46)-CS43),0) -> #REF! | CS44: =CR44+CS43 -> #REF! | CT44: =IFERROR(VLOOKUP(INDEX(CP35:CP46,CS44),STM,2,FALSE),"----") -> ---- | CU44: =CU43-1 -> #N/A | CV44: =IF(AND(INDEX(ELM,CU44,4)>=$AB35,INDEX(ELM,CU44,5)>=$S35,INDEX(ELM,CU44,6)>=$R35),1,0) -> #N/A | CW44: =MATCH(1,OFFSET(CV35:CV46,CX43,0,COUNT(CV35:CV46)-CX43),0) -> #REF! | CX44: =CW44+CX43 -> #REF! | CY44: =IFERROR(VLOOKUP(INDEX(CU35:CU46,CX44),ELM,2,FALSE),"----") -> ---- | CZ44: =CZ43-1 -> #N/A | DA44: =IF(LEFT($J35,7)="Clad Wo",IF(AND(INDEX(SPPWS,CZ44,4)>=$AB35,INDEX(SPPWS,CZ44,5)>=$S35,INDEX(SPPWS,CZ44,6)>=$R35),1,0),IF(AND(INDEX(SPM,CZ44,4)>=$AB35,INDEX(SPM,CZ44,5)>=$S35,INDEX(SPM,CZ44,6)>=$R35),1,0)) -> #N/A | DB44: =MATCH(1,OFFSET(DA35:DA46,DC43,0,COUNT(DA35:DA46)-DC43),0) -> #REF! | DC44: =DC43+DB44 -> #REF! | DD44: =IF(LEFT($J35,7)="Clad Wo",IFERROR(VLOOKUP(INDEX(CZ35:CZ46,DC44),SPPWS,2,FALSE),"----"),IFERROR(VLOOKUP(INDEX(CZ35:CZ46,DC44),SPM,2,FALSE),"----")) -> ---- | DE44: =DE43-1 -> #REF! | DF44: {=IF(AND(INDEX(INDIRECT(BY35),DE44,4)>=$AB41,INDEX(INDIRECT(BY35),DE44,5)>=$S35,INDEX(INDIRECT(BY35),DE44,6)>=$R35),1,0)} -> #REF! | DG44: =MATCH(1,OFFSET(DF35:DF46,DH43,0,COUNT(DF35:DF46)-DH43),0) -> #REF! | DH44: =DH43+DG44 -> #REF! | DI44: {=IFERROR(VLOOKUP(INDEX(DE35:DE46,DH44),INDIRECT(BY35),2,FALSE),"----")} -> ---- | DJ44: =DJ43-1 -> #N/A | DK44: =IF(AND(INDEX(SSM,DJ44,4)>=$AB41,INDEX(SSM,DJ44,5)>=$S35,INDEX(SSM,DJ44,6)>=$R35),1,0) -> #N/A | DL44: =MATCH(1,OFFSET(DK35:DK46,DM43,0,COUNT(DK35:DK46)-DM43),0) -> #REF! | DM44: =DL44+DM43 -> #REF! | DN44: =IFERROR(IF(AD42="Nested Steel Stud (wood infill)",VLOOKUP(INDEX(DJ35:DJ46,DM44),SSW,2,FALSE),VLOOKUP(INDEX(DJ35:DJ46,DM44),SSM,2,FALSE)),"----") -> ---- | DO44: =DO43-1 -> #N/A | DP44: =IF(AND(INDEX(WSM,DO44,4)>=$AB41,INDEX(WSM,DO44,5)>=$S35,INDEX(WSM,DO44,6)>=$R35),1,0) -> #N/A | DQ44: =MATCH(1,OFFSET(DP35:DP46,DR43,0,COUNT(DP35:DP46)-DR43),0) -> #REF! | DR44: =DQ44+DR43 -> #REF! | DS44: =IFERROR(VLOOKUP(INDEX(DO35:DO46,DR44),WSM,2,FALSE),"----") -> ---- | DT44: =DT43-1 -> #N/A | DU44: =IF(AND(INDEX(STM,DT44,4)>=$AB41,INDEX(STM,DT44,5)>=$S35,INDEX(STM,DT44,6)>=$R35),1,0) -> #N/A | DV44: =MATCH(1,OFFSET(DU35:DU46,DW43,0,COUNT(DU35:DU46)-DW43),0) -> #REF! | DW44: =DV44+DW43 -> #REF! | DX44: =IFERROR(VLOOKUP(INDEX(DT35:DT46,DW44),STM,2,FALSE),"----") -> ---- | DY44: =DY43-1 -> #N/A | DZ44: =IF(AND(INDEX(ELM,DY44,4)>=$AB41,INDEX(ELM,DY44,5)>=$S35,INDEX(ELM,DY44,6)>=$R35),1,0) -> #N/A | EA44: =MATCH(1,OFFSET(DZ35:DZ46,EB43,0,COUNT(DZ35:DZ46)-EB43),0) -> #REF! | EB44: =EA44+EB43 -> #REF! | EC44: =IFERROR(VLOOKUP(INDEX(DY35:DY46,EB44),ELM,2,FALSE),"----") -> ---- | ED44: =ED43-1 -> #N/A | EE44: =IF(LEFT($J35,7)="Clad Wo",IF(AND(INDEX(SPPWS,ED44,4)>=$AB41,INDEX(SPPWS,ED44,5)>=$S35,INDEX(SPPWS,ED44,6)>=$R35),1,0),IF(AND(INDEX(SPM,ED44,4)>=$AB41,INDEX(SPM,ED44,5)>=$S35,INDEX(SPM,ED44,6)>=$R35),1,0)) -> #N/A | EF44: =MATCH(1,OFFSET(EE35:EE46,EG43,0,COUNT(EE35:EE46)-EG43),0) -> #REF! | EG44: =EG43+EF44 -> #REF! | EH44: =IF(LEFT($J35,7)="Clad Wo",IFERROR(VLOOKUP(INDEX(ED35:ED46,EG44),SPPWS,2,FALSE),"----"),IFERROR(VLOOKUP(INDEX(ED35:ED46,EG44),SPM,2,FALSE),"----")) -> ----
AD45: =AD39 -> Engineered Lumber | AK45: =IFERROR(VLOOKUP(AI45,OFFSET(INDIRECT(AQ45),0,1),2,FALSE),"") | AM45: =IFERROR(Q35/12*ROUND(VLOOKUP(AF45,OFFSET(ELM,0,1),6,FALSE),2),"") | AN45: =IF(BW45>1,"Lighter Reinforcement Options Available","") | AP45: =_xlfn.CONCAT(AR45,AS46) | AQ45: =IFERROR(LEFT(AP45,LEN(AP45)-1),"") | AR45: =IFERROR(VLOOKUP(AF45,MullList,2,FALSE),"") | AT45: =AL41 | AU45: =AU44-1 -> #REF! | AV45: =IFERROR(VLOOKUP(AU45,INDIRECT(AQ35),2,FALSE),"----") -> ---- | AW45: =AW44-1 -> #REF! | AX45: =IFERROR(VLOOKUP(AW45,INDIRECT(AQ36),2,FALSE),"----") -> ---- | AY45: =AY44-1 -> #REF! | AZ45: =IFERROR(VLOOKUP(AY45,INDIRECT(AQ37),2,FALSE),"----") -> ---- | BA45: =BA44-1 -> #REF! | BB45: =IFERROR(VLOOKUP(BA45,INDIRECT(AQ38),2,FALSE),"----") -> ---- | BC45: =BC44-1 -> #REF! | BD45: =IFERROR(VLOOKUP(BC45,INDIRECT(AQ39),2,FALSE),"----") -> ---- | BE45: =BE44-1 -> #REF! | BF45: =IFERROR(VLOOKUP(BE45,INDIRECT(AQ40),2,FALSE),"----") -> ---- | BG45: =BG44-1 -> #REF! | BH45: =IFERROR(VLOOKUP(BG45,INDIRECT(AQ41),2,FALSE),"----") -> ---- | BI45: =BI44-1 -> #REF! | BJ45: =IFERROR(VLOOKUP(BI45,INDIRECT(AQ42),2,FALSE),"----") -> ---- | BK45: =BK44-1 -> #REF! | BL45: =IFERROR(VLOOKUP(BK45,INDIRECT(AQ43),2,FALSE),"----") -> ---- | BM45: =BM44-1 -> #REF! | BN45: =IFERROR(VLOOKUP(BM45,INDIRECT(AQ44),2,FALSE),"----") -> ---- | BO45: =BO44-1 -> #REF! | BP45: =IFERROR(VLOOKUP(BO45,INDIRECT(AQ45),2,FALSE),"----") -> ---- | BQ45: =BQ44-1 -> #REF! | BR45: =IFERROR(VLOOKUP(BQ45,INDIRECT(AQ46),2,FALSE),"----") -> ---- | BS45: =IF(AI45="",1,IF(COUNTIF(BP35:BP46,AI45)=0,2,1)) -> 1 | BT45: =IF(AF45="",1,IF(BP35=".",2,1)) -> 1 | BV45: =IF(COUNTIF(EC35:EC46,AF45)=0,IF(AF45<>"",0,1),1) -> 1 | BW45: =IFERROR(MATCH(AF45,EC35:EC46,0),1) -> 1 | CA45: =CA44-1 -> #REF! | CB45: {=IF(AND(INDEX(INDIRECT(BY35),CA45,4)>=$AB35,INDEX(INDIRECT(BY35),CA45,5)>=$S35,INDEX(INDIRECT(BY35),CA45,6)>=$R35),1,0)} -> #REF! | CC45: =MATCH(1,OFFSET(CB35:CB46,CD44,0,COUNT(CB35:CB46)-CD44),0) -> #REF! | CD45: =CD44+CC45 -> #REF! | CE45: {=IFERROR(VLOOKUP(INDEX(CA35:CA46,CD45),INDIRECT(BY35),2,FALSE),"----")} -> ---- | CF45: =CF44-1 -> #N/A | CG45: =IF(AND(INDEX(SSM,CF45,4)>=$AB35,INDEX(SSM,CF45,5)>=$S35,INDEX(SSM,CF45,6)>=$R35),1,0) -> #N/A | CH45: =MATCH(1,OFFSET(CG35:CG46,CI44,0,COUNT(CG35:CG46)-CI44),0) -> #REF! | CI45: =CI44+CH45 -> #REF! | CJ45: =IFERROR(IF(AD36="Nested Steel Stud (wood infill)",VLOOKUP(INDEX(CF35:CF46,CI45),SSW,2,FALSE),VLOOKUP(INDEX(CF35:CF46,CI45),SSM,2,FALSE)),"----") -> ---- | CK45: =CK44-1 -> #N/A | CL45: =IF(AND(INDEX(WSM,CK45,4)>=$AB35,INDEX(WSM,CK45,5)>=$S35,INDEX(WSM,CK45,6)>=$R35),1,0) -> #N/A | CM45: =MATCH(1,OFFSET(CL35:CL46,CN44,0,COUNT(CL35:CL46)-CN44),0) -> #REF! | CN45: =CM45+CN44 -> #REF! | CO45: =IFERROR(VLOOKUP(INDEX(CK35:CK46,CN45),WSM,2,FALSE),"----") -> ---- | CP45: =CP44-1 -> #N/A | CQ45: =IF(AND(INDEX(STM,CP45,4)>=$AB35,INDEX(STM,CP45,5)>=$S35,INDEX(STM,CP45,6)>=$R35),1,0) -> #N/A | CR45: =MATCH(1,OFFSET(CQ35:CQ46,CS44,0,COUNT(CQ35:CQ46)-CS44),0) -> #REF! | CS45: =CR45+CS44 -> #REF! | CT45: =IFERROR(VLOOKUP(INDEX(CP35:CP46,CS45),STM,2,FALSE),"----") -> ---- | CU45: =CU44-1 -> #N/A | CV45: =IF(AND(INDEX(ELM,CU45,4)>=$AB35,INDEX(ELM,CU45,5)>=$S35,INDEX(ELM,CU45,6)>=$R35),1,0) -> #N/A | CW45: =MATCH(1,OFFSET(CV35:CV46,CX44,0,COUNT(CV35:CV46)-CX44),0) -> #REF! | CX45: =CW45+CX44 -> #REF! | CY45: =IFERROR(VLOOKUP(INDEX(CU35:CU46,CX45),ELM,2,FALSE),"----") -> ---- | CZ45: =CZ44-1 -> #N/A | DA45: =IF(LEFT($J35,7)="Clad Wo",IF(AND(INDEX(SPPWS,CZ45,4)>=$AB35,INDEX(SPPWS,CZ45,5)>=$S35,INDEX(SPPWS,CZ45,6)>=$R35),1,0),IF(AND(INDEX(SPM,CZ45,4)>=$AB35,INDEX(SPM,CZ45,5)>=$S35,INDEX(SPM,CZ45,6)>=$R35),1,0)) -> #N/A | DB45: =MATCH(1,OFFSET(DA35:DA46,DC44,0,COUNT(DA35:DA46)-DC44),0) -> #REF! | DC45: =DC44+DB45 -> #REF! | DD45: =IF(LEFT($J35,7)="Clad Wo",IFERROR(VLOOKUP(INDEX(CZ35:CZ46,DC45),SPPWS,2,FALSE),"----"),IFERROR(VLOOKUP(INDEX(CZ35:CZ46,DC45),SPM,2,FALSE),"----")) -> ---- | DE45: =DE44-1 -> #REF! | DF45: {=IF(AND(INDEX(INDIRECT(BY35),DE45,4)>=$AB41,INDEX(INDIRECT(BY35),DE45,5)>=$S35,INDEX(INDIRECT(BY35),DE45,6)>=$R35),1,0)} -> #REF! | DG45: =MATCH(1,OFFSET(DF35:DF46,DH44,0,COUNT(DF35:DF46)-DH44),0) -> #REF! | DH45: =DH44+DG45 -> #REF! | DI45: {=IFERROR(VLOOKUP(INDEX(DE35:DE46,DH45),INDIRECT(BY35),2,FALSE),"----")} -> ---- | DJ45: =DJ44-1 -> #N/A | DK45: =IF(AND(INDEX(SSM,DJ45,4)>=$AB41,INDEX(SSM,DJ45,5)>=$S35,INDEX(SSM,DJ45,6)>=$R35),1,0) -> #N/A | DL45: =MATCH(1,OFFSET(DK35:DK46,DM44,0,COUNT(DK35:DK46)-DM44),0) -> #REF! | DM45: =DL45+DM44 -> #REF! | DN45: =IFERROR(IF(AD42="Nested Steel Stud (wood infill)",VLOOKUP(INDEX(DJ35:DJ46,DM45),SSW,2,FALSE),VLOOKUP(INDEX(DJ35:DJ46,DM45),SSM,2,FALSE)),"----") -> ---- | DO45: =DO44-1 -> #N/A | DP45: =IF(AND(INDEX(WSM,DO45,4)>=$AB41,INDEX(WSM,DO45,5)>=$S35,INDEX(WSM,DO45,6)>=$R35),1,0) -> #N/A | DQ45: =MATCH(1,OFFSET(DP35:DP46,DR44,0,COUNT(DP35:DP46)-DR44),0) -> #REF! | DR45: =DQ45+DR44 -> #REF! | DS45: =IFERROR(VLOOKUP(INDEX(DO35:DO46,DR45),WSM,2,FALSE),"----") -> ---- | DT45: =DT44-1 -> #N/A | DU45: =IF(AND(INDEX(STM,DT45,4)>=$AB41,INDEX(STM,DT45,5)>=$S35,INDEX(STM,DT45,6)>=$R35),1,0) -> #N/A | DV45: =MATCH(1,OFFSET(DU35:DU46,DW44,0,COUNT(DU35:DU46)-DW44),0) -> #REF! | DW45: =DV45+DW44 -> #REF! | DX45: =IFERROR(VLOOKUP(INDEX(DT35:DT46,DW45),STM,2,FALSE),"----") -> ---- | DY45: =DY44-1 -> #N/A | DZ45: =IF(AND(INDEX(ELM,DY45,4)>=$AB41,INDEX(ELM,DY45,5)>=$S35,INDEX(ELM,DY45,6)>=$R35),1,0) -> #N/A | EA45: =MATCH(1,OFFSET(DZ35:DZ46,EB44,0,COUNT(DZ35:DZ46)-EB44),0) -> #REF! | EB45: =EA45+EB44 -> #REF! | EC45: =IFERROR(VLOOKUP(INDEX(DY35:DY46,EB45),ELM,2,FALSE),"----") -> ---- | ED45: =ED44-1 -> #N/A | EE45: =IF(LEFT($J35,7)="Clad Wo",IF(AND(INDEX(SPPWS,ED45,4)>=$AB41,INDEX(SPPWS,ED45,5)>=$S35,INDEX(SPPWS,ED45,6)>=$R35),1,0),IF(AND(INDEX(SPM,ED45,4)>=$AB41,INDEX(SPM,ED45,5)>=$S35,INDEX(SPM,ED45,6)>=$R35),1,0)) -> #N/A | EF45: =MATCH(1,OFFSET(EE35:EE46,EG44,0,COUNT(EE35:EE46)-EG44),0) -> #REF! | EG45: =EG44+EF45 -> #REF! | EH45: =IF(LEFT($J35,7)="Clad Wo",IFERROR(VLOOKUP(INDEX(ED35:ED46,EG45),SPPWS,2,FALSE),"----"),IFERROR(VLOOKUP(INDEX(ED35:ED46,EG45),SPM,2,FALSE),"----")) -> ----
AD46: =IF(LEFT(J35,7)="Clad Wo","Pella Wood Spr / Steel Pte","Steel Plate") -> Steel Plate | AK46: =IFERROR(VLOOKUP(AI46,OFFSET(INDIRECT(AQ46),0,1),2,FALSE),"") | AM46: =IFERROR(Q35/12*ROUND(VLOOKUP(AF46,OFFSET(SPM,0,1),6,FALSE),2),"") | AN46: =IF(BW46>1,"Lighter Reinforcement Options Available","") | AP46: =_xlfn.CONCAT(AR46,AS46) | AQ46: =IFERROR(LEFT(AP46,LEN(AP46)-1),"") | AR46: =IFERROR(VLOOKUP(AF46,MullList,2,FALSE),"") | AS46: =IFERROR(VLOOKUP(J43, WallType,2,FALSE),"") | AT46: =AL41 | AU46: =AU45-1 -> #REF! | AV46: =IFERROR(VLOOKUP(AU46,INDIRECT(AQ35),2,FALSE),"----") -> ---- | AW46: =AW45-1 -> #REF! | AX46: =IFERROR(VLOOKUP(AW46,INDIRECT(AQ36),2,FALSE),"----") -> ---- | AY46: =AY45-1 -> #REF! | AZ46: =IFERROR(VLOOKUP(AY46,INDIRECT(AQ37),2,FALSE),"----") -> ---- | BA46: =BA45-1 -> #REF! | BB46: =IFERROR(VLOOKUP(BA46,INDIRECT(AQ38),2,FALSE),"----") -> ---- | BC46: =BC45-1 -> #REF! | BD46: =IFERROR(VLOOKUP(BC46,INDIRECT(AQ39),2,FALSE),"----") -> ---- | BE46: =BE45-1 -> #REF! | BF46: =IFERROR(VLOOKUP(BE46,INDIRECT(AQ40),2,FALSE),"----") -> ---- | BG46: =BG45-1 -> #REF! | BH46: =IFERROR(VLOOKUP(BG46,INDIRECT(AQ41),2,FALSE),"----") -> ---- | BI46: =BI45-1 -> #REF! | BJ46: =IFERROR(VLOOKUP(BI46,INDIRECT(AQ42),2,FALSE),"----") -> ---- | BK46: =BK45-1 -> #REF! | BL46: =IFERROR(VLOOKUP(BK46,INDIRECT(AQ43),2,FALSE),"----") -> ---- | BM46: =BM45-1 -> #REF! | BN46: =IFERROR(VLOOKUP(BM46,INDIRECT(AQ44),2,FALSE),"----") -> ---- | BO46: =BO45-1 -> #REF! | BP46: =IFERROR(VLOOKUP(BO46,INDIRECT(AQ45),2,FALSE),"----") -> ---- | BQ46: =BQ45-1 -> #REF! | BR46: =IFERROR(VLOOKUP(BQ46,INDIRECT(AQ46),2,FALSE),"----") -> ---- | BS46: =IF(AI46="",1,IF(COUNTIF(BR35:BR46,AI46)=0,2,1)) -> 1 | BT46: =IF(AF46="",1,IF(BR35=".",2,1)) -> 1 | BV46: =IF(COUNTIF(EH35:EH46,AF46)=0,IF(AF46<>"",0,1),1) -> 1 | BW46: =IFERROR(MATCH(AF46,EH35:EH46,0),1) -> 1 | CA46: =CA45-1 -> #REF! | CB46: {=IF(AND(INDEX(INDIRECT(BY35),CA46,4)>=$AB35,INDEX(INDIRECT(BY35),CA46,5)>=$S35,INDEX(INDIRECT(BY35),CA46,6)>=$R35),1,0)} -> #REF! | CC46: =MATCH(1,OFFSET(CB35:CB46,CD45,0,COUNT(CB35:CB46)-CD45),0) -> #REF! | CD46: =CD45+CC46 -> #REF! | CE46: {=IFERROR(VLOOKUP(INDEX(CA35:CA46,CD46),INDIRECT(BY35),2,FALSE),"----")} -> ---- | CF46: =CF45-1 -> #N/A | CG46: =IF(AND(INDEX(SSM,CF46,4)>=$AB35,INDEX(SSM,CF46,5)>=$S35,INDEX(SSM,CF46,6)>=$R35),1,0) -> #N/A | CH46: =MATCH(1,OFFSET(CG35:CG46,CI45,0,COUNT(CG35:CG46)-CI45),0) -> #REF! | CI46: =CI45+CH46 -> #REF! | CJ46: =IFERROR(IF(AD36="Nested Steel Stud (wood infill)",VLOOKUP(INDEX(CF35:CF46,CI46),SSW,2,FALSE),VLOOKUP(INDEX(CF35:CF46,CI46),SSM,2,FALSE)),"----") -> ---- | CK46: =CK45-1 -> #N/A | CL46: =IF(AND(INDEX(WSM,CK46,4)>=$AB35,INDEX(WSM,CK46,5)>=$S35,INDEX(WSM,CK46,6)>=$R35),1,0) -> #N/A | CM46: =MATCH(1,OFFSET(CL35:CL46,CN45,0,COUNT(CL35:CL46)-CN45),0) -> #REF! | CN46: =CM46+CN45 -> #REF! | CO46: =IFERROR(VLOOKUP(INDEX(CK35:CK46,CN46),WSM,2,FALSE),"----") -> ---- | CP46: =CP45-1 -> #N/A | CQ46: =IF(AND(INDEX(STM,CP46,4)>=$AB35,INDEX(STM,CP46,5)>=$S35,INDEX(STM,CP46,6)>=$R35),1,0) -> #N/A | CR46: =MATCH(1,OFFSET(CQ35:CQ46,CS45,0,COUNT(CQ35:CQ46)-CS45),0) -> #REF! | CS46: =CR46+CS45 -> #REF! | CT46: =IFERROR(VLOOKUP(INDEX(CP35:CP46,CS46),STM,2,FALSE),"----") -> ---- | CU46: =CU45-1 -> #N/A | CV46: =IF(AND(INDEX(ELM,CU46,4)>=$AB35,INDEX(ELM,CU46,5)>=$S35,INDEX(ELM,CU46,6)>=$R35),1,0) -> #N/A | CW46: =MATCH(1,OFFSET(CV35:CV46,CX45,0,COUNT(CV35:CV46)-CX45),0) -> #REF! | CX46: =CW46+CX45 -> #REF! | CY46: =IFERROR(VLOOKUP(INDEX(CU35:CU46,CX46),ELM,2,FALSE),"----") -> ---- | CZ46: =CZ45-1 -> #N/A | DA46: =IF(LEFT($J35,7)="Clad Wo",IF(AND(INDEX(SPPWS,CZ46,4)>=$AB35,INDEX(SPPWS,CZ46,5)>=$S35,INDEX(SPPWS,CZ46,6)>=$R35),1,0),IF(AND(INDEX(SPM,CZ46,4)>=$AB35,INDEX(SPM,CZ46,5)>=$S35,INDEX(SPM,CZ46,6)>=$R35),1,0)) -> #N/A | DB46: =MATCH(1,OFFSET(DA35:DA46,DC45,0,COUNT(DA35:DA46)-DC45),0) -> #REF! | DC46: =DC45+DB46 -> #REF! | DD46: =IF(LEFT($J35,7)="Clad Wo",IFERROR(VLOOKUP(INDEX(CZ35:CZ46,DC46),SPPWS,2,FALSE),"----"),IFERROR(VLOOKUP(INDEX(CZ35:CZ46,DC46),SPM,2,FALSE),"----")) -> ---- | DE46: =DE45-1 -> #REF! | DF46: {=IF(AND(INDEX(INDIRECT(BY35),DE46,4)>=$AB41,INDEX(INDIRECT(BY35),DE46,5)>=$S35,INDEX(INDIRECT(BY35),DE46,6)>=$R35),1,0)} -> #REF! | DG46: =MATCH(1,OFFSET(DF35:DF46,DH45,0,COUNT(DF35:DF46)-DH45),0) -> #REF! | DH46: =DH45+DG46 -> #REF! | DI46: {=IFERROR(VLOOKUP(INDEX(DE35:DE46,DH46),INDIRECT(BY35),2,FALSE),"----")} -> ---- | DJ46: =DJ45-1 -> #N/A | DK46: =IF(AND(INDEX(SSM,DJ46,4)>=$AB41,INDEX(SSM,DJ46,5)>=$S35,INDEX(SSM,DJ46,6)>=$R35),1,0) -> #N/A | DL46: =MATCH(1,OFFSET(DK35:DK46,DM45,0,COUNT(DK35:DK46)-DM45),0) -> #REF! | DM46: =DL46+DM45 -> #REF! | DN46: =IFERROR(IF(AD42="Nested Steel Stud (wood infill)",VLOOKUP(INDEX(DJ35:DJ46,DM46),SSW,2,FALSE),VLOOKUP(INDEX(DJ35:DJ46,DM46),SSM,2,FALSE)),"----") -> ---- | DO46: =DO45-1 -> #N/A | DP46: =IF(AND(INDEX(WSM,DO46,4)>=$AB41,INDEX(WSM,DO46,5)>=$S35,INDEX(WSM,DO46,6)>=$R35),1,0) -> #N/A | DQ46: =MATCH(1,OFFSET(DP35:DP46,DR45,0,COUNT(DP35:DP46)-DR45),0) -> #REF! | DR46: =DQ46+DR45 -> #REF! | DS46: =IFERROR(VLOOKUP(INDEX(DO35:DO46,DR46),WSM,2,FALSE),"----") -> ---- | DT46: =DT45-1 -> #N/A | DU46: =IF(AND(INDEX(STM,DT46,4)>=$AB41,INDEX(STM,DT46,5)>=$S35,INDEX(STM,DT46,6)>=$R35),1,0) -> #N/A | DV46: =MATCH(1,OFFSET(DU35:DU46,DW45,0,COUNT(DU35:DU46)-DW45),0) -> #REF! | DW46: =DV46+DW45 -> #REF! | DX46: =IFERROR(VLOOKUP(INDEX(DT35:DT46,DW46),STM,2,FALSE),"----") -> ---- | DY46: =DY45-1 -> #N/A | DZ46: =IF(AND(INDEX(ELM,DY46,4)>=$AB41,INDEX(ELM,DY46,5)>=$S35,INDEX(ELM,DY46,6)>=$R35),1,0) -> #N/A | EA46: =MATCH(1,OFFSET(DZ35:DZ46,EB45,0,COUNT(DZ35:DZ46)-EB45),0) -> #REF! | EB46: =EA46+EB45 -> #REF! | EC46: =IFERROR(VLOOKUP(INDEX(DY35:DY46,EB46),ELM,2,FALSE),"----") -> ---- | ED46: =ED45-1 -> #N/A | EE46: =IF(LEFT($J35,7)="Clad Wo",IF(AND(INDEX(SPPWS,ED46,4)>=$AB41,INDEX(SPPWS,ED46,5)>=$S35,INDEX(SPPWS,ED46,6)>=$R35),1,0),IF(AND(INDEX(SPM,ED46,4)>=$AB41,INDEX(SPM,ED46,5)>=$S35,INDEX(SPM,ED46,6)>=$R35),1,0)) -> #N/A | EF46: =MATCH(1,OFFSET(EE35:EE46,EG45,0,COUNT(EE35:EE46)-EG45),0) -> #REF! | EG46: =EG45+EF46 -> #REF! | EH46: =IF(LEFT($J35,7)="Clad Wo",IFERROR(VLOOKUP(INDEX(ED35:ED46,EG46),SPPWS,2,FALSE),"----"),IFERROR(VLOOKUP(INDEX(ED35:ED46,EG46),SPM,2,FALSE),"----")) -> ----
B47: Unit ID | L47: =$W$3 -> 4 | M47: =IFERROR(IF($AE$13="",IF($AG$19="Wind Loading",MIN($V$31,IF(E$11="ASCE 7-05",$U$26,$V$7)*$V$9*(IF($E$12<60,0.0771*LN(MAX(MIN(500,O47),10)) -1.2737,IF($E$11="ASCE 7-22",0.0524*LN(MAX(MIN(500,O47),50))-1.0278,0.0614*LN(MAX(MIN(500,O47),20)) -1.0829))-$V$8)),$V$7*IF(E$12<60,$V$13*($V$15*0.0771*LN(MAX(MIN(500,O47),10))-1.2737-$V$16),$V$13*$V$15*((0.0524*LN(MAX(MIN(500,O47),20))-1.0278)-$V$16))),-ABS($AE$13)),"") | N47: =IFERROR(IF($AE$15="",IF($AG$19="Wind Loading",MAX($U$31,IF(E$11="ASCE 7-05",$U$26,$V$7)*$V$9*((IF($E$12<60,-0.077*LN(MAX(MIN(500,O47),10))+1.1737,IF($E$11="ASCE 7-22",-0.077*LN(MAX(MIN(500,O47),20))+1.0798,-0.093*LN(MAX(MIN(500,O47),20))+1.1776)))+$V$8)),$V$7*IF(E$12<60,$V$13*($V$15*(-0.077*LN(MAX(MIN(500,O47),10))+1.1737)-$V$17),$V$13*$V$15*((-0.077*LN(MAX(MIN(500,O47),20))+1.0798)-$V$17))),ABS($AE$15)),"") | O47: =IF(BX54=0,"",IF(AG$14="Trapezoidal",BY54,BX54)) | R47: =P47*Q47/8 -> 0 | S47: =IF(5*(P47*Q47^3/(384*0.125))=0,0,5*(P47*Q47^3/(384*0.125))) -> 0 | U47: =VLOOKUP(J51,INDIRECT(VLOOKUP(J47,FrameStrength,2,FALSE)),3,FALSE) -> #N/A | V47: =(H47+I47)/2 -> 0 | W47: =MAX(-M47,N47)*O47 -> #VALUE! | X47: =IF(E47>162,(E47/240+0.25),IF(AND(E47<162,E47/175<0.75),E47/175,0.75)) -> 0 | Y47: =IFERROR(IF(AG$14="Trapezoidal",BY55,BX55)+IF($E$17="4",(400*E47^3)/(48*X47),0),0) -> 0 | Z47: =+($V47*MAX(-$M47,$N47)*$E47^2)/(144*8)+IF($E$17=4,(400*$E47)/4,0) -> #VALUE! | AA47: =VLOOKUP(J51,INDIRECT(VLOOKUP(J47,FrameStrength,2,FALSE)),2,FALSE) -> #N/A | AB47: =IFERROR(Z47-AA47,"") | AC47: =IFERROR(Y47-U47,"") | AD47: =IFERROR(IF(LEFT(J51,2)="As",VLOOKUP(J51,EIMM,4,FALSE),VLOOKUP(J47,EIMM,4,FALSE)),IF(AND(ISNUMBER(SEARCH("Impervia",J47)),ISNUMBER(SEARCH("door",J51))),'New Lookup Cells'!AF$10,IF(ISNUMBER(SEARCH("Impervia",J47)),'New Lookup Cells'!AF$7,IF(AND(ISNUMBER(SEARCH("250",J47)),ISNUMBER(SEARCH("door",J51))),'New Lookup Cells'!AF$14,IF(ISNUMBER(SEARCH("250",J47)),'New Lookup Cells'!AF$13,""))))) | AK47: =IFERROR(VLOOKUP(AI47,OFFSET(INDIRECT(AQ47),0,1),2,FALSE),"") | AL47: =IFERROR(ROUND(SQRT(P47^2+(W47/2+IF($E$17=4,200,0))^2),0),"") | AM47: NA | AN47: =IF(BW47>1,"Lighter Reinforcement Options Available","") | AP47: =_xlfn.CONCAT(AR47,AS52) | AQ47: =IFERROR(LEFT(AP47,LEN(AP47)-1),"") | AR47: =IFERROR(VLOOKUP(AF47,MullList,2,FALSE),"") | AS47: =IF(COUNTIF(imp_1,AF47)=1,"imp_1",IF(COUNTIF(imp_2,AF47)=1,"imp_2",IF(COUNTIF(imp_3,AF47)=1,"imp_3",IF(COUNTIF(impdoor,AF47)=1,"impdoor","")))) | AT47: =AL47 | AU47: =MATCH(AL47,INDIRECT(AP47),-1) -> #REF! | AV47: =IFERROR(VLOOKUP(AU47,INDIRECT(AQ47),2,FALSE),"----") -> ---- | AW47: =MATCH(AL47,INDIRECT(AP48),-1) -> #REF! | AX47: =IFERROR(VLOOKUP(AW47,INDIRECT(AQ48),2,FALSE),"----") -> ---- | AY47: =MATCH(AL47,INDIRECT(AP49),-1) -> #REF! | AZ47: =IFERROR(VLOOKUP(AY47,INDIRECT(AQ49),2,FALSE),"----") -> ---- | BA47: =MATCH(AL47,INDIRECT(AP50),-1) -> #REF! | BB47: =IFERROR(VLOOKUP(BA47,INDIRECT(AQ50),2,FALSE),"----") -> ---- | BC47: =MATCH(AL47,INDIRECT(AP51),-1) -> #REF! | BD47: =IFERROR(VLOOKUP(BC47,INDIRECT(AQ51),2,FALSE),"----") -> ---- | BE47: =MATCH(AL47,INDIRECT(AP52),-1) -> #REF! | BF47: =IFERROR(VLOOKUP(BE47,INDIRECT(AQ52),2,FALSE),"----") -> ---- | BG47: =MATCH(AL53,INDIRECT(AP53),-1) -> #REF! | BH47: =IFERROR(VLOOKUP(BG47,INDIRECT(AQ53),2,FALSE),"----") -> ---- | BI47: =MATCH(AL53,INDIRECT(AP54),-1) -> #REF! | BJ47: =IFERROR(VLOOKUP(BI47,INDIRECT(AQ54),2,FALSE),"----") -> ---- | BK47: =MATCH(AL53,INDIRECT(AP55),-1) -> #REF! | BL47: =IFERROR(VLOOKUP(BK47,INDIRECT(AQ55),2,FALSE),"----") -> ---- | BM47: =MATCH(AL53,INDIRECT(AP56),-1) -> #REF! | BN47: =IFERROR(VLOOKUP(BM47,INDIRECT(AQ56),2,FALSE),"----") -> ---- | BO47: =MATCH(AL53,INDIRECT(AP57),-1) -> #REF! | BP47: =IFERROR(VLOOKUP(BO47,INDIRECT(AQ57),2,FALSE),"----") -> ---- | BQ47: =MATCH(AL53,INDIRECT(AP58),-1) -> #REF! | BR47: =IFERROR(VLOOKUP(BQ47,INDIRECT(AQ58),2,FALSE),"----") -> ---- | BS47: =IF(AI47="",1,IF(COUNTIF(AV47:AV58,AI47)=0,2,1)) -> 1 | BT47: =IF(AP47="1",1,IF(AF47="",1,IF(AV47=".",2,1))) -> 1 | BV47: =IF(COUNTIF(CE47:CE58,AF47)=0,IF(AF47<>"",0,1),1) -> 1 | BW47: =IFERROR(MATCH(AF47,CE47:CE58,0),1) -> 1 | BX47: =IFERROR(IF(LEFT(J51,2)="As",VLOOKUP(J51,EIMM,2,FALSE),IF(AND(ISNUMBER(SEARCH("Impervia",J47)),ISNUMBER(SEARCH("door",J51))),VLOOKUP("Impervia Door",EIMM,2,FALSE),IF(AND(ISNUMBER(SEARCH("250",J47)),ISNUMBER(SEARCH("door",J51))),VLOOKUP("250 Series Door",EIMM,2,FALSE),VLOOKUP(J47,EIMM,2,FALSE)))),"") | BY47: =IFERROR(VLOOKUP(BX47,OFFSET(EIMM,0,1),2,FALSE),"") | BZ47: =IF((COUNTIF(INDIRECT(SUBSTITUTE(J47," ","_")),J51))=0,IF(J51="",1,0),1) -> #REF! | CA47: =MATCH(AC47,INDIRECT(BX47),-1) -> #REF! | CB47: {=IF(AND(INDEX(INDIRECT(BY47),CA47,4)>=$AB47,INDEX(INDIRECT(BY47),CA47,5)>=$S47,INDEX(INDIRECT(BY47),CA47,6)>=$R47),1,0)} -> #REF! | CC47: =MATCH(1,OFFSET(CB47:CB58,$W$2,0,COUNT(CB47:CB58)-$W$2),0) -> #REF! | CD47: =$W$2+CC47 -> #REF! | CE47: {=IFERROR(VLOOKUP(INDEX(CA47:CA58,CD47),INDIRECT(BY47),2,FALSE),"----")} -> ---- | CF47: =MATCH($AC47,SSEI,-1) -> #N/A | CG47: =IF(AND(INDEX(SSM,CF47,4)>=$AB47,INDEX(SSM,CF47,5)>=$S47,INDEX(SSM,CF47,6)>=$R47),1,0) -> #N/A | CH47: =MATCH(1,OFFSET(CG47:CG58,$W$2,0,COUNT(CG47:CG58)-$W$2),0) -> #REF! | CI47: =$W$2+CH47 -> #REF! | CJ47: =IFERROR(IF(AD48="Nested Steel Stud (wood infill)",VLOOKUP(INDEX(CF47:CF58,CI47),SSW,2,FALSE),VLOOKUP(INDEX(CF47:CF58,CI47),SSM,2,FALSE)),"----") -> ---- | CK47: =MATCH($AC47,WSEI,-1) -> #N/A | CL47: =IF(AND(INDEX(WSM,CK47,4)>=$AB47,INDEX(WSM,CK47,5)>=$S47,INDEX(WSM,CK47,6)>=$R47),1,0) -> #N/A | CM47: =MATCH(1,OFFSET(CL47:CL58,$W$2,0,COUNT(CL47:CL58)-$W$2),0) -> #REF! | CN47: =$W$2+CM47 -> #REF! | CO47: =IFERROR(VLOOKUP(INDEX(CK47:CK58,CN47),WSM,2,FALSE),"----") -> ---- | CP47: =MATCH($AC47,STEI,-1) -> #N/A | CQ47: =IF(AND(INDEX(STM,CP47,4)>=$AB47,INDEX(STM,CP47,5)>=$S47,INDEX(STM,CP47,6)>=$R47),1,0) -> #N/A | CR47: =MATCH(1,OFFSET(CQ47:CQ58,$W$2,0,COUNT(CQ47:CQ58)-$W$2),0) -> #REF! | CS47: =$W$2+CR47 -> #REF! | CT47: =IFERROR(VLOOKUP(INDEX(CP47:CP58,CS47),STM,2,FALSE),"----") -> ---- | CU47: =MATCH($AC47,ELEI,-1) -> #N/A | CV47: =IF(AND(INDEX(ELM,CU47,4)>=$AB47,INDEX(ELM,CU47,5)>=$S47,INDEX(ELM,CU47,6)>=$R47),1,0) -> #N/A | CW47: =MATCH(1,OFFSET(CV47:CV58,$W$2,0,COUNT(CV47:CV58)-$W$2),0) -> #REF! | CX47: =$W$2+CW47 -> #REF! | CY47: =IFERROR(VLOOKUP(INDEX(CU47:CU58,CX47),ELM,2,FALSE),"----") -> ---- | CZ47: =IF(LEFT($J47,7)="Clad Wo",MATCH($AC47,SPEIW,-1),MATCH($AC47,SPEI,-1)) -> #N/A | DA47: =IF(LEFT($J47,7)="Clad Wo",IF(AND(INDEX(SPPWS,CZ47,4)>=$AB47,INDEX(SPPWS,CZ47,5)>=$S47,INDEX(SPPWS,CZ47,6)>=$R47),1,0),IF(AND(INDEX(SPM,CZ47,4)>=$AB47,INDEX(SPM,CZ47,5)>=$S47,INDEX(SPM,CZ47,6)>=$R47),1,0)) -> #N/A | DB47: =MATCH(1,OFFSET(DA47:DA58,$W$2,0,COUNT(DA47:DA58)-$W$2),0) -> #REF! | DC47: =$W$2+DB47 -> #REF! | DD47: =IF(LEFT($J47,7)="Clad Wo",IFERROR(VLOOKUP(INDEX(CZ47:CZ58,DC47),SPPWS,2,FALSE),"----"),IFERROR(VLOOKUP(INDEX(CZ47:CZ58,DC47),SPM,2,FALSE),"----")) -> ---- | DE47: =MATCH(AC53,INDIRECT(BX47),-1) -> #REF! | DF47: {=IF(AND(INDEX(INDIRECT(BY47),DE47,4)>=$AB53,INDEX(INDIRECT(BY47),DE47,5)>=$S47,INDEX(INDIRECT(BY47),DE47,6)>=$R47),1,0)} -> #REF! | DG47: =MATCH(1,OFFSET(DF47:DF58,$W$2,0,COUNT(DF47:DF58)-$W$2),0) -> #REF! | DH47: =$W$2+DG47 -> #REF! | DI47: {=IFERROR(VLOOKUP(INDEX(DE47:DE58,DH47),INDIRECT(BY47),2,FALSE),"----")} -> ---- | DJ47: =MATCH($AC53,SSEI,-1) -> #N/A | DK47: =IF(AND(INDEX(SSM,DJ47,4)>=$AB53,INDEX(SSM,DJ47,5)>=$S47,INDEX(SSM,DJ47,6)>=$R47),1,0) -> #N/A | DL47: =MATCH(1,OFFSET(DK47:DK58,$W$2,0,COUNT(DK47:DK58)-$W$2),0) -> #REF! | DM47: =$W$2+DL47 -> #REF! | DN47: =IFERROR(IF(AD54="Nested Steel Stud (wood infill)",VLOOKUP(INDEX(DJ47:DJ58,DM47),SSW,2,FALSE),VLOOKUP(INDEX(DJ47:DJ58,DM47),SSM,2,FALSE)),"----") -> ---- | DO47: =MATCH($AC53,WSEI,-1) -> #N/A | DP47: =IF(AND(INDEX(WSM,DO47,4)>=$AB53,INDEX(WSM,DO47,5)>=$S47,INDEX(WSM,DO47,6)>=$R47),1,0) -> #N/A | DQ47: =MATCH(1,OFFSET(DP47:DP58,$W$2,0,COUNT(DP47:DP58)-$W$2),0) -> #REF! | DR47: =$W$2+DQ47 -> #REF! | DS47: =IFERROR(VLOOKUP(INDEX(DO47:DO58,DR47),WSM,2,FALSE),"----") -> ---- | DT47: =MATCH($AC53,STEI,-1) -> #N/A | DU47: =IF(AND(INDEX(STM,DT47,4)>=$AB53,INDEX(STM,DT47,5)>=$S47,INDEX(STM,DT47,6)>=$R47),1,0) -> #N/A | DV47: =MATCH(1,OFFSET(DU47:DU58,$W$2,0,COUNT(DU47:DU58)-$W$2),0) -> #REF! | DW47: =$W$2+DV47 -> #REF! | DX47: =IFERROR(VLOOKUP(INDEX(DT47:DT58,DW47),STM,2,FALSE),"----") -> ---- | DY47: =MATCH($AC53,ELEI,-1) -> #N/A | DZ47: =IF(AND(INDEX(ELM,DY47,4)>=$AB53,INDEX(ELM,DY47,5)>=$S47,INDEX(ELM,DY47,6)>=$R47),1,0) -> #N/A | EA47: =MATCH(1,OFFSET(DZ47:DZ58,$W$2,0,COUNT(DZ47:DZ58)-$W$2),0) -> #REF! | EB47: =EA47+$W$2 -> #REF! | EC47: =IFERROR(VLOOKUP(INDEX(DY47:DY58,EB47),ELM,2,FALSE),"----") -> ---- | ED47: =IF(LEFT($J47,7)="Clad Wo",MATCH($AC53,SPEIW,-1),MATCH($AC53,SPEI,-1)) -> #N/A | EE47: =IF(LEFT($J47,7)="Clad Wo",IF(AND(INDEX(SPPWS,ED47,4)>=$AB53,INDEX(SPPWS,ED47,5)>=$S47,INDEX(SPPWS,ED47,6)>=$R47),1,0),IF(AND(INDEX(SPM,ED47,4)>=$AB53,INDEX(SPM,ED47,5)>=$S47,INDEX(SPM,ED47,6)>=$R47),1,0)) -> #N/A | EF47: =MATCH(1,OFFSET(EE47:EE58,$W$2,0,COUNT(EE47:EE58)-$W$2),0) -> #REF! | EG47: =$W$2+EF47 -> #REF! | EH47: =IF(LEFT($J47,7)="Clad Wo",IFERROR(VLOOKUP(INDEX(ED47:ED58,EG47),SPPWS,2,FALSE),"----"),IFERROR(VLOOKUP(INDEX(ED47:ED58,EG47),SPM,2,FALSE),"----")) -> ----
AD48: Nested Steel Stud | AK48: =IFERROR(VLOOKUP(AI48,OFFSET(INDIRECT(AQ48),0,1),2,FALSE),"") | AM48: =IFERROR(Q47/12*ROUND(VLOOKUP(AF48,OFFSET(SSM,0,1),6,FALSE),2),"") | AN48: =IF(BW48>1,"Lighter Reinforcement Options Available","") | AP48: =_xlfn.CONCAT(AR48,AS52) | AQ48: =IFERROR(LEFT(AP48,LEN(AP48)-1),"") | AR48: =IFERROR(VLOOKUP(AF48,MullList,2,FALSE),"") | AS48: =IF(COUNTIF(Vista_1,AF47)=1,"Vista_1",IF(COUNTIF(Vista_2,AF47)=1,"Vista_2","")) | AT48: =AL47 | AU48: =AU47-1 -> #REF! | AV48: =IFERROR(VLOOKUP(AU48,INDIRECT(AQ47),2,FALSE),"----") -> ---- | AW48: =AW47-1 -> #REF! | AX48: =IFERROR(VLOOKUP(AW48,INDIRECT(AQ48),2,FALSE),"----") -> ---- | AY48: =AY47-1 -> #REF! | AZ48: =IFERROR(VLOOKUP(AY48,INDIRECT(AQ49),2,FALSE),"----") -> ---- | BA48: =BA47-1 -> #REF! | BB48: =IFERROR(VLOOKUP(BA48,INDIRECT(AQ50),2,FALSE),"----") -> ---- | BC48: =BC47-1 -> #REF! | BD48: =IFERROR(VLOOKUP(BC48,INDIRECT(AQ51),2,FALSE),"----") -> ---- | BE48: =BE47-1 -> #REF! | BF48: =IFERROR(VLOOKUP(BE48,INDIRECT(AQ52),2,FALSE),"----") -> ---- | BG48: =BG47-1 -> #REF! | BH48: =IFERROR(VLOOKUP(BG48,INDIRECT(AQ53),2,FALSE),"----") -> ---- | BI48: =BI47-1 -> #REF! | BJ48: =IFERROR(VLOOKUP(BI48,INDIRECT(AQ54),2,FALSE),"----") -> ---- | BK48: =BK47-1 -> #REF! | BL48: =IFERROR(VLOOKUP(BK48,INDIRECT(AQ55),2,FALSE),"----") -> ---- | BM48: =BM47-1 -> #REF! | BN48: =IFERROR(VLOOKUP(BM48,INDIRECT(AQ56),2,FALSE),"----") -> ---- | BO48: =BO47-1 -> #REF! | BP48: =IFERROR(VLOOKUP(BO48,INDIRECT(AQ57),2,FALSE),"----") -> ---- | BQ48: =BQ47-1 -> #REF! | BR48: =IFERROR(VLOOKUP(BQ48,INDIRECT(AQ58),2,FALSE),"----") -> ---- | BS48: =IF(AI48="",1,IF(COUNTIF(AX47:AX58,AI48)=0,2,1)) -> 1 | BT48: =IF(AF48="",1,IF(AX47=".",2,1)) -> 1 | BV48: =IF(COUNTIF(CJ47:CJ58,AF48)=0,IF(AF48<>"",0,1),1) -> 1 | BW48: =IFERROR(MATCH(AF48,CJ47:CJ58,0),1) -> 1 | CA48: =CA47-1 -> #REF! | CB48: {=IF(AND(INDEX(INDIRECT(BY47),CA48,4)>=$AB47,INDEX(INDIRECT(BY47),CA48,5)>=$S47,INDEX(INDIRECT(BY47),CA48,6)>=$R47),1,0)} -> #REF! | CC48: =MATCH(1,OFFSET(CB47:CB58,CD47,0,COUNT(CB47:CB58)-CD47),0) -> #REF! | CD48: =CD47+CC48 -> #REF! | CE48: {=IFERROR(VLOOKUP(INDEX(CA47:CA58,CD48),INDIRECT(BY47),2,FALSE),"----")} -> ---- | CF48: =CF47-1 -> #N/A | CG48: =IF(AND(INDEX(SSM,CF48,4)>=$AB47,INDEX(SSM,CF48,5)>=$S47,INDEX(SSM,CF48,6)>=$R47),1,0) -> #N/A | CH48: =MATCH(1,OFFSET(CG47:CG58,CI47,0,COUNT(CG47:CG58)-CI47),0) -> #REF! | CI48: =CI47+CH48 -> #REF! | CJ48: =IFERROR(IF(AD48="Nested Steel Stud (wood infill)",VLOOKUP(INDEX(CF47:CF58,CI48),SSW,2,FALSE),VLOOKUP(INDEX(CF47:CF58,CI48),SSM,2,FALSE)),"----") -> ---- | CK48: =CK47-1 -> #N/A | CL48: =IF(AND(INDEX(WSM,CK48,4)>=$AB47,INDEX(WSM,CK48,5)>=$S47,INDEX(WSM,CK48,6)>=$R47),1,0) -> #N/A | CM48: =MATCH(1,OFFSET(CL47:CL58,CN47,0,COUNT(CL47:CL58)-CN47),0) -> #REF! | CN48: =CM48+CN47 -> #REF! | CO48: =IFERROR(VLOOKUP(INDEX(CK47:CK58,CN48),WSM,2,FALSE),"----") -> ---- | CP48: =CP47-1 -> #N/A | CQ48: =IF(AND(INDEX(STM,CP48,4)>=$AB47,INDEX(STM,CP48,5)>=$S47,INDEX(STM,CP48,6)>=$R47),1,0) -> #N/A | CR48: =MATCH(1,OFFSET(CQ47:CQ58,CS47,0,COUNT(CQ47:CQ58)-CS47),0) -> #REF! | CS48: =CR48+CS47 -> #REF! | CT48: =IFERROR(VLOOKUP(INDEX(CP47:CP58,CS48),STM,2,FALSE),"----") -> ---- | CU48: =CU47-1 -> #N/A | CV48: =IF(AND(INDEX(ELM,CU48,4)>=$AB47,INDEX(ELM,CU48,5)>=$S47,INDEX(ELM,CU48,6)>=$R47),1,0) -> #N/A | CW48: =MATCH(1,OFFSET(CV47:CV58,CX47,0,COUNT(CV47:CV58)-CX47),0) -> #REF! | CX48: =CW48+CX47 -> #REF! | CY48: =IFERROR(VLOOKUP(INDEX(CU47:CU58,CX48),ELM,2,FALSE),"----") -> ---- | CZ48: =CZ47-1 -> #N/A | DA48: =IF(LEFT($J47,7)="Clad Wo",IF(AND(INDEX(SPPWS,CZ48,4)>=$AB47,INDEX(SPPWS,CZ48,5)>=$S47,INDEX(SPPWS,CZ48,6)>=$R47),1,0),IF(AND(INDEX(SPM,CZ48,4)>=$AB47,INDEX(SPM,CZ48,5)>=$S47,INDEX(SPM,CZ48,6)>=$R47),1,0)) -> #N/A | DB48: =MATCH(1,OFFSET(DA47:DA58,DC47,0,COUNT(DA47:DA58)-DC47),0) -> #REF! | DC48: =DC47+DB48 -> #REF! | DD48: =IF(LEFT($J47,7)="Clad Wo",IFERROR(VLOOKUP(INDEX(CZ47:CZ58,DC48),SPPWS,2,FALSE),"----"),IFERROR(VLOOKUP(INDEX(CZ47:CZ58,DC48),SPM,2,FALSE),"----")) -> ---- | DE48: =DE47-1 -> #REF! | DF48: {=IF(AND(INDEX(INDIRECT(BY47),DE48,4)>=$AB53,INDEX(INDIRECT(BY47),DE48,5)>=$S47,INDEX(INDIRECT(BY47),DE48,6)>=$R47),1,0)} -> #REF! | DG48: =MATCH(1,OFFSET(DF47:DF58,DH47,0,COUNT(DF47:DF58)-DH47),0) -> #REF! | DH48: =DH47+DG48 -> #REF! | DI48: {=IFERROR(VLOOKUP(INDEX(DE47:DE58,DH48),INDIRECT(BY47),2,FALSE),"----")} -> ---- | DJ48: =DJ47-1 -> #N/A | DK48: =IF(AND(INDEX(SSM,DJ48,4)>=$AB53,INDEX(SSM,DJ48,5)>=$S47,INDEX(SSM,DJ48,6)>=$R47),1,0) -> #N/A | DL48: =MATCH(1,OFFSET(DK47:DK58,DM47,0,COUNT(DK47:DK58)-DM47),0) -> #REF! | DM48: =DL48+DM47 -> #REF! | DN48: =IFERROR(IF(AD54="Nested Steel Stud (wood infill)",VLOOKUP(INDEX(DJ47:DJ58,DM48),SSW,2,FALSE),VLOOKUP(INDEX(DJ47:DJ58,DM48),SSM,2,FALSE)),"----") -> ---- | DO48: =DO47-1 -> #N/A | DP48: =IF(AND(INDEX(WSM,DO48,4)>=$AB53,INDEX(WSM,DO48,5)>=$S47,INDEX(WSM,DO48,6)>=$R47),1,0) -> #N/A | DQ48: =MATCH(1,OFFSET(DP47:DP58,DR47,0,COUNT(DP47:DP58)-DR47),0) -> #REF! | DR48: =DQ48+DR47 -> #REF! | DS48: =IFERROR(VLOOKUP(INDEX(DO47:DO58,DR48),WSM,2,FALSE),"----") -> ---- | DT48: =DT47-1 -> #N/A | DU48: =IF(AND(INDEX(STM,DT48,4)>=$AB53,INDEX(STM,DT48,5)>=$S47,INDEX(STM,DT48,6)>=$R47),1,0) -> #N/A | DV48: =MATCH(1,OFFSET(DU47:DU58,DW47,0,COUNT(DU47:DU58)-DW47),0) -> #REF! | DW48: =DV48+DW47 -> #REF! | DX48: =IFERROR(VLOOKUP(INDEX(DT47:DT58,DW48),STM,2,FALSE),"----") -> ---- | DY48: =DY47-1 -> #N/A | DZ48: =IF(AND(INDEX(ELM,DY48,4)>=$AB53,INDEX(ELM,DY48,5)>=$S47,INDEX(ELM,DY48,6)>=$R47),1,0) -> #N/A | EA48: =MATCH(1,OFFSET(DZ47:DZ58,EB47,0,COUNT(DZ47:DZ58)-EB47),0) -> #REF! | EB48: =EA48+EB47 -> #REF! | EC48: =IFERROR(VLOOKUP(INDEX(DY47:DY58,EB48),ELM,2,FALSE),"----") -> ---- | ED48: =ED47-1 -> #N/A | EE48: =IF(LEFT($J47,7)="Clad Wo",IF(AND(INDEX(SPPWS,ED48,4)>=$AB53,INDEX(SPPWS,ED48,5)>=$S47,INDEX(SPPWS,ED48,6)>=$R47),1,0),IF(AND(INDEX(SPM,ED48,4)>=$AB53,INDEX(SPM,ED48,5)>=$S47,INDEX(SPM,ED48,6)>=$R47),1,0)) -> #N/A | EF48: =MATCH(1,OFFSET(EE47:EE58,EG47,0,COUNT(EE47:EE58)-EG47),0) -> #REF! | EG48: =EG47+EF48 -> #REF! | EH48: =IF(LEFT($J47,7)="Clad Wo",IFERROR(VLOOKUP(INDEX(ED47:ED58,EG48),SPPWS,2,FALSE),"----"),IFERROR(VLOOKUP(INDEX(ED47:ED58,EG48),SPM,2,FALSE),"----")) -> ----
AD49: Wood Stud Framing | AK49: =IFERROR(VLOOKUP(AI49,OFFSET(INDIRECT(AQ49),0,1),2,FALSE),"") | AM49: =IFERROR(Q47/12*ROUND(VLOOKUP(AF49,OFFSET(WSM,0,1),6,FALSE),2),"") | AN49: =IF(BW49>1,"Lighter Reinforcement Options Available","") | AP49: =_xlfn.CONCAT(AR49,AS52) | AQ49: =IFERROR(LEFT(AP49,LEN(AP49)-1),"") | AR49: =IFERROR(VLOOKUP(AF49,MullList,2,FALSE),"") | AT49: =AL47 | AU49: =AU48-1 -> #REF! | AV49: =IFERROR(VLOOKUP(AU49,INDIRECT(AQ47),2,FALSE),"----") -> ---- | AW49: =AW48-1 -> #REF! | AX49: =IFERROR(VLOOKUP(AW49,INDIRECT(AQ48),2,FALSE),"----") -> ---- | AY49: =AY48-1 -> #REF! | AZ49: =IFERROR(VLOOKUP(AY49,INDIRECT(AQ49),2,FALSE),"----") -> ---- | BA49: =BA48-1 -> #REF! | BB49: =IFERROR(VLOOKUP(BA49,INDIRECT(AQ50),2,FALSE),"----") -> ---- | BC49: =BC48-1 -> #REF! | BD49: =IFERROR(VLOOKUP(BC49,INDIRECT(AQ51),2,FALSE),"----") -> ---- | BE49: =BE48-1 -> #REF! | BF49: =IFERROR(VLOOKUP(BE49,INDIRECT(AQ52),2,FALSE),"----") -> ---- | BG49: =BG48-1 -> #REF! | BH49: =IFERROR(VLOOKUP(BG49,INDIRECT(AQ53),2,FALSE),"----") -> ---- | BI49: =BI48-1 -> #REF! | BJ49: =IFERROR(VLOOKUP(BI49,INDIRECT(AQ54),2,FALSE),"----") -> ---- | BK49: =BK48-1 -> #REF! | BL49: =IFERROR(VLOOKUP(BK49,INDIRECT(AQ55),2,FALSE),"----") -> ---- | BM49: =BM48-1 -> #REF! | BN49: =IFERROR(VLOOKUP(BM49,INDIRECT(AQ56),2,FALSE),"----") -> ---- | BO49: =BO48-1 -> #REF! | BP49: =IFERROR(VLOOKUP(BO49,INDIRECT(AQ57),2,FALSE),"----") -> ---- | BQ49: =BQ48-1 -> #REF! | BR49: =IFERROR(VLOOKUP(BQ49,INDIRECT(AQ58),2,FALSE),"----") -> ---- | BS49: =IF(AI49="",1,IF(COUNTIF(AZ47:AZ58,AI49)=0,2,1)) -> 1 | BT49: =IF(AF49="",1,IF(AZ47=".",2,1)) -> 1 | BV49: =IF(COUNTIF(CO47:CO58,AF49)=0,IF(AF49<>"",0,1),1) -> 1 | BW49: =IFERROR(MATCH(AF49,CO47:CO58,0),1) -> 1 | CA49: =CA48-1 -> #REF! | CB49: {=IF(AND(INDEX(INDIRECT(BY47),CA49,4)>=$AB47,INDEX(INDIRECT(BY47),CA49,5)>=$S47,INDEX(INDIRECT(BY47),CA49,6)>=$R47),1,0)} -> #REF! | CC49: =MATCH(1,OFFSET(CB47:CB58,CD48,0,COUNT(CB47:CB58)-CD48),0) -> #REF! | CD49: =CD48+CC49 -> #REF! | CE49: {=IFERROR(VLOOKUP(INDEX(CA47:CA58,CD49),INDIRECT(BY47),2,FALSE),"----")} -> ---- | CF49: =CF48-1 -> #N/A | CG49: =IF(AND(INDEX(SSM,CF49,4)>=$AB47,INDEX(SSM,CF49,5)>=$S47,INDEX(SSM,CF49,6)>=$R47),1,0) -> #N/A | CH49: =MATCH(1,OFFSET(CG47:CG58,CI48,0,COUNT(CG47:CG58)-CI48),0) -> #REF! | CI49: =CI48+CH49 -> #REF! | CJ49: =IFERROR(IF(AD48="Nested Steel Stud (wood infill)",VLOOKUP(INDEX(CF47:CF58,CI49),SSW,2,FALSE),VLOOKUP(INDEX(CF47:CF58,CI49),SSM,2,FALSE)),"----") -> ---- | CK49: =CK48-1 -> #N/A | CL49: =IF(AND(INDEX(WSM,CK49,4)>=$AB47,INDEX(WSM,CK49,5)>=$S47,INDEX(WSM,CK49,6)>=$R47),1,0) -> #N/A | CM49: =MATCH(1,OFFSET(CL47:CL58,CN48,0,COUNT(CL47:CL58)-CN48),0) -> #REF! | CN49: =CM49+CN48 -> #REF! | CO49: =IFERROR(VLOOKUP(INDEX(CK47:CK58,CN49),WSM,2,FALSE),"----") -> ---- | CP49: =CP48-1 -> #N/A | CQ49: =IF(AND(INDEX(STM,CP49,4)>=$AB47,INDEX(STM,CP49,5)>=$S47,INDEX(STM,CP49,6)>=$R47),1,0) -> #N/A | CR49: =MATCH(1,OFFSET(CQ47:CQ58,CS48,0,COUNT(CQ47:CQ58)-CS48),0) -> #REF! | CS49: =CR49+CS48 -> #REF! | CT49: =IFERROR(VLOOKUP(INDEX(CP47:CP58,CS49),STM,2,FALSE),"----") -> ---- | CU49: =CU48-1 -> #N/A | CV49: =IF(AND(INDEX(ELM,CU49,4)>=$AB47,INDEX(ELM,CU49,5)>=$S47,INDEX(ELM,CU49,6)>=$R47),1,0) -> #N/A | CW49: =MATCH(1,OFFSET(CV47:CV58,CX48,0,COUNT(CV47:CV58)-CX48),0) -> #REF! | CX49: =CW49+CX48 -> #REF! | CY49: =IFERROR(VLOOKUP(INDEX(CU47:CU58,CX49),ELM,2,FALSE),"----") -> ---- | CZ49: =CZ48-1 -> #N/A | DA49: =IF(LEFT($J47,7)="Clad Wo",IF(AND(INDEX(SPPWS,CZ49,4)>=$AB47,INDEX(SPPWS,CZ49,5)>=$S47,INDEX(SPPWS,CZ49,6)>=$R47),1,0),IF(AND(INDEX(SPM,CZ49,4)>=$AB47,INDEX(SPM,CZ49,5)>=$S47,INDEX(SPM,CZ49,6)>=$R47),1,0)) -> #N/A | DB49: =MATCH(1,OFFSET(DA47:DA58,DC48,0,COUNT(DA47:DA58)-DC48),0) -> #REF! | DC49: =DC48+DB49 -> #REF! | DD49: =IF(LEFT($J47,7)="Clad Wo",IFERROR(VLOOKUP(INDEX(CZ47:CZ58,DC49),SPPWS,2,FALSE),"----"),IFERROR(VLOOKUP(INDEX(CZ47:CZ58,DC49),SPM,2,FALSE),"----")) -> ---- | DE49: =DE48-1 -> #REF! | DF49: {=IF(AND(INDEX(INDIRECT(BY47),DE49,4)>=$AB53,INDEX(INDIRECT(BY47),DE49,5)>=$S47,INDEX(INDIRECT(BY47),DE49,6)>=$R47),1,0)} -> #REF! | DG49: =MATCH(1,OFFSET(DF47:DF58,DH48,0,COUNT(DF47:DF58)-DH48),0) -> #REF! | DH49: =DH48+DG49 -> #REF! | DI49: {=IFERROR(VLOOKUP(INDEX(DE47:DE58,DH49),INDIRECT(BY47),2,FALSE),"----")} -> ---- | DJ49: =DJ48-1 -> #N/A | DK49: =IF(AND(INDEX(SSM,DJ49,4)>=$AB53,INDEX(SSM,DJ49,5)>=$S47,INDEX(SSM,DJ49,6)>=$R47),1,0) -> #N/A | DL49: =MATCH(1,OFFSET(DK47:DK58,DM48,0,COUNT(DK47:DK58)-DM48),0) -> #REF! | DM49: =DL49+DM48 -> #REF! | DN49: =IFERROR(IF(AD54="Nested Steel Stud (wood infill)",VLOOKUP(INDEX(DJ47:DJ58,DM49),SSW,2,FALSE),VLOOKUP(INDEX(DJ47:DJ58,DM49),SSM,2,FALSE)),"----") -> ---- | DO49: =DO48-1 -> #N/A | DP49: =IF(AND(INDEX(WSM,DO49,4)>=$AB53,INDEX(WSM,DO49,5)>=$S47,INDEX(WSM,DO49,6)>=$R47),1,0) -> #N/A | DQ49: =MATCH(1,OFFSET(DP47:DP58,DR48,0,COUNT(DP47:DP58)-DR48),0) -> #REF! | DR49: =DQ49+DR48 -> #REF! | DS49: =IFERROR(VLOOKUP(INDEX(DO47:DO58,DR49),WSM,2,FALSE),"----") -> ---- | DT49: =DT48-1 -> #N/A | DU49: =IF(AND(INDEX(STM,DT49,4)>=$AB53,INDEX(STM,DT49,5)>=$S47,INDEX(STM,DT49,6)>=$R47),1,0) -> #N/A | DV49: =MATCH(1,OFFSET(DU47:DU58,DW48,0,COUNT(DU47:DU58)-DW48),0) -> #REF! | DW49: =DV49+DW48 -> #REF! | DX49: =IFERROR(VLOOKUP(INDEX(DT47:DT58,DW49),STM,2,FALSE),"----") -> ---- | DY49: =DY48-1 -> #N/A | DZ49: =IF(AND(INDEX(ELM,DY49,4)>=$AB53,INDEX(ELM,DY49,5)>=$S47,INDEX(ELM,DY49,6)>=$R47),1,0) -> #N/A | EA49: =MATCH(1,OFFSET(DZ47:DZ58,EB48,0,COUNT(DZ47:DZ58)-EB48),0) -> #REF! | EB49: =EA49+EB48 -> #REF! | EC49: =IFERROR(VLOOKUP(INDEX(DY47:DY58,EB49),ELM,2,FALSE),"----") -> ---- | ED49: =ED48-1 -> #N/A | EE49: =IF(LEFT($J47,7)="Clad Wo",IF(AND(INDEX(SPPWS,ED49,4)>=$AB53,INDEX(SPPWS,ED49,5)>=$S47,INDEX(SPPWS,ED49,6)>=$R47),1,0),IF(AND(INDEX(SPM,ED49,4)>=$AB53,INDEX(SPM,ED49,5)>=$S47,INDEX(SPM,ED49,6)>=$R47),1,0)) -> #N/A | EF49: =MATCH(1,OFFSET(EE47:EE58,EG48,0,COUNT(EE47:EE58)-EG48),0) -> #REF! | EG49: =EG48+EF49 -> #REF! | EH49: =IF(LEFT($J47,7)="Clad Wo",IFERROR(VLOOKUP(INDEX(ED47:ED58,EG49),SPPWS,2,FALSE),"----"),IFERROR(VLOOKUP(INDEX(ED47:ED58,EG49),SPM,2,FALSE),"----")) -> ----
AD50: Steel Tube | AK50: =IFERROR(VLOOKUP(AI50,OFFSET(INDIRECT(AQ50),0,1),2,FALSE),"") | AM50: =IFERROR(Q47/12*ROUND(VLOOKUP(AF50,OFFSET(STM,0,1),6,FALSE),2),"") | AN50: =IF(BW50>1,"Lighter Reinforcement Options Available","") | AP50: =_xlfn.CONCAT(AR50,AS52) | AQ50: =IFERROR(LEFT(AP50,LEN(AP50)-1),"") | AR50: =IFERROR(VLOOKUP(AF50,MullList,2,FALSE),"") | AT50: =AL47 | AU50: =AU49-1 -> #REF! | AV50: =IFERROR(VLOOKUP(AU50,INDIRECT(AQ47),2,FALSE),"----") -> ---- | AW50: =AW49-1 -> #REF! | AX50: =IFERROR(VLOOKUP(AW50,INDIRECT(AQ48),2,FALSE),"----") -> ---- | AY50: =AY49-1 -> #REF! | AZ50: =IFERROR(VLOOKUP(AY50,INDIRECT(AQ49),2,FALSE),"----") -> ---- | BA50: =BA49-1 -> #REF! | BB50: =IFERROR(VLOOKUP(BA50,INDIRECT(AQ50),2,FALSE),"----") -> ---- | BC50: =BC49-1 -> #REF! | BD50: =IFERROR(VLOOKUP(BC50,INDIRECT(AQ51),2,FALSE),"----") -> ---- | BE50: =BE49-1 -> #REF! | BF50: =IFERROR(VLOOKUP(BE50,INDIRECT(AQ52),2,FALSE),"----") -> ---- | BG50: =BG49-1 -> #REF! | BH50: =IFERROR(VLOOKUP(BG50,INDIRECT(AQ53),2,FALSE),"----") -> ---- | BI50: =BI49-1 -> #REF! | BJ50: =IFERROR(VLOOKUP(BI50,INDIRECT(AQ54),2,FALSE),"----") -> ---- | BK50: =BK49-1 -> #REF! | BL50: =IFERROR(VLOOKUP(BK50,INDIRECT(AQ55),2,FALSE),"----") -> ---- | BM50: =BM49-1 -> #REF! | BN50: =IFERROR(VLOOKUP(BM50,INDIRECT(AQ56),2,FALSE),"----") -> ---- | BO50: =BO49-1 -> #REF! | BP50: =IFERROR(VLOOKUP(BO50,INDIRECT(AQ57),2,FALSE),"----") -> ---- | BQ50: =BQ49-1 -> #REF! | BR50: =IFERROR(VLOOKUP(BQ50,INDIRECT(AQ58),2,FALSE),"----") -> ---- | BS50: =IF(AI50="",1,IF(COUNTIF(BB47:BB58,AI50)=0,2,1)) -> 1 | BT50: =IF(AF50="",1,IF(BB47=".",2,1)) -> 1 | BV50: =IF(COUNTIF(CT47:CT58,AF50)=0,IF(AF50<>"",0,1),1) -> 1 | BW50: =IFERROR(MATCH(AF50,CT47:CT58,0),1) -> 1 | CA50: =CA49-1 -> #REF! | CB50: {=IF(AND(INDEX(INDIRECT(BY47),CA50,4)>=$AB47,INDEX(INDIRECT(BY47),CA50,5)>=$S47,INDEX(INDIRECT(BY47),CA50,6)>=$R47),1,0)} -> #REF! | CC50: =MATCH(1,OFFSET(CB47:CB58,CD49,0,COUNT(CB47:CB58)-CD49),0) -> #REF! | CD50: =CD49+CC50 -> #REF! | CE50: {=IFERROR(VLOOKUP(INDEX(CA47:CA58,CD50),INDIRECT(BY47),2,FALSE),"----")} -> ---- | CF50: =CF49-1 -> #N/A | CG50: =IF(AND(INDEX(SSM,CF50,4)>=$AB47,INDEX(SSM,CF50,5)>=$S47,INDEX(SSM,CF50,6)>=$R47),1,0) -> #N/A | CH50: =MATCH(1,OFFSET(CG47:CG58,CI49,0,COUNT(CG47:CG58)-CI49),0) -> #REF! | CI50: =CI49+CH50 -> #REF! | CJ50: =IFERROR(IF(AD48="Nested Steel Stud (wood infill)",VLOOKUP(INDEX(CF47:CF58,CI50),SSW,2,FALSE),VLOOKUP(INDEX(CF47:CF58,CI50),SSM,2,FALSE)),"----") -> ---- | CK50: =CK49-1 -> #N/A | CL50: =IF(AND(INDEX(WSM,CK50,4)>=$AB47,INDEX(WSM,CK50,5)>=$S47,INDEX(WSM,CK50,6)>=$R47),1,0) -> #N/A | CM50: =MATCH(1,OFFSET(CL47:CL58,CN49,0,COUNT(CL47:CL58)-CN49),0) -> #REF! | CN50: =CM50+CN49 -> #REF! | CO50: =IFERROR(VLOOKUP(INDEX(CK47:CK58,CN50),WSM,2,FALSE),"----") -> ---- | CP50: =CP49-1 -> #N/A | CQ50: =IF(AND(INDEX(STM,CP50,4)>=$AB47,INDEX(STM,CP50,5)>=$S47,INDEX(STM,CP50,6)>=$R47),1,0) -> #N/A | CR50: =MATCH(1,OFFSET(CQ47:CQ58,CS49,0,COUNT(CQ47:CQ58)-CS49),0) -> #REF! | CS50: =CR50+CS49 -> #REF! | CT50: =IFERROR(VLOOKUP(INDEX(CP47:CP58,CS50),STM,2,FALSE),"----") -> ---- | CU50: =CU49-1 -> #N/A | CV50: =IF(AND(INDEX(ELM,CU50,4)>=$AB47,INDEX(ELM,CU50,5)>=$S47,INDEX(ELM,CU50,6)>=$R47),1,0) -> #N/A | CW50: =MATCH(1,OFFSET(CV47:CV58,CX49,0,COUNT(CV47:CV58)-CX49),0) -> #REF! | CX50: =CW50+CX49 -> #REF! | CY50: =IFERROR(VLOOKUP(INDEX(CU47:CU58,CX50),ELM,2,FALSE),"----") -> ---- | CZ50: =CZ49-1 -> #N/A | DA50: =IF(LEFT($J47,7)="Clad Wo",IF(AND(INDEX(SPPWS,CZ50,4)>=$AB47,INDEX(SPPWS,CZ50,5)>=$S47,INDEX(SPPWS,CZ50,6)>=$R47),1,0),IF(AND(INDEX(SPM,CZ50,4)>=$AB47,INDEX(SPM,CZ50,5)>=$S47,INDEX(SPM,CZ50,6)>=$R47),1,0)) -> #N/A | DB50: =MATCH(1,OFFSET(DA47:DA58,DC49,0,COUNT(DA47:DA58)-DC49),0) -> #REF! | DC50: =DC49+DB50 -> #REF! | DD50: =IF(LEFT($J47,7)="Clad Wo",IFERROR(VLOOKUP(INDEX(CZ47:CZ58,DC50),SPPWS,2,FALSE),"----"),IFERROR(VLOOKUP(INDEX(CZ47:CZ58,DC50),SPM,2,FALSE),"----")) -> ---- | DE50: =DE49-1 -> #REF! | DF50: {=IF(AND(INDEX(INDIRECT(BY47),DE50,4)>=$AB53,INDEX(INDIRECT(BY47),DE50,5)>=$S47,INDEX(INDIRECT(BY47),DE50,6)>=$R47),1,0)} -> #REF! | DG50: =MATCH(1,OFFSET(DF47:DF58,DH49,0,COUNT(DF47:DF58)-DH49),0) -> #REF! | DH50: =DH49+DG50 -> #REF! | DI50: {=IFERROR(VLOOKUP(INDEX(DE47:DE58,DH50),INDIRECT(BY47),2,FALSE),"----")} -> ---- | DJ50: =DJ49-1 -> #N/A | DK50: =IF(AND(INDEX(SSM,DJ50,4)>=$AB53,INDEX(SSM,DJ50,5)>=$S47,INDEX(SSM,DJ50,6)>=$R47),1,0) -> #N/A | DL50: =MATCH(1,OFFSET(DK47:DK58,DM49,0,COUNT(DK47:DK58)-DM49),0) -> #REF! | DM50: =DL50+DM49 -> #REF! | DN50: =IFERROR(IF(AD54="Nested Steel Stud (wood infill)",VLOOKUP(INDEX(DJ47:DJ58,DM50),SSW,2,FALSE),VLOOKUP(INDEX(DJ47:DJ58,DM50),SSM,2,FALSE)),"----") -> ---- | DO50: =DO49-1 -> #N/A | DP50: =IF(AND(INDEX(WSM,DO50,4)>=$AB53,INDEX(WSM,DO50,5)>=$S47,INDEX(WSM,DO50,6)>=$R47),1,0) -> #N/A | DQ50: =MATCH(1,OFFSET(DP47:DP58,DR49,0,COUNT(DP47:DP58)-DR49),0) -> #REF! | DR50: =DQ50+DR49 -> #REF! | DS50: =IFERROR(VLOOKUP(INDEX(DO47:DO58,DR50),WSM,2,FALSE),"----") -> ---- | DT50: =DT49-1 -> #N/A | DU50: =IF(AND(INDEX(STM,DT50,4)>=$AB53,INDEX(STM,DT50,5)>=$S47,INDEX(STM,DT50,6)>=$R47),1,0) -> #N/A | DV50: =MATCH(1,OFFSET(DU47:DU58,DW49,0,COUNT(DU47:DU58)-DW49),0) -> #REF! | DW50: =DV50+DW49 -> #REF! | DX50: =IFERROR(VLOOKUP(INDEX(DT47:DT58,DW50),STM,2,FALSE),"----") -> ---- | DY50: =DY49-1 -> #N/A | DZ50: =IF(AND(INDEX(ELM,DY50,4)>=$AB53,INDEX(ELM,DY50,5)>=$S47,INDEX(ELM,DY50,6)>=$R47),1,0) -> #N/A | EA50: =MATCH(1,OFFSET(DZ47:DZ58,EB49,0,COUNT(DZ47:DZ58)-EB49),0) -> #REF! | EB50: =EA50+EB49 -> #REF! | EC50: =IFERROR(VLOOKUP(INDEX(DY47:DY58,EB50),ELM,2,FALSE),"----") -> ---- | ED50: =ED49-1 -> #N/A | EE50: =IF(LEFT($J47,7)="Clad Wo",IF(AND(INDEX(SPPWS,ED50,4)>=$AB53,INDEX(SPPWS,ED50,5)>=$S47,INDEX(SPPWS,ED50,6)>=$R47),1,0),IF(AND(INDEX(SPM,ED50,4)>=$AB53,INDEX(SPM,ED50,5)>=$S47,INDEX(SPM,ED50,6)>=$R47),1,0)) -> #N/A | EF50: =MATCH(1,OFFSET(EE47:EE58,EG49,0,COUNT(EE47:EE58)-EG49),0) -> #REF! | EG50: =EG49+EF50 -> #REF! | EH50: =IF(LEFT($J47,7)="Clad Wo",IFERROR(VLOOKUP(INDEX(ED47:ED58,EG50),SPPWS,2,FALSE),"----"),IFERROR(VLOOKUP(INDEX(ED47:ED58,EG50),SPM,2,FALSE),"----")) -> ----
AD51: Engineered Lumber | AK51: =IFERROR(VLOOKUP(AI51,OFFSET(INDIRECT(AQ51),0,1),2,FALSE),"") | AM51: =IFERROR(Q47/12*ROUND(VLOOKUP(AF51,OFFSET(ELM,0,1),6,FALSE),2),"") | AN51: =IF(BW51>1,"Lighter Reinforcement Options Available","") | AP51: =_xlfn.CONCAT(AR51,AS52) | AQ51: =IFERROR(LEFT(AP51,LEN(AP51)-1),"") | AR51: =IFERROR(VLOOKUP(AF51,MullList,2,FALSE),"") | AT51: =AL47 | AU51: =AU50-1 -> #REF! | AV51: =IFERROR(VLOOKUP(AU51,INDIRECT(AQ47),2,FALSE),"----") -> ---- | AW51: =AW50-1 -> #REF! | AX51: =IFERROR(VLOOKUP(AW51,INDIRECT(AQ48),2,FALSE),"----") -> ---- | AY51: =AY50-1 -> #REF! | AZ51: =IFERROR(VLOOKUP(AY51,INDIRECT(AQ49),2,FALSE),"----") -> ---- | BA51: =BA50-1 -> #REF! | BB51: =IFERROR(VLOOKUP(BA51,INDIRECT(AQ50),2,FALSE),"----") -> ---- | BC51: =BC50-1 -> #REF! | BD51: =IFERROR(VLOOKUP(BC51,INDIRECT(AQ51),2,FALSE),"----") -> ---- | BE51: =BE50-1 -> #REF! | BF51: =IFERROR(VLOOKUP(BE51,INDIRECT(AQ52),2,FALSE),"----") -> ---- | BG51: =BG50-1 -> #REF! | BH51: =IFERROR(VLOOKUP(BG51,INDIRECT(AQ53),2,FALSE),"----") -> ---- | BI51: =BI50-1 -> #REF! | BJ51: =IFERROR(VLOOKUP(BI51,INDIRECT(AQ54),2,FALSE),"----") -> ---- | BK51: =BK50-1 -> #REF! | BL51: =IFERROR(VLOOKUP(BK51,INDIRECT(AQ55),2,FALSE),"----") -> ---- | BM51: =BM50-1 -> #REF! | BN51: =IFERROR(VLOOKUP(BM51,INDIRECT(AQ56),2,FALSE),"----") -> ---- | BO51: =BO50-1 -> #REF! | BP51: =IFERROR(VLOOKUP(BO51,INDIRECT(AQ57),2,FALSE),"----") -> ---- | BQ51: =BQ50-1 -> #REF! | BR51: =IFERROR(VLOOKUP(BQ51,INDIRECT(AQ58),2,FALSE),"----") -> ---- | BS51: =IF(AI51="",1,IF(COUNTIF(BD47:BD58,AI51)=0,2,1)) -> 1 | BT51: =IF(AF51="",1,IF(BD47=".",2,1)) -> 1 | BV51: =IF(COUNTIF(CY47:CY58,AF51)=0,IF(AF51<>"",0,1),1) -> 1 | BW51: =IFERROR(MATCH(AF51,CY47:CY58,0),1) -> 1 | CA51: =CA50-1 -> #REF! | CB51: {=IF(AND(INDEX(INDIRECT(BY47),CA51,4)>=$AB47,INDEX(INDIRECT(BY47),CA51,5)>=$S47,INDEX(INDIRECT(BY47),CA51,6)>=$R47),1,0)} -> #REF! | CC51: =MATCH(1,OFFSET(CB47:CB58,CD50,0,COUNT(CB47:CB58)-CD50),0) -> #REF! | CD51: =CD50+CC51 -> #REF! | CE51: {=IFERROR(VLOOKUP(INDEX(CA47:CA58,CD51),INDIRECT(BY47),2,FALSE),"----")} -> ---- | CF51: =CF50-1 -> #N/A | CG51: =IF(AND(INDEX(SSM,CF51,4)>=$AB47,INDEX(SSM,CF51,5)>=$S47,INDEX(SSM,CF51,6)>=$R47),1,0) -> #N/A | CH51: =MATCH(1,OFFSET(CG47:CG58,CI50,0,COUNT(CG47:CG58)-CI50),0) -> #REF! | CI51: =CI50+CH51 -> #REF! | CJ51: =IFERROR(IF(AD48="Nested Steel Stud (wood infill)",VLOOKUP(INDEX(CF47:CF58,CI51),SSW,2,FALSE),VLOOKUP(INDEX(CF47:CF58,CI51),SSM,2,FALSE)),"----") -> ---- | CK51: =CK50-1 -> #N/A | CL51: =IF(AND(INDEX(WSM,CK51,4)>=$AB47,INDEX(WSM,CK51,5)>=$S47,INDEX(WSM,CK51,6)>=$R47),1,0) -> #N/A | CM51: =MATCH(1,OFFSET(CL47:CL58,CN50,0,COUNT(CL47:CL58)-CN50),0) -> #REF! | CN51: =CM51+CN50 -> #REF! | CO51: =IFERROR(VLOOKUP(INDEX(CK47:CK58,CN51),WSM,2,FALSE),"----") -> ---- | CP51: =CP50-1 -> #N/A | CQ51: =IF(AND(INDEX(STM,CP51,4)>=$AB47,INDEX(STM,CP51,5)>=$S47,INDEX(STM,CP51,6)>=$R47),1,0) -> #N/A | CR51: =MATCH(1,OFFSET(CQ47:CQ58,CS50,0,COUNT(CQ47:CQ58)-CS50),0) -> #REF! | CS51: =CR51+CS50 -> #REF! | CT51: =IFERROR(VLOOKUP(INDEX(CP47:CP58,CS51),STM,2,FALSE),"----") -> ---- | CU51: =CU50-1 -> #N/A | CV51: =IF(AND(INDEX(ELM,CU51,4)>=$AB47,INDEX(ELM,CU51,5)>=$S47,INDEX(ELM,CU51,6)>=$R47),1,0) -> #N/A | CW51: =MATCH(1,OFFSET(CV47:CV58,CX50,0,COUNT(CV47:CV58)-CX50),0) -> #REF! | CX51: =CW51+CX50 -> #REF! | CY51: =IFERROR(VLOOKUP(INDEX(CU47:CU58,CX51),ELM,2,FALSE),"----") -> ---- | CZ51: =CZ50-1 -> #N/A | DA51: =IF(LEFT($J47,7)="Clad Wo",IF(AND(INDEX(SPPWS,CZ51,4)>=$AB47,INDEX(SPPWS,CZ51,5)>=$S47,INDEX(SPPWS,CZ51,6)>=$R47),1,0),IF(AND(INDEX(SPM,CZ51,4)>=$AB47,INDEX(SPM,CZ51,5)>=$S47,INDEX(SPM,CZ51,6)>=$R47),1,0)) -> #N/A | DB51: =MATCH(1,OFFSET(DA47:DA58,DC50,0,COUNT(DA47:DA58)-DC50),0) -> #REF! | DC51: =DC50+DB51 -> #REF! | DD51: =IF(LEFT($J47,7)="Clad Wo",IFERROR(VLOOKUP(INDEX(CZ47:CZ58,DC51),SPPWS,2,FALSE),"----"),IFERROR(VLOOKUP(INDEX(CZ47:CZ58,DC51),SPM,2,FALSE),"----")) -> ---- | DE51: =DE50-1 -> #REF! | DF51: {=IF(AND(INDEX(INDIRECT(BY47),DE51,4)>=$AB53,INDEX(INDIRECT(BY47),DE51,5)>=$S47,INDEX(INDIRECT(BY47),DE51,6)>=$R47),1,0)} -> #REF! | DG51: =MATCH(1,OFFSET(DF47:DF58,DH50,0,COUNT(DF47:DF58)-DH50),0) -> #REF! | DH51: =DH50+DG51 -> #REF! | DI51: {=IFERROR(VLOOKUP(INDEX(DE47:DE58,DH51),INDIRECT(BY47),2,FALSE),"----")} -> ---- | DJ51: =DJ50-1 -> #N/A | DK51: =IF(AND(INDEX(SSM,DJ51,4)>=$AB53,INDEX(SSM,DJ51,5)>=$S47,INDEX(SSM,DJ51,6)>=$R47),1,0) -> #N/A | DL51: =MATCH(1,OFFSET(DK47:DK58,DM50,0,COUNT(DK47:DK58)-DM50),0) -> #REF! | DM51: =DL51+DM50 -> #REF! | DN51: =IFERROR(IF(AD54="Nested Steel Stud (wood infill)",VLOOKUP(INDEX(DJ47:DJ58,DM51),SSW,2,FALSE),VLOOKUP(INDEX(DJ47:DJ58,DM51),SSM,2,FALSE)),"----") -> ---- | DO51: =DO50-1 -> #N/A | DP51: =IF(AND(INDEX(WSM,DO51,4)>=$AB53,INDEX(WSM,DO51,5)>=$S47,INDEX(WSM,DO51,6)>=$R47),1,0) -> #N/A | DQ51: =MATCH(1,OFFSET(DP47:DP58,DR50,0,COUNT(DP47:DP58)-DR50),0) -> #REF! | DR51: =DQ51+DR50 -> #REF! | DS51: =IFERROR(VLOOKUP(INDEX(DO47:DO58,DR51),WSM,2,FALSE),"----") -> ---- | DT51: =DT50-1 -> #N/A | DU51: =IF(AND(INDEX(STM,DT51,4)>=$AB53,INDEX(STM,DT51,5)>=$S47,INDEX(STM,DT51,6)>=$R47),1,0) -> #N/A | DV51: =MATCH(1,OFFSET(DU47:DU58,DW50,0,COUNT(DU47:DU58)-DW50),0) -> #REF! | DW51: =DV51+DW50 -> #REF! | DX51: =IFERROR(VLOOKUP(INDEX(DT47:DT58,DW51),STM,2,FALSE),"----") -> ---- | DY51: =DY50-1 -> #N/A | DZ51: =IF(AND(INDEX(ELM,DY51,4)>=$AB53,INDEX(ELM,DY51,5)>=$S47,INDEX(ELM,DY51,6)>=$R47),1,0) -> #N/A | EA51: =MATCH(1,OFFSET(DZ47:DZ58,EB50,0,COUNT(DZ47:DZ58)-EB50),0) -> #REF! | EB51: =EA51+EB50 -> #REF! | EC51: =IFERROR(VLOOKUP(INDEX(DY47:DY58,EB51),ELM,2,FALSE),"----") -> ---- | ED51: =ED50-1 -> #N/A | EE51: =IF(LEFT($J47,7)="Clad Wo",IF(AND(INDEX(SPPWS,ED51,4)>=$AB53,INDEX(SPPWS,ED51,5)>=$S47,INDEX(SPPWS,ED51,6)>=$R47),1,0),IF(AND(INDEX(SPM,ED51,4)>=$AB53,INDEX(SPM,ED51,5)>=$S47,INDEX(SPM,ED51,6)>=$R47),1,0)) -> #N/A | EF51: =MATCH(1,OFFSET(EE47:EE58,EG50,0,COUNT(EE47:EE58)-EG50),0) -> #REF! | EG51: =EG50+EF51 -> #REF! | EH51: =IF(LEFT($J47,7)="Clad Wo",IFERROR(VLOOKUP(INDEX(ED47:ED58,EG51),SPPWS,2,FALSE),"----"),IFERROR(VLOOKUP(INDEX(ED47:ED58,EG51),SPM,2,FALSE),"----")) -> ----
AD52: =IF(LEFT(J47,7)="Clad Wo","Pella Wood Spr / Steel Pte","Steel Plate") -> Steel Plate | AK52: =IFERROR(VLOOKUP(AI52,OFFSET(INDIRECT(AQ52),0,1),2,FALSE),"") | AM52: =IFERROR(Q47/12*ROUND(VLOOKUP(AF52,OFFSET(SPM,0,1),6,FALSE),2),"") | AN52: =IF(BW52>1,"Lighter Reinforcement Options Available","") | AP52: =_xlfn.CONCAT(AR52,AS52) | AQ52: =IFERROR(LEFT(AP52,LEN(AP52)-1),"") | AR52: =IFERROR(VLOOKUP(AF52,MullList,2,FALSE),"") | AS52: =IFERROR(VLOOKUP(J55, WallType,2,FALSE),"") | AT52: =AL47 | AU52: =AU51-1 -> #REF! | AV52: =IFERROR(VLOOKUP(AU52,INDIRECT(AQ47),2,FALSE),"----") -> ---- | AW52: =AW51-1 -> #REF! | AX52: =IFERROR(VLOOKUP(AW52,INDIRECT(AQ48),2,FALSE),"----") -> ---- | AY52: =AY51-1 -> #REF! | AZ52: =IFERROR(VLOOKUP(AY52,INDIRECT(AQ49),2,FALSE),"----") -> ---- | BA52: =BA51-1 -> #REF! | BB52: =IFERROR(VLOOKUP(BA52,INDIRECT(AQ50),2,FALSE),"----") -> ---- | BC52: =BC51-1 -> #REF! | BD52: =IFERROR(VLOOKUP(BC52,INDIRECT(AQ51),2,FALSE),"----") -> ---- | BE52: =BE51-1 -> #REF! | BF52: =IFERROR(VLOOKUP(BE52,INDIRECT(AQ52),2,FALSE),"----") -> ---- | BG52: =BG51-1 -> #REF! | BH52: =IFERROR(VLOOKUP(BG52,INDIRECT(AQ53),2,FALSE),"----") -> ---- | BI52: =BI51-1 -> #REF! | BJ52: =IFERROR(VLOOKUP(BI52,INDIRECT(AQ54),2,FALSE),"----") -> ---- | BK52: =BK51-1 -> #REF! | BL52: =IFERROR(VLOOKUP(BK52,INDIRECT(AQ55),2,FALSE),"----") -> ---- | BM52: =BM51-1 -> #REF! | BN52: =IFERROR(VLOOKUP(BM52,INDIRECT(AQ56),2,FALSE),"----") -> ---- | BO52: =BO51-1 -> #REF! | BP52: =IFERROR(VLOOKUP(BO52,INDIRECT(AQ57),2,FALSE),"----") -> ---- | BQ52: =BQ51-1 -> #REF! | BR52: =IFERROR(VLOOKUP(BQ52,INDIRECT(AQ58),2,FALSE),"----") -> ---- | BS52: =IF(AI52="",1,IF(COUNTIF(BF47:BF58,AI52)=0,2,1)) -> 1 | BT52: =IF(AF52="",1,IF(BF47=".",2,1)) -> 1 | BV52: =IF(COUNTIF(DD47:DD58,AF52)=0,IF(AF52<>"",0,1),1) -> 1 | BW52: =IFERROR(MATCH(AF52,DD47:DD58,0),1) -> 1 | BX52: Area | CA52: =CA51-1 -> #REF! | CB52: {=IF(AND(INDEX(INDIRECT(BY47),CA52,4)>=$AB47,INDEX(INDIRECT(BY47),CA52,5)>=$S47,INDEX(INDIRECT(BY47),CA52,6)>=$R47),1,0)} -> #REF! | CC52: =MATCH(1,OFFSET(CB47:CB58,CD51,0,COUNT(CB47:CB58)-CD51),0) -> #REF! | CD52: =CD51+CC52 -> #REF! | CE52: {=IFERROR(VLOOKUP(INDEX(CA47:CA58,CD52),INDIRECT(BY47),2,FALSE),"----")} -> ---- | CF52: =CF51-1 -> #N/A | CG52: =IF(AND(INDEX(SSM,CF52,4)>=$AB47,INDEX(SSM,CF52,5)>=$S47,INDEX(SSM,CF52,6)>=$R47),1,0) -> #N/A | CH52: =MATCH(1,OFFSET(CG47:CG58,CI51,0,COUNT(CG47:CG58)-CI51),0) -> #REF! | CI52: =CI51+CH52 -> #REF! | CJ52: =IFERROR(IF(AD48="Nested Steel Stud (wood infill)",VLOOKUP(INDEX(CF47:CF58,CI52),SSW,2,FALSE),VLOOKUP(INDEX(CF47:CF58,CI52),SSM,2,FALSE)),"----") -> ---- | CK52: =CK51-1 -> #N/A | CL52: =IF(AND(INDEX(WSM,CK52,4)>=$AB47,INDEX(WSM,CK52,5)>=$S47,INDEX(WSM,CK52,6)>=$R47),1,0) -> #N/A | CM52: =MATCH(1,OFFSET(CL47:CL58,CN51,0,COUNT(CL47:CL58)-CN51),0) -> #REF! | CN52: =CM52+CN51 -> #REF! | CO52: =IFERROR(VLOOKUP(INDEX(CK47:CK58,CN52),WSM,2,FALSE),"----") -> ---- | CP52: =CP51-1 -> #N/A | CQ52: =IF(AND(INDEX(STM,CP52,4)>=$AB47,INDEX(STM,CP52,5)>=$S47,INDEX(STM,CP52,6)>=$R47),1,0) -> #N/A | CR52: =MATCH(1,OFFSET(CQ47:CQ58,CS51,0,COUNT(CQ47:CQ58)-CS51),0) -> #REF! | CS52: =CR52+CS51 -> #REF! | CT52: =IFERROR(VLOOKUP(INDEX(CP47:CP58,CS52),STM,2,FALSE),"----") -> ---- | CU52: =CU51-1 -> #N/A | CV52: =IF(AND(INDEX(ELM,CU52,4)>=$AB47,INDEX(ELM,CU52,5)>=$S47,INDEX(ELM,CU52,6)>=$R47),1,0) -> #N/A | CW52: =MATCH(1,OFFSET(CV47:CV58,CX51,0,COUNT(CV47:CV58)-CX51),0) -> #REF! | CX52: =CW52+CX51 -> #REF! | CY52: =IFERROR(VLOOKUP(INDEX(CU47:CU58,CX52),ELM,2,FALSE),"----") -> ---- | CZ52: =CZ51-1 -> #N/A | DA52: =IF(LEFT($J47,7)="Clad Wo",IF(AND(INDEX(SPPWS,CZ52,4)>=$AB47,INDEX(SPPWS,CZ52,5)>=$S47,INDEX(SPPWS,CZ52,6)>=$R47),1,0),IF(AND(INDEX(SPM,CZ52,4)>=$AB47,INDEX(SPM,CZ52,5)>=$S47,INDEX(SPM,CZ52,6)>=$R47),1,0)) -> #N/A | DB52: =MATCH(1,OFFSET(DA47:DA58,DC51,0,COUNT(DA47:DA58)-DC51),0) -> #REF! | DC52: =DC51+DB52 -> #REF! | DD52: =IF(LEFT($J47,7)="Clad Wo",IFERROR(VLOOKUP(INDEX(CZ47:CZ58,DC52),SPPWS,2,FALSE),"----"),IFERROR(VLOOKUP(INDEX(CZ47:CZ58,DC52),SPM,2,FALSE),"----")) -> ---- | DE52: =DE51-1 -> #REF! | DF52: {=IF(AND(INDEX(INDIRECT(BY47),DE52,4)>=$AB53,INDEX(INDIRECT(BY47),DE52,5)>=$S47,INDEX(INDIRECT(BY47),DE52,6)>=$R47),1,0)} -> #REF! | DG52: =MATCH(1,OFFSET(DF47:DF58,DH51,0,COUNT(DF47:DF58)-DH51),0) -> #REF! | DH52: =DH51+DG52 -> #REF! | DI52: {=IFERROR(VLOOKUP(INDEX(DE47:DE58,DH52),INDIRECT(BY47),2,FALSE),"----")} -> ---- | DJ52: =DJ51-1 -> #N/A | DK52: =IF(AND(INDEX(SSM,DJ52,4)>=$AB53,INDEX(SSM,DJ52,5)>=$S47,INDEX(SSM,DJ52,6)>=$R47),1,0) -> #N/A | DL52: =MATCH(1,OFFSET(DK47:DK58,DM51,0,COUNT(DK47:DK58)-DM51),0) -> #REF! | DM52: =DL52+DM51 -> #REF! | DN52: =IFERROR(IF(AD54="Nested Steel Stud (wood infill)",VLOOKUP(INDEX(DJ47:DJ58,DM52),SSW,2,FALSE),VLOOKUP(INDEX(DJ47:DJ58,DM52),SSM,2,FALSE)),"----") -> ---- | DO52: =DO51-1 -> #N/A | DP52: =IF(AND(INDEX(WSM,DO52,4)>=$AB53,INDEX(WSM,DO52,5)>=$S47,INDEX(WSM,DO52,6)>=$R47),1,0) -> #N/A | DQ52: =MATCH(1,OFFSET(DP47:DP58,DR51,0,COUNT(DP47:DP58)-DR51),0) -> #REF! | DR52: =DQ52+DR51 -> #REF! | DS52: =IFERROR(VLOOKUP(INDEX(DO47:DO58,DR52),WSM,2,FALSE),"----") -> ---- | DT52: =DT51-1 -> #N/A | DU52: =IF(AND(INDEX(STM,DT52,4)>=$AB53,INDEX(STM,DT52,5)>=$S47,INDEX(STM,DT52,6)>=$R47),1,0) -> #N/A | DV52: =MATCH(1,OFFSET(DU47:DU58,DW51,0,COUNT(DU47:DU58)-DW51),0) -> #REF! | DW52: =DV52+DW51 -> #REF! | DX52: =IFERROR(VLOOKUP(INDEX(DT47:DT58,DW52),STM,2,FALSE),"----") -> ---- | DY52: =DY51-1 -> #N/A | DZ52: =IF(AND(INDEX(ELM,DY52,4)>=$AB53,INDEX(ELM,DY52,5)>=$S47,INDEX(ELM,DY52,6)>=$R47),1,0) -> #N/A | EA52: =MATCH(1,OFFSET(DZ47:DZ58,EB51,0,COUNT(DZ47:DZ58)-EB51),0) -> #REF! | EB52: =EA52+EB51 -> #REF! | EC52: =IFERROR(VLOOKUP(INDEX(DY47:DY58,EB52),ELM,2,FALSE),"----") -> ---- | ED52: =ED51-1 -> #N/A | EE52: =IF(LEFT($J47,7)="Clad Wo",IF(AND(INDEX(SPPWS,ED52,4)>=$AB53,INDEX(SPPWS,ED52,5)>=$S47,INDEX(SPPWS,ED52,6)>=$R47),1,0),IF(AND(INDEX(SPM,ED52,4)>=$AB53,INDEX(SPM,ED52,5)>=$S47,INDEX(SPM,ED52,6)>=$R47),1,0)) -> #N/A | EF52: =MATCH(1,OFFSET(EE47:EE58,EG51,0,COUNT(EE47:EE58)-EG51),0) -> #REF! | EG52: =EG51+EF52 -> #REF! | EH52: =IF(LEFT($J47,7)="Clad Wo",IFERROR(VLOOKUP(INDEX(ED47:ED58,EG52),SPPWS,2,FALSE),"----"),IFERROR(VLOOKUP(INDEX(ED47:ED58,EG52),SPM,2,FALSE),"----")) -> ----
B53: Mullion ID | L53: =L47+1 -> 5 | M53: =IFERROR(IF($AE$17="",IF($AG$19="Wind Loading",MIN($V$31,IF(E$11="ASCE 7-05",$U$26,$V$7)*$V$9*(IF($E$12<60,0.156*LN(MAX(MIN(500,O47),10)) -1.7618,IF($E$11="ASCE 7-22", 0.2026*LN(MAX(MIN(500,O47),20))-2.2638,0.2503*LN(MAX(MIN(500,O47),20)) -2.5526))-$V$8)),$V$7*IF(E$12<60,$V$13*($V$15*(0.156*LN(MAX(MIN(500,O47),10)) -1.7618)-$V$16),$V$13*$V$15*((0.2026*LN(MAX(MIN(500,O47),20))-2.2638)-$V$16))),-ABS($AE$17)),"") | N53: =IFERROR(IF($AE$19="",IF($AG$19="Wind Loading",MAX($U$31,IF(E$11="ASCE 7-05",$U$26,$V$7)*$V$9*((IF($E$12<60,-0.077*LN(MAX(MIN(500,O47),10))+1.1737,IF($E$11="ASCE 7-22",-0.077*LN(MAX(MIN(500,O47),20))+1.0798,-0.093*LN(MAX(MIN(500,O47),20))+1.1776)))+$V$8)),$V$7*IF(E$12<60,$V$13*($V$15*(-0.077*LN(MAX(MIN(500,O47),10))+1.1737)-$V$17),$V$13*$V$15*((-0.077*LN(MAX(MIN(500,O47),20))+1.0798)-$V$17))),ABS($AE$19)),"") | R53: =P53*Q53/8 -> 0 | W53: =MAX(-M53,N53)*O47 -> #VALUE! | Y53: =IFERROR(IF(AG$14="Trapezoidal",BY56,BX56)+IF($E$17="4",(400*E47^3)/(48*X47),0),0) -> 0 | Z53: =+($V47*MAX(-$M53,$N53)*$E47^2)/(144*8)+IF($E$17=4,(400*$E47)/4,0) -> #VALUE! | AB53: =IFERROR(Z53-AA47,"") | AC53: =IFERROR(Y53-U47,"") | AD53: =AD47 | AK53: =IFERROR(VLOOKUP(AI53,OFFSET(INDIRECT(AQ53),0,1),2,FALSE),"") | AL53: =IFERROR(ROUND(SQRT(P47^2+(W53/2+IF($E$17=4,200,0))^2),0),"") | AM53: NA | AN53: =IF(BW53>1,"Lighter Reinforcement Options Available","") | AP53: =_xlfn.CONCAT(AR53,AS58) | AQ53: =IFERROR(LEFT(AP53,LEN(AP53)-1),"") | AR53: =IFERROR(VLOOKUP(AF53,MullList,2,FALSE),"") | AS53: =IF(COUNTIF(imp_1,AF53)=1,"imp_1",IF(COUNTIF(imp_2,AF53)=1,"imp_2",IF(COUNTIF(imp_3,AF53)=1,"imp_3",IF(COUNTIF(impdoor,AF53)=1,"impdoor","")))) | AT53: =AL53 | AU53: =AU52-1 -> #REF! | AV53: =IFERROR(VLOOKUP(AU53,INDIRECT(AQ47),2,FALSE),"----") -> ---- | AW53: =AW52-1 -> #REF! | AX53: =IFERROR(VLOOKUP(AW53,INDIRECT(AQ48),2,FALSE),"----") -> ---- | AY53: =AY52-1 -> #REF! | AZ53: =IFERROR(VLOOKUP(AY53,INDIRECT(AQ49),2,FALSE),"----") -> ---- | BA53: =BA52-1 -> #REF! | BB53: =IFERROR(VLOOKUP(BA53,INDIRECT(AQ50),2,FALSE),"----") -> ---- | BC53: =BC52-1 -> #REF! | BD53: =IFERROR(VLOOKUP(BC53,INDIRECT(AQ51),2,FALSE),"----") -> ---- | BE53: =BE52-1 -> #REF! | BF53: =IFERROR(VLOOKUP(BE53,INDIRECT(AQ52),2,FALSE),"----") -> ---- | BG53: =BG52-1 -> #REF! | BH53: =IFERROR(VLOOKUP(BG53,INDIRECT(AQ53),2,FALSE),"----") -> ---- | BI53: =BI52-1 -> #REF! | BJ53: =IFERROR(VLOOKUP(BI53,INDIRECT(AQ54),2,FALSE),"----") -> ---- | BK53: =BK52-1 -> #REF! | BL53: =IFERROR(VLOOKUP(BK53,INDIRECT(AQ55),2,FALSE),"----") -> ---- | BM53: =BM52-1 -> #REF! | BN53: =IFERROR(VLOOKUP(BM53,INDIRECT(AQ56),2,FALSE),"----") -> ---- | BO53: =BO52-1 -> #REF! | BP53: =IFERROR(VLOOKUP(BO53,INDIRECT(AQ57),2,FALSE),"----") -> ---- | BQ53: =BQ52-1 -> #REF! | BR53: =IFERROR(VLOOKUP(BQ53,INDIRECT(AQ58),2,FALSE),"----") -> ---- | BS53: =IF(AI53="",1,IF(COUNTIF(BH47:BH58,AI53)=0,2,1)) -> 1 | BT53: =IF(AP53="1",1,IF(AF53="",1,IF(BH47=".",2,1))) -> 1 | BV53: =IF(COUNTIF(DI47:DI58,AF53)=0,IF(AF53<>"",0,1),1) -> 1 | BW53: =IFERROR(MATCH(AF53,DI47:DI58,0),1) -> 1 | BX53: Rect | BY53: Trap/Tri | CA53: =CA52-1 -> #REF! | CB53: {=IF(AND(INDEX(INDIRECT(BY47),CA53,4)>=$AB47,INDEX(INDIRECT(BY47),CA53,5)>=$S47,INDEX(INDIRECT(BY47),CA53,6)>=$R47),1,0)} -> #REF! | CC53: =MATCH(1,OFFSET(CB47:CB58,CD52,0,COUNT(CB47:CB58)-CD52),0) -> #REF! | CD53: =CD52+CC53 -> #REF! | CE53: {=IFERROR(VLOOKUP(INDEX(CA47:CA58,CD53),INDIRECT(BY47),2,FALSE),"----")} -> ---- | CF53: =CF52-1 -> #N/A | CG53: =IF(AND(INDEX(SSM,CF53,4)>=$AB47,INDEX(SSM,CF53,5)>=$S47,INDEX(SSM,CF53,6)>=$R47),1,0) -> #N/A | CH53: =MATCH(1,OFFSET(CG47:CG58,CI52,0,COUNT(CG47:CG58)-CI52),0) -> #REF! | CI53: =CI52+CH53 -> #REF! | CJ53: =IFERROR(IF(AD48="Nested Steel Stud (wood infill)",VLOOKUP(INDEX(CF47:CF58,CI53),SSW,2,FALSE),VLOOKUP(INDEX(CF47:CF58,CI53),SSM,2,FALSE)),"----") -> ---- | CK53: =CK52-1 -> #N/A | CL53: =IF(AND(INDEX(WSM,CK53,4)>=$AB47,INDEX(WSM,CK53,5)>=$S47,INDEX(WSM,CK53,6)>=$R47),1,0) -> #N/A | CM53: =MATCH(1,OFFSET(CL47:CL58,CN52,0,COUNT(CL47:CL58)-CN52),0) -> #REF! | CN53: =CM53+CN52 -> #REF! | CO53: =IFERROR(VLOOKUP(INDEX(CK47:CK58,CN53),WSM,2,FALSE),"----") -> ---- | CP53: =CP52-1 -> #N/A | CQ53: =IF(AND(INDEX(STM,CP53,4)>=$AB47,INDEX(STM,CP53,5)>=$S47,INDEX(STM,CP53,6)>=$R47),1,0) -> #N/A | CR53: =MATCH(1,OFFSET(CQ47:CQ58,CS52,0,COUNT(CQ47:CQ58)-CS52),0) -> #REF! | CS53: =CR53+CS52 -> #REF! | CT53: =IFERROR(VLOOKUP(INDEX(CP47:CP58,CS53),STM,2,FALSE),"----") -> ---- | CU53: =CU52-1 -> #N/A | CV53: =IF(AND(INDEX(ELM,CU53,4)>=$AB47,INDEX(ELM,CU53,5)>=$S47,INDEX(ELM,CU53,6)>=$R47),1,0) -> #N/A | CW53: =MATCH(1,OFFSET(CV47:CV58,CX52,0,COUNT(CV47:CV58)-CX52),0) -> #REF! | CX53: =CW53+CX52 -> #REF! | CY53: =IFERROR(VLOOKUP(INDEX(CU47:CU58,CX53),ELM,2,FALSE),"----") -> ---- | CZ53: =CZ52-1 -> #N/A | DA53: =IF(LEFT($J47,7)="Clad Wo",IF(AND(INDEX(SPPWS,CZ53,4)>=$AB47,INDEX(SPPWS,CZ53,5)>=$S47,INDEX(SPPWS,CZ53,6)>=$R47),1,0),IF(AND(INDEX(SPM,CZ53,4)>=$AB47,INDEX(SPM,CZ53,5)>=$S47,INDEX(SPM,CZ53,6)>=$R47),1,0)) -> #N/A | DB53: =MATCH(1,OFFSET(DA47:DA58,DC52,0,COUNT(DA47:DA58)-DC52),0) -> #REF! | DC53: =DC52+DB53 -> #REF! | DD53: =IF(LEFT($J47,7)="Clad Wo",IFERROR(VLOOKUP(INDEX(CZ47:CZ58,DC53),SPPWS,2,FALSE),"----"),IFERROR(VLOOKUP(INDEX(CZ47:CZ58,DC53),SPM,2,FALSE),"----")) -> ---- | DE53: =DE52-1 -> #REF! | DF53: {=IF(AND(INDEX(INDIRECT(BY47),DE53,4)>=$AB53,INDEX(INDIRECT(BY47),DE53,5)>=$S47,INDEX(INDIRECT(BY47),DE53,6)>=$R47),1,0)} -> #REF! | DG53: =MATCH(1,OFFSET(DF47:DF58,DH52,0,COUNT(DF47:DF58)-DH52),0) -> #REF! | DH53: =DH52+DG53 -> #REF! | DI53: {=IFERROR(VLOOKUP(INDEX(DE47:DE58,DH53),INDIRECT(BY47),2,FALSE),"----")} -> ---- | DJ53: =DJ52-1 -> #N/A | DK53: =IF(AND(INDEX(SSM,DJ53,4)>=$AB53,INDEX(SSM,DJ53,5)>=$S47,INDEX(SSM,DJ53,6)>=$R47),1,0) -> #N/A | DL53: =MATCH(1,OFFSET(DK47:DK58,DM52,0,COUNT(DK47:DK58)-DM52),0) -> #REF! | DM53: =DL53+DM52 -> #REF! | DN53: =IFERROR(IF(AD54="Nested Steel Stud (wood infill)",VLOOKUP(INDEX(DJ47:DJ58,DM53),SSW,2,FALSE),VLOOKUP(INDEX(DJ47:DJ58,DM53),SSM,2,FALSE)),"----") -> ---- | DO53: =DO52-1 -> #N/A | DP53: =IF(AND(INDEX(WSM,DO53,4)>=$AB53,INDEX(WSM,DO53,5)>=$S47,INDEX(WSM,DO53,6)>=$R47),1,0) -> #N/A | DQ53: =MATCH(1,OFFSET(DP47:DP58,DR52,0,COUNT(DP47:DP58)-DR52),0) -> #REF! | DR53: =DQ53+DR52 -> #REF! | DS53: =IFERROR(VLOOKUP(INDEX(DO47:DO58,DR53),WSM,2,FALSE),"----") -> ---- | DT53: =DT52-1 -> #N/A | DU53: =IF(AND(INDEX(STM,DT53,4)>=$AB53,INDEX(STM,DT53,5)>=$S47,INDEX(STM,DT53,6)>=$R47),1,0) -> #N/A | DV53: =MATCH(1,OFFSET(DU47:DU58,DW52,0,COUNT(DU47:DU58)-DW52),0) -> #REF! | DW53: =DV53+DW52 -> #REF! | DX53: =IFERROR(VLOOKUP(INDEX(DT47:DT58,DW53),STM,2,FALSE),"----") -> ---- | DY53: =DY52-1 -> #N/A | DZ53: =IF(AND(INDEX(ELM,DY53,4)>=$AB53,INDEX(ELM,DY53,5)>=$S47,INDEX(ELM,DY53,6)>=$R47),1,0) -> #N/A | EA53: =MATCH(1,OFFSET(DZ47:DZ58,EB52,0,COUNT(DZ47:DZ58)-EB52),0) -> #REF! | EB53: =EA53+EB52 -> #REF! | EC53: =IFERROR(VLOOKUP(INDEX(DY47:DY58,EB53),ELM,2,FALSE),"----") -> ---- | ED53: =ED52-1 -> #N/A | EE53: =IF(LEFT($J47,7)="Clad Wo",IF(AND(INDEX(SPPWS,ED53,4)>=$AB53,INDEX(SPPWS,ED53,5)>=$S47,INDEX(SPPWS,ED53,6)>=$R47),1,0),IF(AND(INDEX(SPM,ED53,4)>=$AB53,INDEX(SPM,ED53,5)>=$S47,INDEX(SPM,ED53,6)>=$R47),1,0)) -> #N/A | EF53: =MATCH(1,OFFSET(EE47:EE58,EG52,0,COUNT(EE47:EE58)-EG52),0) -> #REF! | EG53: =EG52+EF53 -> #REF! | EH53: =IF(LEFT($J47,7)="Clad Wo",IFERROR(VLOOKUP(INDEX(ED47:ED58,EG53),SPPWS,2,FALSE),"----"),IFERROR(VLOOKUP(INDEX(ED47:ED58,EG53),SPM,2,FALSE),"----")) -> ----
AD54: =IF(ISBLANK(AD48)=TRUE,"",AD48) -> Nested Steel Stud | AK54: =IFERROR(VLOOKUP(AI54,OFFSET(INDIRECT(AQ54),0,1),2,FALSE),"") | AM54: =IFERROR(Q47/12*ROUND(VLOOKUP(AF54,OFFSET(SSM,0,1),6,FALSE),2),"") | AN54: =IF(BW54>1,"Lighter Reinforcement Options Available","") | AP54: =_xlfn.CONCAT(AR54,AS58) | AQ54: =IFERROR(LEFT(AP54,LEN(AP54)-1),"") | AR54: =IFERROR(VLOOKUP(AF54,MullList,2,FALSE),"") | AS54: =IF(COUNTIF(Vista_1,AF53)=1,"Vista_1",IF(COUNTIF(Vista_2,AF53)=1,"Vista_2","")) | AT54: =AL53 | AU54: =AU53-1 -> #REF! | AV54: =IFERROR(VLOOKUP(AU54,INDIRECT(AQ47),2,FALSE),"----") -> ---- | AW54: =AW53-1 -> #REF! | AX54: =IFERROR(VLOOKUP(AW54,INDIRECT(AQ48),2,FALSE),"----") -> ---- | AY54: =AY53-1 -> #REF! | AZ54: =IFERROR(VLOOKUP(AY54,INDIRECT(AQ49),2,FALSE),"----") -> ---- | BA54: =BA53-1 -> #REF! | BB54: =IFERROR(VLOOKUP(BA54,INDIRECT(AQ50),2,FALSE),"----") -> ---- | BC54: =BC53-1 -> #REF! | BD54: =IFERROR(VLOOKUP(BC54,INDIRECT(AQ51),2,FALSE),"----") -> ---- | BE54: =BE53-1 -> #REF! | BF54: =IFERROR(VLOOKUP(BE54,INDIRECT(AQ52),2,FALSE),"----") -> ---- | BG54: =BG53-1 -> #REF! | BH54: =IFERROR(VLOOKUP(BG54,INDIRECT(AQ53),2,FALSE),"----") -> ---- | BI54: =BI53-1 -> #REF! | BJ54: =IFERROR(VLOOKUP(BI54,INDIRECT(AQ54),2,FALSE),"----") -> ---- | BK54: =BK53-1 -> #REF! | BL54: =IFERROR(VLOOKUP(BK54,INDIRECT(AQ55),2,FALSE),"----") -> ---- | BM54: =BM53-1 -> #REF! | BN54: =IFERROR(VLOOKUP(BM54,INDIRECT(AQ56),2,FALSE),"----") -> ---- | BO54: =BO53-1 -> #REF! | BP54: =IFERROR(VLOOKUP(BO54,INDIRECT(AQ57),2,FALSE),"----") -> ---- | BQ54: =BQ53-1 -> #REF! | BR54: =IFERROR(VLOOKUP(BQ54,INDIRECT(AQ58),2,FALSE),"----") -> ---- | BS54: =IF(AI54="",1,IF(COUNTIF(BJ47:BJ58,AI54)=0,2,1)) -> 1 | BT54: =IF(AF54="",1,IF(BJ47=".",2,1)) -> 1 | BV54: =IF(COUNTIF(DN47:DN58,AF54)=0,IF(AF54<>"",0,1),1) -> 1 | BW54: =IFERROR(MATCH(AF54,DN47:DN58,0),1) -> 1 | BX54: =E47*(H47+I47)/144/2 -> 0 | BY54: =SUM(IF(H47>E47,E47^2/4,(H47*E47/2)-(H47^2/4))/144,IF(I47>E47,E47^2/4,(I47*E47/2)-(I47^2/4))/144) -> 0 | CA54: =CA53-1 -> #REF! | CB54: {=IF(AND(INDEX(INDIRECT(BY47),CA54,4)>=$AB47,INDEX(INDIRECT(BY47),CA54,5)>=$S47,INDEX(INDIRECT(BY47),CA54,6)>=$R47),1,0)} -> #REF! | CC54: =MATCH(1,OFFSET(CB47:CB58,CD53,0,COUNT(CB47:CB58)-CD53),0) -> #REF! | CD54: =CD53+CC54 -> #REF! | CE54: {=IFERROR(VLOOKUP(INDEX(CA47:CA58,CD54),INDIRECT(BY47),2,FALSE),"----")} -> ---- | CF54: =CF53-1 -> #N/A | CG54: =IF(AND(INDEX(SSM,CF54,4)>=$AB47,INDEX(SSM,CF54,5)>=$S47,INDEX(SSM,CF54,6)>=$R47),1,0) -> #N/A | CH54: =MATCH(1,OFFSET(CG47:CG58,CI53,0,COUNT(CG47:CG58)-CI53),0) -> #REF! | CI54: =CI53+CH54 -> #REF! | CJ54: =IFERROR(IF(AD48="Nested Steel Stud (wood infill)",VLOOKUP(INDEX(CF47:CF58,CI54),SSW,2,FALSE),VLOOKUP(INDEX(CF47:CF58,CI54),SSM,2,FALSE)),"----") -> ---- | CK54: =CK53-1 -> #N/A | CL54: =IF(AND(INDEX(WSM,CK54,4)>=$AB47,INDEX(WSM,CK54,5)>=$S47,INDEX(WSM,CK54,6)>=$R47),1,0) -> #N/A | CM54: =MATCH(1,OFFSET(CL47:CL58,CN53,0,COUNT(CL47:CL58)-CN53),0) -> #REF! | CN54: =CM54+CN53 -> #REF! | CO54: =IFERROR(VLOOKUP(INDEX(CK47:CK58,CN54),WSM,2,FALSE),"----") -> ---- | CP54: =CP53-1 -> #N/A | CQ54: =IF(AND(INDEX(STM,CP54,4)>=$AB47,INDEX(STM,CP54,5)>=$S47,INDEX(STM,CP54,6)>=$R47),1,0) -> #N/A | CR54: =MATCH(1,OFFSET(CQ47:CQ58,CS53,0,COUNT(CQ47:CQ58)-CS53),0) -> #REF! | CS54: =CR54+CS53 -> #REF! | CT54: =IFERROR(VLOOKUP(INDEX(CP47:CP58,CS54),STM,2,FALSE),"----") -> ---- | CU54: =CU53-1 -> #N/A | CV54: =IF(AND(INDEX(ELM,CU54,4)>=$AB47,INDEX(ELM,CU54,5)>=$S47,INDEX(ELM,CU54,6)>=$R47),1,0) -> #N/A | CW54: =MATCH(1,OFFSET(CV47:CV58,CX53,0,COUNT(CV47:CV58)-CX53),0) -> #REF! | CX54: =CW54+CX53 -> #REF! | CY54: =IFERROR(VLOOKUP(INDEX(CU47:CU58,CX54),ELM,2,FALSE),"----") -> ---- | CZ54: =CZ53-1 -> #N/A | DA54: =IF(LEFT($J47,7)="Clad Wo",IF(AND(INDEX(SPPWS,CZ54,4)>=$AB47,INDEX(SPPWS,CZ54,5)>=$S47,INDEX(SPPWS,CZ54,6)>=$R47),1,0),IF(AND(INDEX(SPM,CZ54,4)>=$AB47,INDEX(SPM,CZ54,5)>=$S47,INDEX(SPM,CZ54,6)>=$R47),1,0)) -> #N/A | DB54: =MATCH(1,OFFSET(DA47:DA58,DC53,0,COUNT(DA47:DA58)-DC53),0) -> #REF! | DC54: =DC53+DB54 -> #REF! | DD54: =IF(LEFT($J47,7)="Clad Wo",IFERROR(VLOOKUP(INDEX(CZ47:CZ58,DC54),SPPWS,2,FALSE),"----"),IFERROR(VLOOKUP(INDEX(CZ47:CZ58,DC54),SPM,2,FALSE),"----")) -> ---- | DE54: =DE53-1 -> #REF! | DF54: {=IF(AND(INDEX(INDIRECT(BY47),DE54,4)>=$AB53,INDEX(INDIRECT(BY47),DE54,5)>=$S47,INDEX(INDIRECT(BY47),DE54,6)>=$R47),1,0)} -> #REF! | DG54: =MATCH(1,OFFSET(DF47:DF58,DH53,0,COUNT(DF47:DF58)-DH53),0) -> #REF! | DH54: =DH53+DG54 -> #REF! | DI54: {=IFERROR(VLOOKUP(INDEX(DE47:DE58,DH54),INDIRECT(BY47),2,FALSE),"----")} -> ---- | DJ54: =DJ53-1 -> #N/A | DK54: =IF(AND(INDEX(SSM,DJ54,4)>=$AB53,INDEX(SSM,DJ54,5)>=$S47,INDEX(SSM,DJ54,6)>=$R47),1,0) -> #N/A | DL54: =MATCH(1,OFFSET(DK47:DK58,DM53,0,COUNT(DK47:DK58)-DM53),0) -> #REF! | DM54: =DL54+DM53 -> #REF! | DN54: =IFERROR(IF(AD54="Nested Steel Stud (wood infill)",VLOOKUP(INDEX(DJ47:DJ58,DM54),SSW,2,FALSE),VLOOKUP(INDEX(DJ47:DJ58,DM54),SSM,2,FALSE)),"----") -> ---- | DO54: =DO53-1 -> #N/A | DP54: =IF(AND(INDEX(WSM,DO54,4)>=$AB53,INDEX(WSM,DO54,5)>=$S47,INDEX(WSM,DO54,6)>=$R47),1,0) -> #N/A | DQ54: =MATCH(1,OFFSET(DP47:DP58,DR53,0,COUNT(DP47:DP58)-DR53),0) -> #REF! | DR54: =DQ54+DR53 -> #REF! | DS54: =IFERROR(VLOOKUP(INDEX(DO47:DO58,DR54),WSM,2,FALSE),"----") -> ---- | DT54: =DT53-1 -> #N/A | DU54: =IF(AND(INDEX(STM,DT54,4)>=$AB53,INDEX(STM,DT54,5)>=$S47,INDEX(STM,DT54,6)>=$R47),1,0) -> #N/A | DV54: =MATCH(1,OFFSET(DU47:DU58,DW53,0,COUNT(DU47:DU58)-DW53),0) -> #REF! | DW54: =DV54+DW53 -> #REF! | DX54: =IFERROR(VLOOKUP(INDEX(DT47:DT58,DW54),STM,2,FALSE),"----") -> ---- | DY54: =DY53-1 -> #N/A | DZ54: =IF(AND(INDEX(ELM,DY54,4)>=$AB53,INDEX(ELM,DY54,5)>=$S47,INDEX(ELM,DY54,6)>=$R47),1,0) -> #N/A | EA54: =MATCH(1,OFFSET(DZ47:DZ58,EB53,0,COUNT(DZ47:DZ58)-EB53),0) -> #REF! | EB54: =EA54+EB53 -> #REF! | EC54: =IFERROR(VLOOKUP(INDEX(DY47:DY58,EB54),ELM,2,FALSE),"----") -> ---- | ED54: =ED53-1 -> #N/A | EE54: =IF(LEFT($J47,7)="Clad Wo",IF(AND(INDEX(SPPWS,ED54,4)>=$AB53,INDEX(SPPWS,ED54,5)>=$S47,INDEX(SPPWS,ED54,6)>=$R47),1,0),IF(AND(INDEX(SPM,ED54,4)>=$AB53,INDEX(SPM,ED54,5)>=$S47,INDEX(SPM,ED54,6)>=$R47),1,0)) -> #N/A | EF54: =MATCH(1,OFFSET(EE47:EE58,EG53,0,COUNT(EE47:EE58)-EG53),0) -> #REF! | EG54: =EG53+EF54 -> #REF! | EH54: =IF(LEFT($J47,7)="Clad Wo",IFERROR(VLOOKUP(INDEX(ED47:ED58,EG54),SPPWS,2,FALSE),"----"),IFERROR(VLOOKUP(INDEX(ED47:ED58,EG54),SPM,2,FALSE),"----")) -> ----
AD55: =AD49 -> Wood Stud Framing | AK55: =IFERROR(VLOOKUP(AI55,OFFSET(INDIRECT(AQ55),0,1),2,FALSE),"") | AM55: =IFERROR(Q47/12*ROUND(VLOOKUP(AF55,OFFSET(WSM,0,1),6,FALSE),2),"") | AN55: =IF(BW55>1,"Lighter Reinforcement Options Available","") | AP55: =_xlfn.CONCAT(AR55,AS58) | AQ55: =IFERROR(LEFT(AP55,LEN(AP55)-1),"") | AR55: =IFERROR(VLOOKUP(AF55,MullList,2,FALSE),"") | AT55: =AL53 | AU55: =AU54-1 -> #REF! | AV55: =IFERROR(VLOOKUP(AU55,INDIRECT(AQ47),2,FALSE),"----") -> ---- | AW55: =AW54-1 -> #REF! | AX55: =IFERROR(VLOOKUP(AW55,INDIRECT(AQ48),2,FALSE),"----") -> ---- | AY55: =AY54-1 -> #REF! | AZ55: =IFERROR(VLOOKUP(AY55,INDIRECT(AQ49),2,FALSE),"----") -> ---- | BA55: =BA54-1 -> #REF! | BB55: =IFERROR(VLOOKUP(BA55,INDIRECT(AQ50),2,FALSE),"----") -> ---- | BC55: =BC54-1 -> #REF! | BD55: =IFERROR(VLOOKUP(BC55,INDIRECT(AQ51),2,FALSE),"----") -> ---- | BE55: =BE54-1 -> #REF! | BF55: =IFERROR(VLOOKUP(BE55,INDIRECT(AQ52),2,FALSE),"----") -> ---- | BG55: =BG54-1 -> #REF! | BH55: =IFERROR(VLOOKUP(BG55,INDIRECT(AQ53),2,FALSE),"----") -> ---- | BI55: =BI54-1 -> #REF! | BJ55: =IFERROR(VLOOKUP(BI55,INDIRECT(AQ54),2,FALSE),"----") -> ---- | BK55: =BK54-1 -> #REF! | BL55: =IFERROR(VLOOKUP(BK55,INDIRECT(AQ55),2,FALSE),"----") -> ---- | BM55: =BM54-1 -> #REF! | BN55: =IFERROR(VLOOKUP(BM55,INDIRECT(AQ56),2,FALSE),"----") -> ---- | BO55: =BO54-1 -> #REF! | BP55: =IFERROR(VLOOKUP(BO55,INDIRECT(AQ57),2,FALSE),"----") -> ---- | BQ55: =BQ54-1 -> #REF! | BR55: =IFERROR(VLOOKUP(BQ55,INDIRECT(AQ58),2,FALSE),"----") -> ---- | BS55: =IF(AI55="",1,IF(COUNTIF(BL47:BL58,AI55)=0,2,1)) -> 1 | BT55: =IF(AF55="",1,IF(BL47=".",2,1)) -> 1 | BV55: =IF(COUNTIF(DS47:DS58,AF55)=0,IF(AF55<>"",0,1),1) -> 1 | BW55: =IFERROR(MATCH(AF55,DS47:DS58,0),1) -> 1 | BX55: =5*E47^3*W47/(384*X47) -> #VALUE! | BY55: =W47*E47^3/(60*X47) -> #VALUE! | CA55: =CA54-1 -> #REF! | CB55: {=IF(AND(INDEX(INDIRECT(BY47),CA55,4)>=$AB47,INDEX(INDIRECT(BY47),CA55,5)>=$S47,INDEX(INDIRECT(BY47),CA55,6)>=$R47),1,0)} -> #REF! | CC55: =MATCH(1,OFFSET(CB47:CB58,CD54,0,COUNT(CB47:CB58)-CD54),0) -> #REF! | CD55: =CD54+CC55 -> #REF! | CE55: {=IFERROR(VLOOKUP(INDEX(CA47:CA58,CD55),INDIRECT(BY47),2,FALSE),"----")} -> ---- | CF55: =CF54-1 -> #N/A | CG55: =IF(AND(INDEX(SSM,CF55,4)>=$AB47,INDEX(SSM,CF55,5)>=$S47,INDEX(SSM,CF55,6)>=$R47),1,0) -> #N/A | CH55: =MATCH(1,OFFSET(CG47:CG58,CI54,0,COUNT(CG47:CG58)-CI54),0) -> #REF! | CI55: =CI54+CH55 -> #REF! | CJ55: =IFERROR(IF(AD48="Nested Steel Stud (wood infill)",VLOOKUP(INDEX(CF47:CF58,CI55),SSW,2,FALSE),VLOOKUP(INDEX(CF47:CF58,CI55),SSM,2,FALSE)),"----") -> ---- | CK55: =CK54-1 -> #N/A | CL55: =IF(AND(INDEX(WSM,CK55,4)>=$AB47,INDEX(WSM,CK55,5)>=$S47,INDEX(WSM,CK55,6)>=$R47),1,0) -> #N/A | CM55: =MATCH(1,OFFSET(CL47:CL58,CN54,0,COUNT(CL47:CL58)-CN54),0) -> #REF! | CN55: =CM55+CN54 -> #REF! | CO55: =IFERROR(VLOOKUP(INDEX(CK47:CK58,CN55),WSM,2,FALSE),"----") -> ---- | CP55: =CP54-1 -> #N/A | CQ55: =IF(AND(INDEX(STM,CP55,4)>=$AB47,INDEX(STM,CP55,5)>=$S47,INDEX(STM,CP55,6)>=$R47),1,0) -> #N/A | CR55: =MATCH(1,OFFSET(CQ47:CQ58,CS54,0,COUNT(CQ47:CQ58)-CS54),0) -> #REF! | CS55: =CR55+CS54 -> #REF! | CT55: =IFERROR(VLOOKUP(INDEX(CP47:CP58,CS55),STM,2,FALSE),"----") -> ---- | CU55: =CU54-1 -> #N/A | CV55: =IF(AND(INDEX(ELM,CU55,4)>=$AB47,INDEX(ELM,CU55,5)>=$S47,INDEX(ELM,CU55,6)>=$R47),1,0) -> #N/A | CW55: =MATCH(1,OFFSET(CV47:CV58,CX54,0,COUNT(CV47:CV58)-CX54),0) -> #REF! | CX55: =CW55+CX54 -> #REF! | CY55: =IFERROR(VLOOKUP(INDEX(CU47:CU58,CX55),ELM,2,FALSE),"----") -> ---- | CZ55: =CZ54-1 -> #N/A | DA55: =IF(LEFT($J47,7)="Clad Wo",IF(AND(INDEX(SPPWS,CZ55,4)>=$AB47,INDEX(SPPWS,CZ55,5)>=$S47,INDEX(SPPWS,CZ55,6)>=$R47),1,0),IF(AND(INDEX(SPM,CZ55,4)>=$AB47,INDEX(SPM,CZ55,5)>=$S47,INDEX(SPM,CZ55,6)>=$R47),1,0)) -> #N/A | DB55: =MATCH(1,OFFSET(DA47:DA58,DC54,0,COUNT(DA47:DA58)-DC54),0) -> #REF! | DC55: =DC54+DB55 -> #REF! | DD55: =IF(LEFT($J47,7)="Clad Wo",IFERROR(VLOOKUP(INDEX(CZ47:CZ58,DC55),SPPWS,2,FALSE),"----"),IFERROR(VLOOKUP(INDEX(CZ47:CZ58,DC55),SPM,2,FALSE),"----")) -> ---- | DE55: =DE54-1 -> #REF! | DF55: {=IF(AND(INDEX(INDIRECT(BY47),DE55,4)>=$AB53,INDEX(INDIRECT(BY47),DE55,5)>=$S47,INDEX(INDIRECT(BY47),DE55,6)>=$R47),1,0)} -> #REF! | DG55: =MATCH(1,OFFSET(DF47:DF58,DH54,0,COUNT(DF47:DF58)-DH54),0) -> #REF! | DH55: =DH54+DG55 -> #REF! | DI55: {=IFERROR(VLOOKUP(INDEX(DE47:DE58,DH55),INDIRECT(BY47),2,FALSE),"----")} -> ---- | DJ55: =DJ54-1 -> #N/A | DK55: =IF(AND(INDEX(SSM,DJ55,4)>=$AB53,INDEX(SSM,DJ55,5)>=$S47,INDEX(SSM,DJ55,6)>=$R47),1,0) -> #N/A | DL55: =MATCH(1,OFFSET(DK47:DK58,DM54,0,COUNT(DK47:DK58)-DM54),0) -> #REF! | DM55: =DL55+DM54 -> #REF! | DN55: =IFERROR(IF(AD54="Nested Steel Stud (wood infill)",VLOOKUP(INDEX(DJ47:DJ58,DM55),SSW,2,FALSE),VLOOKUP(INDEX(DJ47:DJ58,DM55),SSM,2,FALSE)),"----") -> ---- | DO55: =DO54-1 -> #N/A | DP55: =IF(AND(INDEX(WSM,DO55,4)>=$AB53,INDEX(WSM,DO55,5)>=$S47,INDEX(WSM,DO55,6)>=$R47),1,0) -> #N/A | DQ55: =MATCH(1,OFFSET(DP47:DP58,DR54,0,COUNT(DP47:DP58)-DR54),0) -> #REF! | DR55: =DQ55+DR54 -> #REF! | DS55: =IFERROR(VLOOKUP(INDEX(DO47:DO58,DR55),WSM,2,FALSE),"----") -> ---- | DT55: =DT54-1 -> #N/A | DU55: =IF(AND(INDEX(STM,DT55,4)>=$AB53,INDEX(STM,DT55,5)>=$S47,INDEX(STM,DT55,6)>=$R47),1,0) -> #N/A | DV55: =MATCH(1,OFFSET(DU47:DU58,DW54,0,COUNT(DU47:DU58)-DW54),0) -> #REF! | DW55: =DV55+DW54 -> #REF! | DX55: =IFERROR(VLOOKUP(INDEX(DT47:DT58,DW55),STM,2,FALSE),"----") -> ---- | DY55: =DY54-1 -> #N/A | DZ55: =IF(AND(INDEX(ELM,DY55,4)>=$AB53,INDEX(ELM,DY55,5)>=$S47,INDEX(ELM,DY55,6)>=$R47),1,0) -> #N/A | EA55: =MATCH(1,OFFSET(DZ47:DZ58,EB54,0,COUNT(DZ47:DZ58)-EB54),0) -> #REF! | EB55: =EA55+EB54 -> #REF! | EC55: =IFERROR(VLOOKUP(INDEX(DY47:DY58,EB55),ELM,2,FALSE),"----") -> ---- | ED55: =ED54-1 -> #N/A | EE55: =IF(LEFT($J47,7)="Clad Wo",IF(AND(INDEX(SPPWS,ED55,4)>=$AB53,INDEX(SPPWS,ED55,5)>=$S47,INDEX(SPPWS,ED55,6)>=$R47),1,0),IF(AND(INDEX(SPM,ED55,4)>=$AB53,INDEX(SPM,ED55,5)>=$S47,INDEX(SPM,ED55,6)>=$R47),1,0)) -> #N/A | EF55: =MATCH(1,OFFSET(EE47:EE58,EG54,0,COUNT(EE47:EE58)-EG54),0) -> #REF! | EG55: =EG54+EF55 -> #REF! | EH55: =IF(LEFT($J47,7)="Clad Wo",IFERROR(VLOOKUP(INDEX(ED47:ED58,EG55),SPPWS,2,FALSE),"----"),IFERROR(VLOOKUP(INDEX(ED47:ED58,EG55),SPM,2,FALSE),"----")) -> ----
AD56: =AD50 -> Steel Tube | AK56: =IFERROR(VLOOKUP(AI56,OFFSET(INDIRECT(AQ56),0,1),2,FALSE),"") | AM56: =IFERROR(Q47/12*ROUND(VLOOKUP(AF56,OFFSET(STM,0,1),6,FALSE),2),"") | AN56: =IF(BW56>1,"Lighter Reinforcement Options Available","") | AP56: =_xlfn.CONCAT(AR56,AS58) | AQ56: =IFERROR(LEFT(AP56,LEN(AP56)-1),"") | AR56: =IFERROR(VLOOKUP(AF56,MullList,2,FALSE),"") | AT56: =AL53 | AU56: =AU55-1 -> #REF! | AV56: =IFERROR(VLOOKUP(AU56,INDIRECT(AQ47),2,FALSE),"----") -> ---- | AW56: =AW55-1 -> #REF! | AX56: =IFERROR(VLOOKUP(AW56,INDIRECT(AQ48),2,FALSE),"----") -> ---- | AY56: =AY55-1 -> #REF! | AZ56: =IFERROR(VLOOKUP(AY56,INDIRECT(AQ49),2,FALSE),"----") -> ---- | BA56: =BA55-1 -> #REF! | BB56: =IFERROR(VLOOKUP(BA56,INDIRECT(AQ50),2,FALSE),"----") -> ---- | BC56: =BC55-1 -> #REF! | BD56: =IFERROR(VLOOKUP(BC56,INDIRECT(AQ51),2,FALSE),"----") -> ---- | BE56: =BE55-1 -> #REF! | BF56: =IFERROR(VLOOKUP(BE56,INDIRECT(AQ52),2,FALSE),"----") -> ---- | BG56: =BG55-1 -> #REF! | BH56: =IFERROR(VLOOKUP(BG56,INDIRECT(AQ53),2,FALSE),"----") -> ---- | BI56: =BI55-1 -> #REF! | BJ56: =IFERROR(VLOOKUP(BI56,INDIRECT(AQ54),2,FALSE),"----") -> ---- | BK56: =BK55-1 -> #REF! | BL56: =IFERROR(VLOOKUP(BK56,INDIRECT(AQ55),2,FALSE),"----") -> ---- | BM56: =BM55-1 -> #REF! | BN56: =IFERROR(VLOOKUP(BM56,INDIRECT(AQ56),2,FALSE),"----") -> ---- | BO56: =BO55-1 -> #REF! | BP56: =IFERROR(VLOOKUP(BO56,INDIRECT(AQ57),2,FALSE),"----") -> ---- | BQ56: =BQ55-1 -> #REF! | BR56: =IFERROR(VLOOKUP(BQ56,INDIRECT(AQ58),2,FALSE),"----") -> ---- | BS56: =IF(AI56="",1,IF(COUNTIF(BN47:BN58,AI56)=0,2,1)) -> 1 | BT56: =IF(AF56="",1,IF(BN47=".",2,1)) -> 1 | BV56: =IF(COUNTIF(DX47:DX58,AF56)=0,IF(AF56<>"",0,1),1) -> 1 | BW56: =IFERROR(MATCH(AF56,DX47:DX58,0),1) -> 1 | BX56: =5*E47^3*W53/(384*X47) -> #VALUE! | BY56: =E47^3*W53/(60*X47) -> #VALUE! | CA56: =CA55-1 -> #REF! | CB56: {=IF(AND(INDEX(INDIRECT(BY47),CA56,4)>=$AB47,INDEX(INDIRECT(BY47),CA56,5)>=$S47,INDEX(INDIRECT(BY47),CA56,6)>=$R47),1,0)} -> #REF! | CC56: =MATCH(1,OFFSET(CB47:CB58,CD55,0,COUNT(CB47:CB58)-CD55),0) -> #REF! | CD56: =CD55+CC56 -> #REF! | CE56: {=IFERROR(VLOOKUP(INDEX(CA47:CA58,CD56),INDIRECT(BY47),2,FALSE),"----")} -> ---- | CF56: =CF55-1 -> #N/A | CG56: =IF(AND(INDEX(SSM,CF56,4)>=$AB47,INDEX(SSM,CF56,5)>=$S47,INDEX(SSM,CF56,6)>=$R47),1,0) -> #N/A | CH56: =MATCH(1,OFFSET(CG47:CG58,CI55,0,COUNT(CG47:CG58)-CI55),0) -> #REF! | CI56: =CI55+CH56 -> #REF! | CJ56: =IFERROR(IF(AD48="Nested Steel Stud (wood infill)",VLOOKUP(INDEX(CF47:CF58,CI56),SSW,2,FALSE),VLOOKUP(INDEX(CF47:CF58,CI56),SSM,2,FALSE)),"----") -> ---- | CK56: =CK55-1 -> #N/A | CL56: =IF(AND(INDEX(WSM,CK56,4)>=$AB47,INDEX(WSM,CK56,5)>=$S47,INDEX(WSM,CK56,6)>=$R47),1,0) -> #N/A | CM56: =MATCH(1,OFFSET(CL47:CL58,CN55,0,COUNT(CL47:CL58)-CN55),0) -> #REF! | CN56: =CM56+CN55 -> #REF! | CO56: =IFERROR(VLOOKUP(INDEX(CK47:CK58,CN56),WSM,2,FALSE),"----") -> ---- | CP56: =CP55-1 -> #N/A | CQ56: =IF(AND(INDEX(STM,CP56,4)>=$AB47,INDEX(STM,CP56,5)>=$S47,INDEX(STM,CP56,6)>=$R47),1,0) -> #N/A | CR56: =MATCH(1,OFFSET(CQ47:CQ58,CS55,0,COUNT(CQ47:CQ58)-CS55),0) -> #REF! | CS56: =CR56+CS55 -> #REF! | CT56: =IFERROR(VLOOKUP(INDEX(CP47:CP58,CS56),STM,2,FALSE),"----") -> ---- | CU56: =CU55-1 -> #N/A | CV56: =IF(AND(INDEX(ELM,CU56,4)>=$AB47,INDEX(ELM,CU56,5)>=$S47,INDEX(ELM,CU56,6)>=$R47),1,0) -> #N/A | CW56: =MATCH(1,OFFSET(CV47:CV58,CX55,0,COUNT(CV47:CV58)-CX55),0) -> #REF! | CX56: =CW56+CX55 -> #REF! | CY56: =IFERROR(VLOOKUP(INDEX(CU47:CU58,CX56),ELM,2,FALSE),"----") -> ---- | CZ56: =CZ55-1 -> #N/A | DA56: =IF(LEFT($J47,7)="Clad Wo",IF(AND(INDEX(SPPWS,CZ56,4)>=$AB47,INDEX(SPPWS,CZ56,5)>=$S47,INDEX(SPPWS,CZ56,6)>=$R47),1,0),IF(AND(INDEX(SPM,CZ56,4)>=$AB47,INDEX(SPM,CZ56,5)>=$S47,INDEX(SPM,CZ56,6)>=$R47),1,0)) -> #N/A | DB56: =MATCH(1,OFFSET(DA47:DA58,DC55,0,COUNT(DA47:DA58)-DC55),0) -> #REF! | DC56: =DC55+DB56 -> #REF! | DD56: =IF(LEFT($J47,7)="Clad Wo",IFERROR(VLOOKUP(INDEX(CZ47:CZ58,DC56),SPPWS,2,FALSE),"----"),IFERROR(VLOOKUP(INDEX(CZ47:CZ58,DC56),SPM,2,FALSE),"----")) -> ---- | DE56: =DE55-1 -> #REF! | DF56: {=IF(AND(INDEX(INDIRECT(BY47),DE56,4)>=$AB53,INDEX(INDIRECT(BY47),DE56,5)>=$S47,INDEX(INDIRECT(BY47),DE56,6)>=$R47),1,0)} -> #REF! | DG56: =MATCH(1,OFFSET(DF47:DF58,DH55,0,COUNT(DF47:DF58)-DH55),0) -> #REF! | DH56: =DH55+DG56 -> #REF! | DI56: {=IFERROR(VLOOKUP(INDEX(DE47:DE58,DH56),INDIRECT(BY47),2,FALSE),"----")} -> ---- | DJ56: =DJ55-1 -> #N/A | DK56: =IF(AND(INDEX(SSM,DJ56,4)>=$AB53,INDEX(SSM,DJ56,5)>=$S47,INDEX(SSM,DJ56,6)>=$R47),1,0) -> #N/A | DL56: =MATCH(1,OFFSET(DK47:DK58,DM55,0,COUNT(DK47:DK58)-DM55),0) -> #REF! | DM56: =DL56+DM55 -> #REF! | DN56: =IFERROR(IF(AD54="Nested Steel Stud (wood infill)",VLOOKUP(INDEX(DJ47:DJ58,DM56),SSW,2,FALSE),VLOOKUP(INDEX(DJ47:DJ58,DM56),SSM,2,FALSE)),"----") -> ---- | DO56: =DO55-1 -> #N/A | DP56: =IF(AND(INDEX(WSM,DO56,4)>=$AB53,INDEX(WSM,DO56,5)>=$S47,INDEX(WSM,DO56,6)>=$R47),1,0) -> #N/A | DQ56: =MATCH(1,OFFSET(DP47:DP58,DR55,0,COUNT(DP47:DP58)-DR55),0) -> #REF! | DR56: =DQ56+DR55 -> #REF! | DS56: =IFERROR(VLOOKUP(INDEX(DO47:DO58,DR56),WSM,2,FALSE),"----") -> ---- | DT56: =DT55-1 -> #N/A | DU56: =IF(AND(INDEX(STM,DT56,4)>=$AB53,INDEX(STM,DT56,5)>=$S47,INDEX(STM,DT56,6)>=$R47),1,0) -> #N/A | DV56: =MATCH(1,OFFSET(DU47:DU58,DW55,0,COUNT(DU47:DU58)-DW55),0) -> #REF! | DW56: =DV56+DW55 -> #REF! | DX56: =IFERROR(VLOOKUP(INDEX(DT47:DT58,DW56),STM,2,FALSE),"----") -> ---- | DY56: =DY55-1 -> #N/A | DZ56: =IF(AND(INDEX(ELM,DY56,4)>=$AB53,INDEX(ELM,DY56,5)>=$S47,INDEX(ELM,DY56,6)>=$R47),1,0) -> #N/A | EA56: =MATCH(1,OFFSET(DZ47:DZ58,EB55,0,COUNT(DZ47:DZ58)-EB55),0) -> #REF! | EB56: =EA56+EB55 -> #REF! | EC56: =IFERROR(VLOOKUP(INDEX(DY47:DY58,EB56),ELM,2,FALSE),"----") -> ---- | ED56: =ED55-1 -> #N/A | EE56: =IF(LEFT($J47,7)="Clad Wo",IF(AND(INDEX(SPPWS,ED56,4)>=$AB53,INDEX(SPPWS,ED56,5)>=$S47,INDEX(SPPWS,ED56,6)>=$R47),1,0),IF(AND(INDEX(SPM,ED56,4)>=$AB53,INDEX(SPM,ED56,5)>=$S47,INDEX(SPM,ED56,6)>=$R47),1,0)) -> #N/A | EF56: =MATCH(1,OFFSET(EE47:EE58,EG55,0,COUNT(EE47:EE58)-EG55),0) -> #REF! | EG56: =EG55+EF56 -> #REF! | EH56: =IF(LEFT($J47,7)="Clad Wo",IFERROR(VLOOKUP(INDEX(ED47:ED58,EG56),SPPWS,2,FALSE),"----"),IFERROR(VLOOKUP(INDEX(ED47:ED58,EG56),SPM,2,FALSE),"----")) -> ----
AD57: =AD51 -> Engineered Lumber | AK57: =IFERROR(VLOOKUP(AI57,OFFSET(INDIRECT(AQ57),0,1),2,FALSE),"") | AM57: =IFERROR(Q47/12*ROUND(VLOOKUP(AF57,OFFSET(ELM,0,1),6,FALSE),2),"") | AN57: =IF(BW57>1,"Lighter Reinforcement Options Available","") | AP57: =_xlfn.CONCAT(AR57,AS58) | AQ57: =IFERROR(LEFT(AP57,LEN(AP57)-1),"") | AR57: =IFERROR(VLOOKUP(AF57,MullList,2,FALSE),"") | AT57: =AL53 | AU57: =AU56-1 -> #REF! | AV57: =IFERROR(VLOOKUP(AU57,INDIRECT(AQ47),2,FALSE),"----") -> ---- | AW57: =AW56-1 -> #REF! | AX57: =IFERROR(VLOOKUP(AW57,INDIRECT(AQ48),2,FALSE),"----") -> ---- | AY57: =AY56-1 -> #REF! | AZ57: =IFERROR(VLOOKUP(AY57,INDIRECT(AQ49),2,FALSE),"----") -> ---- | BA57: =BA56-1 -> #REF! | BB57: =IFERROR(VLOOKUP(BA57,INDIRECT(AQ50),2,FALSE),"----") -> ---- | BC57: =BC56-1 -> #REF! | BD57: =IFERROR(VLOOKUP(BC57,INDIRECT(AQ51),2,FALSE),"----") -> ---- | BE57: =BE56-1 -> #REF! | BF57: =IFERROR(VLOOKUP(BE57,INDIRECT(AQ52),2,FALSE),"----") -> ---- | BG57: =BG56-1 -> #REF! | BH57: =IFERROR(VLOOKUP(BG57,INDIRECT(AQ53),2,FALSE),"----") -> ---- | BI57: =BI56-1 -> #REF! | BJ57: =IFERROR(VLOOKUP(BI57,INDIRECT(AQ54),2,FALSE),"----") -> ---- | BK57: =BK56-1 -> #REF! | BL57: =IFERROR(VLOOKUP(BK57,INDIRECT(AQ55),2,FALSE),"----") -> ---- | BM57: =BM56-1 -> #REF! | BN57: =IFERROR(VLOOKUP(BM57,INDIRECT(AQ56),2,FALSE),"----") -> ---- | BO57: =BO56-1 -> #REF! | BP57: =IFERROR(VLOOKUP(BO57,INDIRECT(AQ57),2,FALSE),"----") -> ---- | BQ57: =BQ56-1 -> #REF! | BR57: =IFERROR(VLOOKUP(BQ57,INDIRECT(AQ58),2,FALSE),"----") -> ---- | BS57: =IF(AI57="",1,IF(COUNTIF(BP47:BP58,AI57)=0,2,1)) -> 1 | BT57: =IF(AF57="",1,IF(BP47=".",2,1)) -> 1 | BV57: =IF(COUNTIF(EC47:EC58,AF57)=0,IF(AF57<>"",0,1),1) -> 1 | BW57: =IFERROR(MATCH(AF57,EC47:EC58,0),1) -> 1 | CA57: =CA56-1 -> #REF! | CB57: {=IF(AND(INDEX(INDIRECT(BY47),CA57,4)>=$AB47,INDEX(INDIRECT(BY47),CA57,5)>=$S47,INDEX(INDIRECT(BY47),CA57,6)>=$R47),1,0)} -> #REF! | CC57: =MATCH(1,OFFSET(CB47:CB58,CD56,0,COUNT(CB47:CB58)-CD56),0) -> #REF! | CD57: =CD56+CC57 -> #REF! | CE57: {=IFERROR(VLOOKUP(INDEX(CA47:CA58,CD57),INDIRECT(BY47),2,FALSE),"----")} -> ---- | CF57: =CF56-1 -> #N/A | CG57: =IF(AND(INDEX(SSM,CF57,4)>=$AB47,INDEX(SSM,CF57,5)>=$S47,INDEX(SSM,CF57,6)>=$R47),1,0) -> #N/A | CH57: =MATCH(1,OFFSET(CG47:CG58,CI56,0,COUNT(CG47:CG58)-CI56),0) -> #REF! | CI57: =CI56+CH57 -> #REF! | CJ57: =IFERROR(IF(AD48="Nested Steel Stud (wood infill)",VLOOKUP(INDEX(CF47:CF58,CI57),SSW,2,FALSE),VLOOKUP(INDEX(CF47:CF58,CI57),SSM,2,FALSE)),"----") -> ---- | CK57: =CK56-1 -> #N/A | CL57: =IF(AND(INDEX(WSM,CK57,4)>=$AB47,INDEX(WSM,CK57,5)>=$S47,INDEX(WSM,CK57,6)>=$R47),1,0) -> #N/A | CM57: =MATCH(1,OFFSET(CL47:CL58,CN56,0,COUNT(CL47:CL58)-CN56),0) -> #REF! | CN57: =CM57+CN56 -> #REF! | CO57: =IFERROR(VLOOKUP(INDEX(CK47:CK58,CN57),WSM,2,FALSE),"----") -> ---- | CP57: =CP56-1 -> #N/A | CQ57: =IF(AND(INDEX(STM,CP57,4)>=$AB47,INDEX(STM,CP57,5)>=$S47,INDEX(STM,CP57,6)>=$R47),1,0) -> #N/A | CR57: =MATCH(1,OFFSET(CQ47:CQ58,CS56,0,COUNT(CQ47:CQ58)-CS56),0) -> #REF! | CS57: =CR57+CS56 -> #REF! | CT57: =IFERROR(VLOOKUP(INDEX(CP47:CP58,CS57),STM,2,FALSE),"----") -> ---- | CU57: =CU56-1 -> #N/A | CV57: =IF(AND(INDEX(ELM,CU57,4)>=$AB47,INDEX(ELM,CU57,5)>=$S47,INDEX(ELM,CU57,6)>=$R47),1,0) -> #N/A | CW57: =MATCH(1,OFFSET(CV47:CV58,CX56,0,COUNT(CV47:CV58)-CX56),0) -> #REF! | CX57: =CW57+CX56 -> #REF! | CY57: =IFERROR(VLOOKUP(INDEX(CU47:CU58,CX57),ELM,2,FALSE),"----") -> ---- | CZ57: =CZ56-1 -> #N/A | DA57: =IF(LEFT($J47,7)="Clad Wo",IF(AND(INDEX(SPPWS,CZ57,4)>=$AB47,INDEX(SPPWS,CZ57,5)>=$S47,INDEX(SPPWS,CZ57,6)>=$R47),1,0),IF(AND(INDEX(SPM,CZ57,4)>=$AB47,INDEX(SPM,CZ57,5)>=$S47,INDEX(SPM,CZ57,6)>=$R47),1,0)) -> #N/A | DB57: =MATCH(1,OFFSET(DA47:DA58,DC56,0,COUNT(DA47:DA58)-DC56),0) -> #REF! | DC57: =DC56+DB57 -> #REF! | DD57: =IF(LEFT($J47,7)="Clad Wo",IFERROR(VLOOKUP(INDEX(CZ47:CZ58,DC57),SPPWS,2,FALSE),"----"),IFERROR(VLOOKUP(INDEX(CZ47:CZ58,DC57),SPM,2,FALSE),"----")) -> ---- | DE57: =DE56-1 -> #REF! | DF57: {=IF(AND(INDEX(INDIRECT(BY47),DE57,4)>=$AB53,INDEX(INDIRECT(BY47),DE57,5)>=$S47,INDEX(INDIRECT(BY47),DE57,6)>=$R47),1,0)} -> #REF! | DG57: =MATCH(1,OFFSET(DF47:DF58,DH56,0,COUNT(DF47:DF58)-DH56),0) -> #REF! | DH57: =DH56+DG57 -> #REF! | DI57: {=IFERROR(VLOOKUP(INDEX(DE47:DE58,DH57),INDIRECT(BY47),2,FALSE),"----")} -> ---- | DJ57: =DJ56-1 -> #N/A | DK57: =IF(AND(INDEX(SSM,DJ57,4)>=$AB53,INDEX(SSM,DJ57,5)>=$S47,INDEX(SSM,DJ57,6)>=$R47),1,0) -> #N/A | DL57: =MATCH(1,OFFSET(DK47:DK58,DM56,0,COUNT(DK47:DK58)-DM56),0) -> #REF! | DM57: =DL57+DM56 -> #REF! | DN57: =IFERROR(IF(AD54="Nested Steel Stud (wood infill)",VLOOKUP(INDEX(DJ47:DJ58,DM57),SSW,2,FALSE),VLOOKUP(INDEX(DJ47:DJ58,DM57),SSM,2,FALSE)),"----") -> ---- | DO57: =DO56-1 -> #N/A | DP57: =IF(AND(INDEX(WSM,DO57,4)>=$AB53,INDEX(WSM,DO57,5)>=$S47,INDEX(WSM,DO57,6)>=$R47),1,0) -> #N/A | DQ57: =MATCH(1,OFFSET(DP47:DP58,DR56,0,COUNT(DP47:DP58)-DR56),0) -> #REF! | DR57: =DQ57+DR56 -> #REF! | DS57: =IFERROR(VLOOKUP(INDEX(DO47:DO58,DR57),WSM,2,FALSE),"----") -> ---- | DT57: =DT56-1 -> #N/A | DU57: =IF(AND(INDEX(STM,DT57,4)>=$AB53,INDEX(STM,DT57,5)>=$S47,INDEX(STM,DT57,6)>=$R47),1,0) -> #N/A | DV57: =MATCH(1,OFFSET(DU47:DU58,DW56,0,COUNT(DU47:DU58)-DW56),0) -> #REF! | DW57: =DV57+DW56 -> #REF! | DX57: =IFERROR(VLOOKUP(INDEX(DT47:DT58,DW57),STM,2,FALSE),"----") -> ---- | DY57: =DY56-1 -> #N/A | DZ57: =IF(AND(INDEX(ELM,DY57,4)>=$AB53,INDEX(ELM,DY57,5)>=$S47,INDEX(ELM,DY57,6)>=$R47),1,0) -> #N/A | EA57: =MATCH(1,OFFSET(DZ47:DZ58,EB56,0,COUNT(DZ47:DZ58)-EB56),0) -> #REF! | EB57: =EA57+EB56 -> #REF! | EC57: =IFERROR(VLOOKUP(INDEX(DY47:DY58,EB57),ELM,2,FALSE),"----") -> ---- | ED57: =ED56-1 -> #N/A | EE57: =IF(LEFT($J47,7)="Clad Wo",IF(AND(INDEX(SPPWS,ED57,4)>=$AB53,INDEX(SPPWS,ED57,5)>=$S47,INDEX(SPPWS,ED57,6)>=$R47),1,0),IF(AND(INDEX(SPM,ED57,4)>=$AB53,INDEX(SPM,ED57,5)>=$S47,INDEX(SPM,ED57,6)>=$R47),1,0)) -> #N/A | EF57: =MATCH(1,OFFSET(EE47:EE58,EG56,0,COUNT(EE47:EE58)-EG56),0) -> #REF! | EG57: =EG56+EF57 -> #REF! | EH57: =IF(LEFT($J47,7)="Clad Wo",IFERROR(VLOOKUP(INDEX(ED47:ED58,EG57),SPPWS,2,FALSE),"----"),IFERROR(VLOOKUP(INDEX(ED47:ED58,EG57),SPM,2,FALSE),"----")) -> ----
AD58: =IF(LEFT(J47,7)="Clad Wo","Pella Wood Spr / Steel Pte","Steel Plate") -> Steel Plate | AK58: =IFERROR(VLOOKUP(AI58,OFFSET(INDIRECT(AQ58),0,1),2,FALSE),"") | AM58: =IFERROR(Q47/12*ROUND(VLOOKUP(AF58,OFFSET(SPM,0,1),6,FALSE),2),"") | AN58: =IF(BW58>1,"Lighter Reinforcement Options Available","") | AP58: =_xlfn.CONCAT(AR58,AS58) | AQ58: =IFERROR(LEFT(AP58,LEN(AP58)-1),"") | AR58: =IFERROR(VLOOKUP(AF58,MullList,2,FALSE),"") | AS58: =IFERROR(VLOOKUP(J55, WallType,2,FALSE),"") | AT58: =AL53 | AU58: =AU57-1 -> #REF! | AV58: =IFERROR(VLOOKUP(AU58,INDIRECT(AQ47),2,FALSE),"----") -> ---- | AW58: =AW57-1 -> #REF! | AX58: =IFERROR(VLOOKUP(AW58,INDIRECT(AQ48),2,FALSE),"----") -> ---- | AY58: =AY57-1 -> #REF! | AZ58: =IFERROR(VLOOKUP(AY58,INDIRECT(AQ49),2,FALSE),"----") -> ---- | BA58: =BA57-1 -> #REF! | BB58: =IFERROR(VLOOKUP(BA58,INDIRECT(AQ50),2,FALSE),"----") -> ---- | BC58: =BC57-1 -> #REF! | BD58: =IFERROR(VLOOKUP(BC58,INDIRECT(AQ51),2,FALSE),"----") -> ---- | BE58: =BE57-1 -> #REF! | BF58: =IFERROR(VLOOKUP(BE58,INDIRECT(AQ52),2,FALSE),"----") -> ---- | BG58: =BG57-1 -> #REF! | BH58: =IFERROR(VLOOKUP(BG58,INDIRECT(AQ53),2,FALSE),"----") -> ---- | BI58: =BI57-1 -> #REF! | BJ58: =IFERROR(VLOOKUP(BI58,INDIRECT(AQ54),2,FALSE),"----") -> ---- | BK58: =BK57-1 -> #REF! | BL58: =IFERROR(VLOOKUP(BK58,INDIRECT(AQ55),2,FALSE),"----") -> ---- | BM58: =BM57-1 -> #REF! | BN58: =IFERROR(VLOOKUP(BM58,INDIRECT(AQ56),2,FALSE),"----") -> ---- | BO58: =BO57-1 -> #REF! | BP58: =IFERROR(VLOOKUP(BO58,INDIRECT(AQ57),2,FALSE),"----") -> ---- | BQ58: =BQ57-1 -> #REF! | BR58: =IFERROR(VLOOKUP(BQ58,INDIRECT(AQ58),2,FALSE),"----") -> ---- | BS58: =IF(AI58="",1,IF(COUNTIF(BR47:BR58,AI58)=0,2,1)) -> 1 | BT58: =IF(AF58="",1,IF(BR47=".",2,1)) -> 1 | BV58: =IF(COUNTIF(EH47:EH58,AF58)=0,IF(AF58<>"",0,1),1) -> 1 | BW58: =IFERROR(MATCH(AF58,EH47:EH58,0),1) -> 1 | CA58: =CA57-1 -> #REF! | CB58: {=IF(AND(INDEX(INDIRECT(BY47),CA58,4)>=$AB47,INDEX(INDIRECT(BY47),CA58,5)>=$S47,INDEX(INDIRECT(BY47),CA58,6)>=$R47),1,0)} -> #REF! | CC58: =MATCH(1,OFFSET(CB47:CB58,CD57,0,COUNT(CB47:CB58)-CD57),0) -> #REF! | CD58: =CD57+CC58 -> #REF! | CE58: {=IFERROR(VLOOKUP(INDEX(CA47:CA58,CD58),INDIRECT(BY47),2,FALSE),"----")} -> ---- | CF58: =CF57-1 -> #N/A | CG58: =IF(AND(INDEX(SSM,CF58,4)>=$AB47,INDEX(SSM,CF58,5)>=$S47,INDEX(SSM,CF58,6)>=$R47),1,0) -> #N/A | CH58: =MATCH(1,OFFSET(CG47:CG58,CI57,0,COUNT(CG47:CG58)-CI57),0) -> #REF! | CI58: =CI57+CH58 -> #REF! | CJ58: =IFERROR(IF(AD48="Nested Steel Stud (wood infill)",VLOOKUP(INDEX(CF47:CF58,CI58),SSW,2,FALSE),VLOOKUP(INDEX(CF47:CF58,CI58),SSM,2,FALSE)),"----") -> ---- | CK58: =CK57-1 -> #N/A | CL58: =IF(AND(INDEX(WSM,CK58,4)>=$AB47,INDEX(WSM,CK58,5)>=$S47,INDEX(WSM,CK58,6)>=$R47),1,0) -> #N/A | CM58: =MATCH(1,OFFSET(CL47:CL58,CN57,0,COUNT(CL47:CL58)-CN57),0) -> #REF! | CN58: =CM58+CN57 -> #REF! | CO58: =IFERROR(VLOOKUP(INDEX(CK47:CK58,CN58),WSM,2,FALSE),"----") -> ---- | CP58: =CP57-1 -> #N/A | CQ58: =IF(AND(INDEX(STM,CP58,4)>=$AB47,INDEX(STM,CP58,5)>=$S47,INDEX(STM,CP58,6)>=$R47),1,0) -> #N/A | CR58: =MATCH(1,OFFSET(CQ47:CQ58,CS57,0,COUNT(CQ47:CQ58)-CS57),0) -> #REF! | CS58: =CR58+CS57 -> #REF! | CT58: =IFERROR(VLOOKUP(INDEX(CP47:CP58,CS58),STM,2,FALSE),"----") -> ---- | CU58: =CU57-1 -> #N/A | CV58: =IF(AND(INDEX(ELM,CU58,4)>=$AB47,INDEX(ELM,CU58,5)>=$S47,INDEX(ELM,CU58,6)>=$R47),1,0) -> #N/A | CW58: =MATCH(1,OFFSET(CV47:CV58,CX57,0,COUNT(CV47:CV58)-CX57),0) -> #REF! | CX58: =CW58+CX57 -> #REF! | CY58: =IFERROR(VLOOKUP(INDEX(CU47:CU58,CX58),ELM,2,FALSE),"----") -> ---- | CZ58: =CZ57-1 -> #N/A | DA58: =IF(LEFT($J47,7)="Clad Wo",IF(AND(INDEX(SPPWS,CZ58,4)>=$AB47,INDEX(SPPWS,CZ58,5)>=$S47,INDEX(SPPWS,CZ58,6)>=$R47),1,0),IF(AND(INDEX(SPM,CZ58,4)>=$AB47,INDEX(SPM,CZ58,5)>=$S47,INDEX(SPM,CZ58,6)>=$R47),1,0)) -> #N/A | DB58: =MATCH(1,OFFSET(DA47:DA58,DC57,0,COUNT(DA47:DA58)-DC57),0) -> #REF! | DC58: =DC57+DB58 -> #REF! | DD58: =IF(LEFT($J47,7)="Clad Wo",IFERROR(VLOOKUP(INDEX(CZ47:CZ58,DC58),SPPWS,2,FALSE),"----"),IFERROR(VLOOKUP(INDEX(CZ47:CZ58,DC58),SPM,2,FALSE),"----")) -> ---- | DE58: =DE57-1 -> #REF! | DF58: {=IF(AND(INDEX(INDIRECT(BY47),DE58,4)>=$AB53,INDEX(INDIRECT(BY47),DE58,5)>=$S47,INDEX(INDIRECT(BY47),DE58,6)>=$R47),1,0)} -> #REF! | DG58: =MATCH(1,OFFSET(DF47:DF58,DH57,0,COUNT(DF47:DF58)-DH57),0) -> #REF! | DH58: =DH57+DG58 -> #REF! | DI58: {=IFERROR(VLOOKUP(INDEX(DE47:DE58,DH58),INDIRECT(BY47),2,FALSE),"----")} -> ---- | DJ58: =DJ57-1 -> #N/A | DK58: =IF(AND(INDEX(SSM,DJ58,4)>=$AB53,INDEX(SSM,DJ58,5)>=$S47,INDEX(SSM,DJ58,6)>=$R47),1,0) -> #N/A | DL58: =MATCH(1,OFFSET(DK47:DK58,DM57,0,COUNT(DK47:DK58)-DM57),0) -> #REF! | DM58: =DL58+DM57 -> #REF! | DN58: =IFERROR(IF(AD54="Nested Steel Stud (wood infill)",VLOOKUP(INDEX(DJ47:DJ58,DM58),SSW,2,FALSE),VLOOKUP(INDEX(DJ47:DJ58,DM58),SSM,2,FALSE)),"----") -> ---- | DO58: =DO57-1 -> #N/A | DP58: =IF(AND(INDEX(WSM,DO58,4)>=$AB53,INDEX(WSM,DO58,5)>=$S47,INDEX(WSM,DO58,6)>=$R47),1,0) -> #N/A | DQ58: =MATCH(1,OFFSET(DP47:DP58,DR57,0,COUNT(DP47:DP58)-DR57),0) -> #REF! | DR58: =DQ58+DR57 -> #REF! | DS58: =IFERROR(VLOOKUP(INDEX(DO47:DO58,DR58),WSM,2,FALSE),"----") -> ---- | DT58: =DT57-1 -> #N/A | DU58: =IF(AND(INDEX(STM,DT58,4)>=$AB53,INDEX(STM,DT58,5)>=$S47,INDEX(STM,DT58,6)>=$R47),1,0) -> #N/A | DV58: =MATCH(1,OFFSET(DU47:DU58,DW57,0,COUNT(DU47:DU58)-DW57),0) -> #REF! | DW58: =DV58+DW57 -> #REF! | DX58: =IFERROR(VLOOKUP(INDEX(DT47:DT58,DW58),STM,2,FALSE),"----") -> ---- | DY58: =DY57-1 -> #N/A | DZ58: =IF(AND(INDEX(ELM,DY58,4)>=$AB53,INDEX(ELM,DY58,5)>=$S47,INDEX(ELM,DY58,6)>=$R47),1,0) -> #N/A | EA58: =MATCH(1,OFFSET(DZ47:DZ58,EB57,0,COUNT(DZ47:DZ58)-EB57),0) -> #REF! | EB58: =EA58+EB57 -> #REF! | EC58: =IFERROR(VLOOKUP(INDEX(DY47:DY58,EB58),ELM,2,FALSE),"----") -> ---- | ED58: =ED57-1 -> #N/A | EE58: =IF(LEFT($J47,7)="Clad Wo",IF(AND(INDEX(SPPWS,ED58,4)>=$AB53,INDEX(SPPWS,ED58,5)>=$S47,INDEX(SPPWS,ED58,6)>=$R47),1,0),IF(AND(INDEX(SPM,ED58,4)>=$AB53,INDEX(SPM,ED58,5)>=$S47,INDEX(SPM,ED58,6)>=$R47),1,0)) -> #N/A | EF58: =MATCH(1,OFFSET(EE47:EE58,EG57,0,COUNT(EE47:EE58)-EG57),0) -> #REF! | EG58: =EG57+EF58 -> #REF! | EH58: =IF(LEFT($J47,7)="Clad Wo",IFERROR(VLOOKUP(INDEX(ED47:ED58,EG58),SPPWS,2,FALSE),"----"),IFERROR(VLOOKUP(INDEX(ED47:ED58,EG58),SPM,2,FALSE),"----")) -> ----
